Workbook

Sheet תמצית עסקה
B1: =CONCATENATE("תמצית עסקה – ",'הנחות עסקה'!$C$5) -> תמצית עסקה – כצנלסון, גבעתיים
B2: =CONCATENATE("הופק: ", TEXT(TODAY(),"DD/MM/YYYY"), " | לפרטים המלאים ולעריכת נתוני העסקה ר' הגיליונות הבאים") -> הופק: 20/08/2026 | לפרטים המלאים ולעריכת נתוני העסקה ר' הגיליונות הבאים
B4: ניווט מהיר: | C4: → הנחות עסקה | D4: → מודל כלכלי | E4: → חישובים | F4: → היוון | G4: → תזרים ו-IRR | H4: → רגישות
B6: פרטי הנכס והעסקה
B7: כתובת: | C7: ='הנחות עסקה'!$C$5 -> כצנלסון, גבעתיים | E7: תרחיש מרכזי: | F7: ='מודל כלכלי'!$C$26 -> פליפ
B8: יזם: | C8: ='הנחות עסקה'!$C$7 -> יזם מוביל מהחברות הגדולות במשק | E8: זמן החזקה משוער: | F8: =CONCATENATE(TEXT('מודל כלכלי'!$C$25,"0.#")," שנים") -> 8. שנים
B9: שווי רכישה: | C9: ='מודל כלכלי'!$C$13 -> 2225000 | E9: הון עצמי נדרש: | F9: ='מודל כלכלי'!$C$45 -> 658950
B11: תקציר
B12: =CONCATENATE("עסקת ",'הנחות עסקה'!$C$5,", בתרחיש ״",'מודל כלכלי'!$C$26,"״, צפויה להניב רווח כולל של כ-",TEXT('מודל כלכלי'!$C$77,"#,##0")," ₪ על פני כ-",TEXT('מודל כלכלי'!$C$25,"0.#")," שנות החזקה, המשקף תשואה שנתית ממוצעת (CAGR) של כ-",TEXT('מודל כלכלי'!$C$79,"0.0%")," ותשואה שנתית לפי תזרים מזומנים מתוארך (IRR) של כ-",TEXT('מודל כלכלי'!$C$80,"0.0%"),", על הון עצמי מושקע של כ-",TEXT('מודל כלכלי'!$C$45,"#,##0")," ₪.") -> עסקת כצנלסון, גבעתיים, בתרחיש ״פליפ״, צפויה להניב רווח כולל של כ-1,940,000 ₪ על פני כ-8. שנות החזקה, המשקף תשואה שנתית ממוצעת (CAGR) של כ-18.7% ותשואה שנתית לפי תזרים מזומנים מתוארך (IRR) של כ-17.8%, על הון עצמי מושקע של כ-658,950 ₪.
B16: תוצאות מרכזיות (תרחיש מרכזי)
B17: רווח כולל | D17: תשואה שנתית (CAGR) | F17: תשואה שנתית (IRR) | H17: הון עצמי נדרש
B18: ='מודל כלכלי'!$C$77 -> 1940000 | D18: ='מודל כלכלי'!$C$79 -> 0.18711607 | F18: ='מודל כלכלי'!$C$80 -> 0.17819558 | H18: ='מודל כלכלי'!$C$45 -> 658950
B19: לכל תקופת ההחזקה | D19: שיטה פשוטה, ללא עיתוי תזרימים | F19: כולל עיתוי מדויק ועליית שכ"ד | H19: כולל הוצאות רכישה
B21: מבנה הרווח (מפל)
B22: כל עמודה מייצגת רכיב אחד מנוסחת הרווח הכולל, לפי סדר הצטברות; העמודה האחרונה היא סך הרווח הנקי.
B23: שלב | C23: בסיס (נסתר) | D23: עלייה | E23: ירידה
B24: מחיר מכירה | C24: =MIN(0,0+'מודל כלכלי'!$C$62) -> 0 | D24: =IF('מודל כלכלי'!$C$62>=0,'מודל כלכלי'!$C$62,0) -> 4520000 | E24: =IF('מודל כלכלי'!$C$62<0,-'מודל כלכלי'!$C$62,0) -> 0
B25: סילוק משכנתא | C25: =MIN('מודל כלכלי'!$C$62,'מודל כלכלי'!$C$62+'מודל כלכלי'!$C$65) -> 3090000 | D25: =IF('מודל כלכלי'!$C$65>=0,'מודל כלכלי'!$C$65,0) -> 0 | E25: =IF('מודל כלכלי'!$C$65<0,-'מודל כלכלי'!$C$65,0) -> 1430000
B26: הוצאות מכירה | C26: =MIN('מודל כלכלי'!$C$62+'מודל כלכלי'!$C$65,'מודל כלכלי'!$C$62+'מודל כלכלי'!$C$65+'מודל כלכלי'!$C$71) -> 3018000 | D26: =IF('מודל כלכלי'!$C$71>=0,'מודל כלכלי'!$C$71,0) -> 0 | E26: =IF('מודל כלכלי'!$C$71<0,-'מודל כלכלי'!$C$71,0) -> 72000
B27: תזרים שוטף מצטבר | C27: =MIN('מודל כלכלי'!$C$62+'מודל כלכלי'!$C$65+'מודל כלכלי'!$C$71,'מודל כלכלי'!$C$62+'מודל כלכלי'!$C$65+'מודל כלכלי'!$C$71+'מודל כלכלי'!$C$56) -> 2594000 | D27: =IF('מודל כלכלי'!$C$56>=0,'מודל כלכלי'!$C$56,0) -> 0 | E27: =IF('מודל כלכלי'!$C$56<0,-'מודל כלכלי'!$C$56,0) -> 424000
B28: הון עצמי ברכישה | C28: =MIN('מודל כלכלי'!$C$62+'מודל כלכלי'!$C$65+'מודל כלכלי'!$C$71+'מודל כלכלי'!$C$56,'מודל כלכלי'!$C$62+'מודל כלכלי'!$C$65+'מודל כלכלי'!$C$71+'מודל כלכלי'!$C$56+'מודל כלכלי'!$C$76) -> 1935050 | D28: =IF('מודל כלכלי'!$C$76>=0,'מודל כלכלי'!$C$76,0) -> 0 | E28: =IF('מודל כלכלי'!$C$76<0,-'מודל כלכלי'!$C$76,0) -> 658950
B29: מס שבח | C29: =MIN('מודל כלכלי'!$C$62+'מודל כלכלי'!$C$65+'מודל כלכלי'!$C$71+'מודל כלכלי'!$C$56+'מודל כלכלי'!$C$76,'מודל כלכלי'!$C$62+'מודל כלכלי'!$C$65+'מודל כלכלי'!$C$71+'מודל כלכלי'!$C$56+'מודל כלכלי'!$C$76+'מודל כלכלי'!$C$73) -> 1935050 | D29: =IF('מודל כלכלי'!$C$73>=0,'מודל כלכלי'!$C$73,0) -> 0 | E29: =IF('מודל כלכלי'!$C$73<0,-'מודל כלכלי'!$C$73,0) -> 0
B30: רווח נטו | C30: 0 | D30: =IF('מודל כלכלי'!$C$77>=0,'מודל כלכלי'!$C$77,0) -> 1940000 | E30: =IF('מודל כלכלי'!$C$77<0,-'מודל כלכלי'!$C$77,0) -> 0
B52: רגישות התשואה לזמן ההחזקה
B53: לפי הנחת עליית הערך הבסיסית שהוגדרה בגיליון ההנחות (טור זה נשלף מטבלה 1 בגיליון "רגישות ותרחישים").
B74: © כל הזכויות שמורות לעו״ד שלו לביא. אין להעתיק, לשכפל, להפיץ, לפרסם או לעשות כל שימוש אחר במידע המופיע במסמך זה, כולו או חלקו, ללא קבלת אישור מראש ובכתב. המידע במסמך זה נמסר למטרות מידע כללי בלבד ואינו מהווה ייעוץ משפטי, מיסויי או השקעה. תחזיות ואחוזי תשואה מבוססים על הערכות בלבד ואינם מהווים הבטחה לתשואה בפועל.

Sheet הנחות עסקה
B1: הנחות עסקה – תבנית כללית | I1: ← תמצית עסקה
B2: צהוב בוהק = נתון קריטי שממלאים בכל עסקה חדשה. צהוב רגיל = ניתן לעריכה אך בד"כ לא נוגעים בו. שאר הגיליונות בקובץ (מודל כלכלי, חישובים, היוון, תזרים ו-IRR, רגישות) מחושבים אוטומטית מהנתונים כאן - אין צורך לערוך אותם ישירות.
B4: א. פרטי הנכס והעסקה
B5: כתובת: | C5: כצנלסון, גבעתיים
B6: מספר בניין: | C6: יש להשלים מידע
B7: היזם: | C7: יזם מוביל מהחברות הגדולות במשק
B8: עו"ד דיירים: | C8: משרד עו"ד
B9: מתווך רכישה: | C9: [להזין מתווך, ככל שרלוונטי]
B10: סטטוס: | C10: חתום פינוי בינוי לאחר רוב נדרש. תב"ע בשלבי עבודה (מעגל ראשון תמ"א 70 + מדיניות עירונית תואמת).
B11: השלב הבא: | C11: [להזין את השלב הבא בעסקה]
B13: רישום ומדידה (משלים - אינו משפיע על החישוב; להשלמה בהתקדמות העסקה)
B14: גוש: | C14: 6155
B15: חלקה: | C15: יש להשלים מידע
B16: אופן רישום בטאבו: | C16: רישום תקין | D16: למשל: בית משותף רשום / בהליכי רישום / טרם נרשם
B17: שטח לפי ארנונה (מ"ר): | C17: 70
B18: שטח לפי נסח טאבו (מ"ר): | C18: 60
B19: שטח לפי היתר בנייה (מ"ר): | C19: יש להשלים מידע
B20: שטח לפי מדידת היזם (מ"ר): | C20: 72 | D20: ייתכנו פערים בין המקורות - השטח המשמש בפועל לחישוב הכלכלי מוזן בנפרד למטה ("שטח קיים")
B22: ב. מחיר ומימון
B23: מחיר מבוקש/משווק (מהמודעה, ₪): | C23: 2400000 | D23: דוגמה בלבד – להזין את המחיר המבוקש כפי שפורסם
B24: הנחת מו"מ משוערת (₪): | C24: 175000 | D24: כלל אצבע: 100,000 ₪ לעסקאות 2-2.5 מ' ; 150,000 ₪ לעסקאות מעל 3.5 מ' ; אינטרפולציה ליניארית בין הטווחים. ניתן לדרוס ידנית בתא "מחיר רכישה" למטה בעסקה ספציפית.
B25: מחיר רכישה (לאחר מו"מ, לשימוש בחישוב, ₪): | C25: =C23-C24 -> 2225000 | D25: ניתן לדרוס בערך ידני אם ידוע מחיר סופי בפועל
B26: אחוז נרכש מהדירה: | C26: 1
B27: אחוז מימון בנקאי (LTV): | C27: 0.75
B28: ריבית משכנתא שנתית ממוצעת (משוקללת): | C28: 0.049
B29: תקופת משכנתא (שנים): | C29: 30
B31: תמהיל משכנתא (אופציונלי – לבדיקה מול הצעת בנק בפועל; ר' בדיקת התאמה בגיליון "חישובים")
C32: מסלול | D32: חלק (מתוך 900) | E32: שנים | F32: ריבית שנתית
B33: קבועה לא צמודה | C33: 300 | D33: 30 | E33: 0.048
B34: פריים | C34: 200 | D34: 30 | E34: 0.053
B35: משתנה לא צמודה | C35: 260 | D35: 30 | E35: 0.049
B36: משתנה צמודה | C36: 140 | D36: 30 | E36: 0.027
B38: ג. הכנסה שוטפת והוצאות אחזקה
B39: תשואת שכ"ד שנתית נוכחית (% משווי הדירה): | C39: 0.03128
B40: קצב עליית שכ"ד שנתי (ברירת מחדל: עליית מדד בסיסית): | C40: 0.03 | D40: בעבר לא הובאה בחשבון עליית שכר דירה לאורך התקופה
B41: הוצאות שוטפות חודשיות (ועד בית, ביטוח, תחזוקה שוטפת, ₪): | C41: 300 | D41: הערכה ראשונית; יש לעדכן לפי נתוני הבניין בפועל
B42: ימי אכלוס ריק בממוצע בכל החלפת שוכר (₪ אבודים): | C42: 30 | D42: ימי שכירות ממוצע שאובד בכל חילופי דיירים
B43: תדירות ממוצעת להחלפת שוכר (שנים): | C43: 2
B45: ד. שווי ותרחיש יציאה
B46: עליית ערך שנתית (הנחת שוק): | C46: 0.04 | D46: ברירת מחדל קבועה: 4% - להשתמש בזה תמיד אלא אם נאמר אחרת במפורש עבור העסקה הספציפית
B47: זמן החזקה עד מכירה (שנים): | C47: 8 | D47: דוגמה בלבד – להתאים להערכת לוח הזמנים של העסקה הספציפית
B48: תרחיש יציאה: | C48: פליפ | D48: פליפ = מכירת הזכויות לפני אכלוס | עד אכלוס = מכירת הדירה החדשה | אין פרויקט = תרחיש כשל יזמי
B49: מ"ר מצב נכנס (דירה קיימת): | C49: 72
B50: תוספת מ"ר לפי ההסכם (מלא): | C50: 18 | D50: התוספת המלאה הקבועה בהסכם ההתחדשות העירונית - נתון תיעודי/משפטי
B51: תוספת מ"ר בשימוש לחישוב הכלכלי: | C51: 12 | D51: ניתן להזין נמוך מהתוספת לפי ההסכם לצורך גישה שמרנית - זהו הנתון שמזין את החישוב
B52: שווי מ"ר עיקרי מצב יוצא (הערכת שמאי/יזם, ₪): | C52: 42000
B54: ה. שיעורי עלויות עסקה
B55: שיעור מע"מ: | C55: 0.18
B56: שיעור עורך דין רכישה (מהשווי): | C56: 0.0059
B57: שיעור תיווך / ליווי משקיעים ברכישה (כולל מע"מ): | C57: 0.0236
B58: יועץ משכנתאות (₪, סכום קבוע): | C58: 9000
B59: שמאות מוקדמת לבנק (₪, לפני מע"מ): | C59: 3800
B60: שיפוץ (הערכה, ₪): | C60: 15000
B61: שיעור עורך דין מכירה (מהתמורה): | C61: 0.0059
B62: שיעור מתווך במכירה (מהתמורה): | C62: 0.01
B63: היטל השבחה (הערכה, ₪): | C63: 0 | D63: בעסקאות התחדשות עירונית לרוב חל על היזם/במסגרת ההסכם - לוודא בהסכם הספציפי
B65: ו. מיסוי
B66: סוג הרכישה לצורך מס רכישה: | C66: דירה יחידה (פטורה במדרגה ראשונה)
B68: ז. עוגן זמן למודל ה-DCF (מבוסס על "זמן החזקה עד מכירה" שהוזן לעיל)
B69: משמש למחיר "פליפ" (גיליון היוון). לפי בקשתך, חישוב ה-DCF מבוסס על זמן ההחזקה שהזנת (לא על לוח הזמנים התכנוני המפורט למטה), עם מרווח ביטחון לעיכובים.
B70: תאריך רכישה משוער: | D70: =TODAY()+30 -> 46284 | I70: 30.4 | J70: ימים בחודש
B71: מרווח ביטחון לעיכובים (חודשים, ניהול סיכונים): | D71: 12 | E71: נוסף מעבר לזמן ההחזקה - משקף חשיפה טיפוסית לעיכובי רגולציה/יזם
B72: חודשי "חוזה מוקדם" לפני מועד הייחוס (למקדמה 20%): | D72: 24 | E72: מייצג מתי לוח תשלומים טיפוסי מול יזם היה נפתח, ביחס למועד המכירה/מסירה בפועל
B73: תאריך ייחוס למכירה (= רכישה + זמן החזקה + מרווח ביטחון): | D73: =D70+(C47*365)+(D71*$I$70) -> 49568.8
B74: "תאריך חוזה מוקדם" (לתמחור תמורות מוקדמות ותחילת הצמדה למדד): | D74: =D73-(D72*$I$70) -> 48839.2
B76: לוח זמנים תכנוני מפורט (הערכה "מלמטה למעלה" למעקב אחר הפרויקט בפועל - אינו מזין את חישובי ה-DCF)
B77: צפי אישור תב"ע: | D77: =D70+365*2 -> 47014 | E77: ≈ שנתיים ממועד הרכישה (הערכה לדוגמה - יש להתאים לסטטוס התכנוני בפועל)
B78: צפי אישור תוכנית עיצוב: | C78: 18 | D78: =D77+(C78*$I$70) -> 47561.2 | E78: ≈ שנה וחצי
B79: מאישור עיצוב עד הגשת בקשה להיתר: | C79: 6 | D79: =D78+(C79*$I$70) -> 47743.6 | E79: ≈ 6 חודשים
B80: מהגשת הבקשה עד דיון ועדת רישוי: | C80: 24 | D80: =D79+(C80*$I$70) -> 48473.2 | E80: ≈ שנתיים
B81: מהוועדה עד תחילת שיווק: | C81: 3 | D81: =D80+(C81*$I$70) -> 48564.4
B82: מתחילת שיווק ועד מכירת דירה ראשונה בפרויקט: | C82: 3 | D82: =D81+(C82*$I$70) -> 48655.6
B83: לפני היתר מלא – תחילת ליווי בנקאי: | C83: 2 | D83: =D84-(C83*$I$70) -> 48594.8 | E83: ≈ חודשיים
B84: מהוועדה ועד היתר בנייה מלא ופינוי (ליווי בנקאי ופינוי דיירים): | C84: 6 | D84: =D80+(C84*$I$70) -> 48655.6 | E84: ≈ חצי שנה
B85: מהיתר מלא ועד תחילת ביצוע: | C85: 3 | D85: =D84+(C85*$I$70) -> 48746.8 | E85: ≈ 3 חודשים
B86: משך ביצוע (חודשים): | C86: 48 | D86: =D85+(C86*$I$70) -> 50206 | E86: ≈ 4 שנים
B87: בדיקת סבירות: זמן "מלמטה למעלה" עד אכלוס (שנים, ללוח התכנוני בלבד): | D87: =(D86-D70)/365 -> 10.745205 | E87: להשוואה בלבד מול "זמן החזקה עד מכירה" - פער גדול מעיד שהלוח התכנוני "מלמטה למעלה" שמרני/אופטימי יותר מהנחת זמן ההחזקה

Sheet מודל כלכלי
B1: סימולציה כלכלית – תבנית כללית להתחדשות עירונית | H1: ← תמצית עסקה
B2: =CONCATENATE("מודל כלכלי לבחינת עסקת דירה במתחם התחדשות עירונית - כל הנתונים נשלפים מגיליון 'הנחות עסקה' | הופק: ", TEXT(TODAY(),"DD/MM/YYYY")) -> מודל כלכלי לבחינת עסקת דירה במתחם התחדשות עירונית - כל הנתונים נשלפים מגיליון 'הנחות עסקה' | הופק: 20/08/2026
J3: מקרא:
B4: 1. פרטי הנכס והעסקה | J4: ■ צהוב בוהק = נתון קריטי למלא בכל עסקה
B5: כתובת: | C5: ='הנחות עסקה'!$C$5 -> כצנלסון, גבעתיים | J5: ■ תא צהוב = קלט הניתן לעריכה (בד"כ לא נוגעים)
B6: היזם: | C6: ='הנחות עסקה'!$C$7 -> יזם מוביל מהחברות הגדולות במשק | J6: ■ תא כחול = חישוב אוטומטי
B7: עו"ד דיירים: | C7: ='הנחות עסקה'!$C$8 -> משרד עו"ד | J7: ■ תא ירוק = קישור לגיליון אחר
B8: מתווך רכישה: | C8: ='הנחות עסקה'!$C$9 -> [להזין מתווך, ככל שרלוונטי] | J8: ■ תא כחול כהה = תוצאת מפתח
B9: סטטוס: | C9: ='הנחות עסקה'!$C$10 -> חתום פינוי בינוי לאחר רוב נדרש. תב"ע בשלבי עבודה (מעגל ראשון תמ"א 70 + מדיניות עירונית תואמת). | J9: ■ תא כתום = דורש זהירות משפטית/מיסויית
B10: השלב הבא: | C10: ='הנחות עסקה'!$C$11 -> [להזין את השלב הבא בעסקה]
J11: לעריכת נתוני העסקה: גיליון "הנחות עסקה"
B12: 2. הנחות יסוד לעסקה (ר' גיליון "הנחות עסקה" לעריכה)
B13: שווי דירה לרכישה (₪): | C13: ='הנחות עסקה'!$C$25 -> 2225000
B14: אחוז נרכש מהדירה: | C14: ='הנחות עסקה'!$C$26 -> 1
B15: אחוז מימון בנקאי (LTV): | C15: ='הנחות עסקה'!$C$27 -> 0.75
B16: שיעור מע"מ: | C16: ='הנחות עסקה'!$C$55 -> 0.18
B17: ריבית משכנתא שנתית ממוצעת: | C17: ='הנחות עסקה'!$C$28 -> 0.049
B18: תקופת משכנתא (שנים): | C18: ='הנחות עסקה'!$C$29 -> 30
B19: תשואת שכ"ד שנתית נוכחית: | C19: ='הנחות עסקה'!$C$39 -> 0.03128
B20: קצב עליית שכ"ד שנתי: | C20: ='הנחות עסקה'!$C$40 -> 0.03
B21: הוצאות שוטפות חודשיות (₪): | C21: ='הנחות עסקה'!$C$41 -> 300
B22: ימי אכלוס ריק בהחלפת שוכר: | C22: ='הנחות עסקה'!$C$42 -> 30
B23: תדירות החלפת שוכר (שנים): | C23: ='הנחות עסקה'!$C$43 -> 2
B24: עליית ערך שנתית (הנחת שוק): | C24: ='הנחות עסקה'!$C$46 -> 0.04
B25: זמן החזקה עד מכירה (שנים): | C25: ='הנחות עסקה'!$C$47 -> 8
B26: תרחיש יציאה: | C26: ='הנחות עסקה'!$C$48 -> פליפ
B27: מ"ר מצב נכנס: | C27: ='הנחות עסקה'!$C$49 -> 72
B28: תוספת מ"ר בהתחדשות עירונית: | C28: ='הנחות עסקה'!$C$51 -> 12
B29: שווי מ"ר עיקרי מצב יוצא (₪): | C29: ='הנחות עסקה'!$C$52 -> 42000
B31: 3. עלויות רכישה נלוות
B32: מס רכישה (לפי מדרגות, ר' גיליון "חישובים"): | C32: =חישובים!$D$17 -> 8618.925
B33: שיעור תיווך / ליווי משקיעים (כולל מע"מ): | C33: ='הנחות עסקה'!$C$57 -> 0.0236
B34: עלות תיווך / ליווי משקיעים (₪): | C34: =C13*C33*C14 -> 52510
B35: יועץ משכנתאות (₪): | C35: ='הנחות עסקה'!$C$58 -> 9000
B36: שמאות מוקדמת לבנק (₪, לפני מע"מ): | C36: ='הנחות עסקה'!$C$59 -> 3800
B37: עלות שמאות כולל מע"מ (₪): | C37: =C36*(1+C16) -> 4484
B38: שיפוץ (הערכה, ₪): | C38: ='הנחות עסקה'!$C$60 -> 15000
B39: שיעור עורך דין רכישה (מהשווי): | C39: ='הנחות עסקה'!$C$56 -> 0.0059
B40: עלות עורך דין רכישה (₪): | C40: =C39*C13*C14 -> 13127.5
B41: סה"כ הוצאות נלוות ברכישה (₪): | C41: =ROUND(SUM(C32,C34,C35,C37,C38,C40),-2) -> 102700
B43: 4. הון עצמי ומימון
B44: הון עצמי לרכישת הדירה בלבד (₪): | C44: =C14*C13*(1-C15) -> 556250
B45: הון עצמי נדרש כולל הוצאות נלוות (₪): | C45: =C44+C41 -> 658950
B46: משכנתא לעסקה (₪): | C46: =C44*(C15/(1-C15)) -> 1668750
B47: בדיקת עקביות (משכנתא ÷ LTV = שווי דירה): | C47: =IF(ROUND(C46/C15,0)=ROUND(C13*C14,0),"תקין","לבדוק שגיאה") -> תקין
B48: החזר משכנתא חודשי (שפיצר, ₪): | C48: =PMT(C17/12,C18*12,C46) -> -8856.5022
B49: החזר חודשי לכל מיליון ₪ משכנתא (יחס בנקאי טיפוסי): | C49: 5300
B50: הכנסה נטו חודשית נדרשת למשפחה (הערכת סף 38% DTI): | C50: =ROUND((C46/1000000)*C49/0.38,-2) -> 23300
B52: 5. תזרים שוטף עד המכירה (השכרת הדירה הקיימת)
B53: הכנסת שכ"ד חודשית ברוטו – שנה 1 (₪): | C53: =ROUND(C13*C19/12,-2) -> 5800
B54: מקדם תפוסה ממוצע (לאחר חפיפה בין שוכרים): | C54: =1-C22/(C23*365) -> 0.95890411 | D54: חדש - מבטא אובדן שכ"ד ממוצע בכל החלפת שוכר
B55: תזרים חודשי נטו ממוצע – שנה 1 (שכ"ד באפקטיביות התפוסה, בניכוי הוצאות שוטפות והחזר משכנתא, ₪): | C55: =ROUND(C53*C54-C21+C48,-2) -> -3600 | D55: שלילי = הדירה 'עולה כסף' כל חודש עד המכירה; שכ"ד צפוי לעלות עם הזמן (ר' תזרים מפורט בגיליון תזרים ו-IRR)
B56: תזרים מצטבר עד המכירה, מהוון בריבית ההיוון (₪, לפי שנה 1 קבועה): | C56: =ROUND(-FV(חישובים!$D$22,C25*12,C55),-3) -> -424000 | D56: קירוב פשוט לפי תזרים קבוע (ללא עליית שכ"ד) - לחישוב מדויק הכולל עליית שכ"ד ר' גיליון "תזרים ו-IRR"
B58: 6. שווי הדירה החדשה ומחיר מכירה לפי תרחיש
B59: שווי הדירה החדשה במונחי היום ("מצב יוצא", ללא עליית ערך, ₪): | C59: =ROUND((C27+C28)*C29,-2) -> 3528000
B60: שווי דירה/נכס בעת המכירה – תרחיש "עד אכלוס"/"אין פרויקט" (₪): | C60: =ROUND(IF(OR(C26="פליפ",C26="עד אכלוס"),C59*(1+C24)^C25,IF(C26="אין פרויקט",C13*(1+C24)^C25,"לבחור תרחיש")),-4) -> 4830000 | D60: בתרחיש "אין פרויקט" השווי מבוסס על עליית ערך רגילה של הדירה הישנה, לא על שווי הדירה החדשה
B61: שווי "פליפ" מהוון – מחיר מכירה ריאלי משוער (₪, ר' גיליון "היוון"): | C61: =היוון!$C$28 -> 4519735.1
B62: מחיר מכירה נבחר לפי תרחיש (₪, מעוגל ל-10,000 הקרובים): | C62: =ROUND(IF(C26="פליפ",C61,IF(OR(C26="עד אכלוס",C26="אין פרויקט"),C60,"לבחור תרחיש בתא לעיל")),-4) -> 4520000
B64: 7. מיסוי ועלויות מכירה
B65: יתרת משכנתא לסילוק במועד המכירה (₪, שלילי): | C65: =ROUND(FV(C17/12,C25*12,C48,C46),-4) -> -1430000
B66: שיעור עורך דין מכירה (מהתמורה): | C66: ='הנחות עסקה'!$C$61 -> 0.0059
B67: עלות עורך דין מכירה (₪, שלילי): | C67: =-C66*C62*C14 -> -26668
B68: שיעור מתווך במכירה (מהתמורה): | C68: ='הנחות עסקה'!$C$62 -> 0.01
B69: עלות מתווך במכירה (₪, שלילי): | C69: =-C68*C62*C14 -> -45200
B70: היטל השבחה (הערכה, ₪, שלילי): | C70: ='הנחות עסקה'!$C$63 -> 0
B71: סה"כ הוצאות מכירה (₪, שלילי): | C71: =ROUND(SUM(C67,C69,C70),-3) -> -72000
B72: תקרת פטור ממס שבח משוערכת למועד המכירה (₪, ר' גיליון "חישובים"): | C72: =חישובים!$D$30 -> 6343984.6
B73: מס שבח משוער – החלק שמעל תקרת הפטור (₪, שלילי אם חייב): | C73: =-MAX(0,C62-C72)*0.25 -> 0 | D73: הערכה כלכלית גסה בלבד (לא שומת מס)
B75: 8. תוצאות – רווחיות ותשואה
B76: הון עצמי ברכישה (₪, שלילי, תזרים יציאה בזמן 0): | C76: =-C45 -> -658950
B77: רווח כולל לכל תקופת ההחזקה (₪): | C77: =ROUND(C62+C65+C71+C56+C76+C73,-4) -> 1940000 | D77: מורכב מ: מחיר מכירה + יתרת משכנתא (שלילי) + הוצאות מכירה (שלילי) + תזרים מצטבר + הון עצמי (שלילי) + מס שבח (שלילי אם חל)
B78: רווח כולל באחוזים על ההון העצמי (לכל התקופה): | C78: =C77/C45 -> 2.9440777
B79: תשואה שנתית ממוצעת – CAGR (שיטת ריבית דריבית פשוטה, ללא עליית שכ"ד): | C79: =((C77+C45)/C45)^(1/C25)-1 -> 0.18711607 | D79: מבוססת על סך הרווח מול ההון העצמי; אינה כוללת עליית שכ"ד/הוצאות שוטפות מפורטות. לחישוב מלא ר' IRR למטה
B80: תשואה שנתית לפי IRR על תזרים מזומנים מתוארך ומפורט (כולל עליית שכ"ד, ר' גיליון "תזרים ו-IRR"): | C80: ='תזרים ו-IRR'!$C$33 -> 0.17819558
B81: הבהרה מתודולוגית: ה-CAGR לעיל מדד פשוט מבוסס על סך הרווח הכולל מול ההון העצמי, ואינו מביא בחשבון עליית שכ"ד לאורך זמן או שינויים בהוצאות השוטפות. ה-IRR (בגיליון הייעודי) מביא בחשבון את התאריכים המדויקים של כל תזרים בפועל, כולל עליית שכ"ד שנתית, ולכן מהווה מדד מדויק ואמין יותר. פער בין שני המדדים צפוי וטבעי ואינו מעיד על טעות.
B85: © כל הזכויות שמורות לעו״ד שלו לביא. אין להעתיק, לשכפל, להפיץ, לפרסם או לעשות כל שימוש אחר במידע המופיע במסמך זה, כולו או חלקו, ללא קבלת אישור מראש ובכתב. המידע במסמך זה נמסר למטרות מידע כללי בלבד ואינו מהווה ייעוץ משפטי, מיסויי או השקעה. תחזיות ואחוזי תשואה, ככל שמופיעים, מבוססים על הערכות בלבד ואינם מהווים הבטחה לתשואה בפועל. אין לראות באמור התחייבות, מצג או אחריות לתוצאה כלשהי. כל השקעה נדל"נית כרוכה בסיכון, והאחריות לבחינה ולשיקול דעת עצמאי מוטלת על הקורא.

Sheet חישובים
C1: חישובים – פרמטרים סטטוטוריים/כלליים וחישובי עזר | H1: ← תמצית עסקה
C3: הפרמטרים בגיליון זה הם ברירות מחדל סטטוטוריות/שיטתיות (מדרגות מס, שיעור היוון) שרלוונטיות לכל עסקה ולא רק לזו הספציפית - בניגוד לגיליון "הנחות עסקה" שמרכז את הנתונים הייחודיים לעסקה זו. גם כאן ניתן לערוך תאים צהובים במידת הצורך (למשל אם מדרגות המס התעדכנו).
C6: מס רכישה
C7: סוג הרכישה לצורך מס רכישה (מקושר מגיליון ההנחות): | D7: ='הנחות עסקה'!$C$66 -> דירה יחידה (פטורה במדרגה ראשונה)
C9: מדרגות מס רכישה – דירה יחידה (יש לוודא מול אתר רשות המסים מועד ביצוע העסקה בפועל, המדרגות מתעדכנות פעמיים בשנה)
C10: עד סכום (₪) | D10: שיעור המדרגה
C11: 1978745 | D11: 0
C12: 2347040 | D12: 0.035
C13: 6055070 | D13: 0.05
C14: 20183565 | D14: 0.08
C15: שיעור אחיד – דירה נוספת / משקיע: | D15: 0.06 | E15: לוודא מדרגות עדכניות
C17: מס רכישה מחושב לעסקה (₪): | D17: =IF(D7="דירה יחידה (פטורה במדרגה ראשונה)",IF('מודל כלכלי'!$C$13<=C11,0,IF('מודל כלכלי'!$C$13<=C12,('מודל כלכלי'!$C$13-C11)*D12,IF('מודל כלכלי'!$C$13<=C13,('מודל כלכלי'!$C$13-C12)*D13+(C12-C11)*D12,IF('מודל כלכלי'!$C$13<=C14,('מודל כלכלי'!$C$13-C13)*D14+(C13-C12)*D13+(C12-C11)*D12,"לבדוק מדרגה נוספת")))),'מודל כלכלי'!$C$13*D15) -> 8618.925 | E17: נשלף אוטומטית לגיליון המודל הכלכלי
C18: שיעור אפקטיבי: | D18: =IFERROR(D17/'מודל כלכלי'!$C$13,"") -> 0.0038736742
C20: הנחות היוון ותזרים
C21: שיעור היוון שנתי (לתזרים מהוון / DCF): | D21: 0.05
C22: שיעור היוון חודשי (מחושב): | D22: =D21/12 -> 0.0041666667
C23: צפי מדד תשומות בנייה (שנתי): | D23: 0.033
C24: ימים בחודש (קבוע להיוון): | D24: 30.5
C25: עליית ערך שנתית (מקור: גיליון ההנחות): | D25: ='מודל כלכלי'!$C$24 -> 0.04
C27: מדרגת פטור ממס שבח – "דירת יוקרה" (סעיף 49א(א1) לחוק מיסוי מקרקעין)
C28: תקרת פטור נוכחית (₪): | D28: 5008000 | E28: נכון לשנת 2026. יש לוודא מול רשות המסים במועד המכירה בפועל.
C29: קצב עדכון שנתי משוער של התקרה: | D29: 0.03
C30: תקרת פטור משוערכת למועד המכירה הצפוי (₪): | D30: =D28*(1+D29)^'מודל כלכלי'!$C$25 -> 6343984.6
C32: הבהרה: חישוב מס השבח בגיליון "מודל כלכלי" הוא הערכה כלכלית גסה בלבד, ואינו שומה או חוות דעת מיסוי. יש לקבל חישוב מדויק מרו"ח/עו"ד מיסוי מקרקעין סמוך למועד המכירה.
C35: בדיקת תמהיל משכנתא בפועל (אופציונלי – להשוואה מול הצעת בנק בפועל)
C36: מסלול | D36: חלק יחסי | E36: סכום (₪) | F36: שנים | G36: ריבית שנתית | H36: החזר חודשי
C37: ='הנחות עסקה'!$B$33 -> קבועה לא צמודה | D37: ='הנחות עסקה'!$C$33/900 -> 0.33333333 | E37: ='מודל כלכלי'!$C$46*D37 -> 556250 | F37: ='הנחות עסקה'!$D$33 -> 30 | G37: ='הנחות עסקה'!$E$33 -> 0.048 | H37: =PMT(G37/12,F37*12,E37) -> -2918.451
C38: ='הנחות עסקה'!$B$34 -> פריים | D38: ='הנחות עסקה'!$C$34/900 -> 0.22222222 | E38: ='מודל כלכלי'!$C$46*D38 -> 370833.33 | F38: ='הנחות עסקה'!$D$34 -> 30 | G38: ='הנחות עסקה'!$E$34 -> 0.053 | H38: =PMT(G38/12,F38*12,E38) -> -2059.2548
C39: ='הנחות עסקה'!$B$35 -> משתנה לא צמודה | D39: ='הנחות עסקה'!$C$35/900 -> 0.28888889 | E39: ='מודל כלכלי'!$C$46*D39 -> 482083.33 | F39: ='הנחות עסקה'!$D$35 -> 30 | G39: ='הנחות עסקה'!$E$35 -> 0.049 | H39: =PMT(G39/12,F39*12,E39) -> -2558.5451
C40: ='הנחות עסקה'!$B$36 -> משתנה צמודה | D40: ='הנחות עסקה'!$C$36/900 -> 0.15555556 | E40: ='מודל כלכלי'!$C$46*D40 -> 259583.33 | F40: ='הנחות עסקה'!$D$36 -> 30 | G40: ='הנחות עסקה'!$E$36 -> 0.027 | H40: =PMT(G40/12,F40*12,E40) -> -1052.8638
C41: סה"כ / בדיקה | D41: =SUM(D37:D40) -> 1 | E41: =SUM(E37:E40) -> 1668750 | H41: =SUM(H37:H40) -> -8589.1147
C42: התאמה לסכום המשכנתא הכולל: | D42: =IF(ROUND(E41,0)=ROUND('מודל כלכלי'!$C$46,0),"תואם","פער - לבדוק חלוקת מסלולים") -> תואם
C43: התאמת ההחזר החודשי המשוקלל להחזר לפי הריבית הממוצעת (הפרש טבעי - PMT אינה לינארית): | D43: =IF(ABS(H41-'מודל כלכלי'!$C$48)<=50,"תואם (סטייה עד 50 ₪)","פער ₪"&TEXT(H41-'מודל כלכלי'!$C$48,"#,##0")&" - טבעי, ר' הערה") -> פער ₪267 - טבעי, ר' הערה

Sheet היוון
B1: היוון – לוח זמנים ושווי "פליפ" (מכירת זכויות לפני אכלוס) | H1: ← תמצית עסקה
B3: עוגן זמן ל-DCF (מקושר מגיליון "הנחות עסקה" - מבוסס על זמן ההחזקה + מרווח ביטחון)
B4: תאריך רכישה משוער: | D4: ='הנחות עסקה'!$D$70 -> 46284
B5: "תאריך חוזה מוקדם" (למקדמה 20% ותחילת הצמדה למדד): | D5: ='הנחות עסקה'!$D$74 -> 48839.2
B6: "תאריך חוזה מוקדם" (משמש גם כעוגן להצמדת מדד): | D6: ='הנחות עסקה'!$D$74 -> 48839.2
B7: תאריך ייחוס למכירה (סוף התקופה, כולל מרווח ביטחון): | D7: ='הנחות עסקה'!$D$73 -> 49568.8
B8: זמן מרכישה עד תאריך הייחוס (שנים, לבקרה): | C8: =(D7-D4)/365 -> 8.9994521 | D8: אמור להיות קרוב ל"זמן החזקה + מרווח הביטחון" שהוזנו בגיליון ההנחות
B9: לוח הזמנים התכנוני המפורט "מלמטה למעלה" (תב"ע, עיצוב, היתר וכו') עבר לגיליון "הנחות עסקה" כטבלת מעקב/השוואה בלבד, ואינו מזין יותר את חישוב ה-DCF - לבקשתך, ה-DCF מבוסס כעת ישירות על "זמן ההחזקה עד מכירה" שאתה מזין + מרווח ביטחון.
B12: מתווה 1: היוון תמורות מהיזם – רכישת דירה חדשה בתנאי פרי-סייל (DCF)
B13: ממחיש את השווי הכלכלי של הזכות לדירה החדשה, לו הייתה נרכשת מהיזם בתשלומים לפי אבני דרך (להשוואה מול מכירת ה"פליפ")
C14: תשלום 1 – במועד תחילת השיווק (7%) | D14: תשלום 2 – יתרת המקדמה, במועד תחילת השיווק (13%) | E14: תשלום 3 – חודש לפני אכלוס (70%) | F14: תשלום 4 – מועד אכלוס (10%)
B15: תאריך תשלום | C15: =D5 -> 48839.2 | D15: =D5 -> 48839.2 | E15: =D7-30 -> 49538.8 | F15: =D7 -> 49568.8
B16: אחוז מהתמורה | C16: 0.07 | D16: 0.13 | E16: 0.7 | F16: 0.1
B17: סכום נומינלי (₪) | C17: =C16*'מודל כלכלי'!$C$60 -> 338100 | D17: =D16*'מודל כלכלי'!$C$60 -> 627900 | E17: =E16*'מודל כלכלי'!$C$60 -> 3381000 | F17: =F16*'מודל כלכלי'!$C$60 -> 483000
B18: תוספת הצמדה למדד תשומות בנייה (₪) | C18: 0 | D18: 0 | E18: =((E15-D6)/365)*חישובים!$D$23*E17*0.5 -> 106926.67 | F18: =((F15-D6)/365)*חישובים!$D$23*F17*0.5 -> 15930.266
B19: שווי מהוון להיום (₪) | C19: =-PV(חישובים!$D$21,(C15-D5)/365,,(C17+C18)) -> 338100 | D19: =-PV(חישובים!$D$21,(D15-D5)/365,,(D17+D18)) -> 627900 | E19: =-PV(חישובים!$D$21,(E15-D5)/365,,(E17+E18)) -> 3176534.3 | F19: =-PV(חישובים!$D$21,(F15-D5)/365,,(F17+F18)) -> 452568.66
B20: סה"כ שווי מהוון – מתווה רכישה מהיזם (₪): | C20: =SUM(C19:F19) -> 4595103
B22: מתווה 2: היוון שווי "פליפ" – מכירת הדירה הישנה עם זכויות הפינוי-בינוי (לפני אכלוס)
B23: קצב שינוי שנתי בשכ"ד עד למועד ההיתר (מקושר מגיליון ההנחות): | C23: ='מודל כלכלי'!$C$20 -> 0.03
B24: שכ"ד חודשי מוקרן (₪): | C24: =-FV(C23,(D6-D4)/365,,'מודל כלכלי'!$C$53) -> 7133.384
B25: רכיב שכ"ד מהוון לתקופת הביניים (עד ההיתר, ₪): | C25: =-PV(חישובים!$D$21/12,(D7-D6)/365*12,C24) -> 162512.9 | D25: מבטא את ערך זרם ההכנסה משכ״ד שהרוכש 'מוותר עליו/נהנה ממנו' ביחס לתקופת ההמתנה עד ההיתר
B26: הנחת מיקוח מול בעל דירה פרטי (מול מחיר תיאורטי): | C26: 0.05
B27: ניכוי הנחת מיקוח (₪): | C27: =-(C20+C25)*C26 -> -237880.8
B28: שווי "פליפ" מהוון – מחיר מכירה ריאלי משוער (₪): | C28: =C25+C20+C27 -> 4519735.1 | D28: ערך זה נשלף אוטומטית לגיליון "מודל כלכלי" כמחיר מכירה בתרחיש פליפ

Sheet תזרים ו-IRR
B1: תזרים מזומנים מתוארך ותשואת IRR | F1: ← תמצית עסקה
B3: תזרים זה מקושר במלואו לגיליון "מודל כלכלי" (ודרכו לגיליון "הנחות עסקה"): כל שינוי בהנחות מתעדכן כאן אוטומטית, כולל עליית שכ"ד שנתית והוצאות שוטפות. ההון העצמי (כולל הוצאות הרכישה) מוצג כיציאת מזומן אחת במועד הרכישה - לא לפי לוח תשלומים מדורג מול המוכר (30%/70%). התזרים מחושב ברמה שנתית (ולא חודשית): שכ"ד אמנם משולם חודשית בפועל, אך איסוף לשנתי הוא קירוב סביר שההשפעה שלו על ה-IRR הכולל שולית ביחס לגודל תקבול המכירה בסוף התקופה - אם תרצה פירוט חודשי מלא (180 שורות לתקופה של 15 שנה) אפשר להוסיף בהמשך.
B9: מספר שנים לתזרים (עיגול של זמן ההחזקה): | C9: =ROUND('מודל כלכלי'!$C$25,0) -> 8
B11: שנה | C11: תאריך | D11: תיאור | E11: תזרים מזומנים (₪)
B12: 0 | C12: =היוון!$D$4 -> 46284 | D12: הון עצמי + הוצאות רכישה (יציאת מזומן) | E12: =-'מודל כלכלי'!$C$45 -> -658950
B13: 1 | C13: =היוון!$D$4+1*365 -> 46649 | D13: =IF(1<C9,"תזרים שכירות שוטף (כולל עליית שכ״ד)",IF(1=C9,"תזרים תפעולי שוטף - שנת המכירה (ר' פירוט מתחת)","לא רלוונטי (מעבר לתקופת ההחזקה)")) -> תזרים שכירות שוטף (כולל עליית שכ״ד) | E13: =IF(1<=C9,12*(('מודל כלכלי'!$C$53*(1+'מודל כלכלי'!$C$20)^(1-1))*'מודל כלכלי'!$C$54-'מודל כלכלי'!$C$21+'מודל כלכלי'!$C$48),0) -> -43138.3
B14: 2 | C14: =היוון!$D$4+2*365 -> 47014 | D14: =IF(2<C9,"תזרים שכירות שוטף (כולל עליית שכ״ד)",IF(2=C9,"תזרים תפעולי שוטף - שנת המכירה (ר' פירוט מתחת)","לא רלוונטי (מעבר לתקופת ההחזקה)")) -> תזרים שכירות שוטף (כולל עליית שכ״ד) | E14: =IF(2<=C9,12*(('מודל כלכלי'!$C$53*(1+'מודל כלכלי'!$C$20)^(2-1))*'מודל כלכלי'!$C$54-'מודל כלכלי'!$C$21+'מודל כלכלי'!$C$48),0) -> -41136.108
B15: 3 | C15: =היוון!$D$4+3*365 -> 47379 | D15: =IF(3<C9,"תזרים שכירות שוטף (כולל עליית שכ״ד)",IF(3=C9,"תזרים תפעולי שוטף - שנת המכירה (ר' פירוט מתחת)","לא רלוונטי (מעבר לתקופת ההחזקה)")) -> תזרים שכירות שוטף (כולל עליית שכ״ד) | E15: =IF(3<=C9,12*(('מודל כלכלי'!$C$53*(1+'מודל כלכלי'!$C$20)^(3-1))*'מודל כלכלי'!$C$54-'מודל כלכלי'!$C$21+'מודל כלכלי'!$C$48),0) -> -39073.85
B16: 4 | C16: =היוון!$D$4+4*365 -> 47744 | D16: =IF(4<C9,"תזרים שכירות שוטף (כולל עליית שכ״ד)",IF(4=C9,"תזרים תפעולי שוטף - שנת המכירה (ר' פירוט מתחת)","לא רלוונטי (מעבר לתקופת ההחזקה)")) -> תזרים שכירות שוטף (כולל עליית שכ״ד) | E16: =IF(4<=C9,12*(('מודל כלכלי'!$C$53*(1+'מודל כלכלי'!$C$20)^(4-1))*'מודל כלכלי'!$C$54-'מודל כלכלי'!$C$21+'מודל כלכלי'!$C$48),0) -> -36949.725
B17: 5 | C17: =היוון!$D$4+5*365 -> 48109 | D17: =IF(5<C9,"תזרים שכירות שוטף (כולל עליית שכ״ד)",IF(5=C9,"תזרים תפעולי שוטף - שנת המכירה (ר' פירוט מתחת)","לא רלוונטי (מעבר לתקופת ההחזקה)")) -> תזרים שכירות שוטף (כולל עליית שכ״ד) | E17: =IF(5<=C9,12*(('מודל כלכלי'!$C$53*(1+'מודל כלכלי'!$C$20)^(5-1))*'מודל כלכלי'!$C$54-'מודל כלכלי'!$C$21+'מודל כלכלי'!$C$48),0) -> -34761.876
B18: 6 | C18: =היוון!$D$4+6*365 -> 48474 | D18: =IF(6<C9,"תזרים שכירות שוטף (כולל עליית שכ״ד)",IF(6=C9,"תזרים תפעולי שוטף - שנת המכירה (ר' פירוט מתחת)","לא רלוונטי (מעבר לתקופת ההחזקה)")) -> תזרים שכירות שוטף (כולל עליית שכ״ד) | E18: =IF(6<=C9,12*(('מודל כלכלי'!$C$53*(1+'מודל כלכלי'!$C$20)^(6-1))*'מודל כלכלי'!$C$54-'מודל כלכלי'!$C$21+'מודל כלכלי'!$C$48),0) -> -32508.392
B19: 7 | C19: =היוון!$D$4+7*365 -> 48839 | D19: =IF(7<C9,"תזרים שכירות שוטף (כולל עליית שכ״ד)",IF(7=C9,"תזרים תפעולי שוטף - שנת המכירה (ר' פירוט מתחת)","לא רלוונטי (מעבר לתקופת ההחזקה)")) -> תזרים שכירות שוטף (כולל עליית שכ״ד) | E19: =IF(7<=C9,12*(('מודל כלכלי'!$C$53*(1+'מודל כלכלי'!$C$20)^(7-1))*'מודל כלכלי'!$C$54-'מודל כלכלי'!$C$21+'מודל כלכלי'!$C$48),0) -> -30187.303
B20: 8 | C20: =היוון!$D$4+8*365 -> 49204 | D20: =IF(8<C9,"תזרים שכירות שוטף (כולל עליית שכ״ד)",IF(8=C9,"תזרים תפעולי שוטף - שנת המכירה (ר' פירוט מתחת)","לא רלוונטי (מעבר לתקופת ההחזקה)")) -> תזרים תפעולי שוטף - שנת המכירה (ר' פירוט מתחת) | E20: =IF(8<=C9,12*(('מודל כלכלי'!$C$53*(1+'מודל כלכלי'!$C$20)^(8-1))*'מודל כלכלי'!$C$54-'מודל כלכלי'!$C$21+'מודל כלכלי'!$C$48),0) -> -27796.581
B21: 9 | C21: =היוון!$D$4+9*365 -> 49569 | D21: =IF(9<C9,"תזרים שכירות שוטף (כולל עליית שכ״ד)",IF(9=C9,"תזרים תפעולי שוטף - שנת המכירה (ר' פירוט מתחת)","לא רלוונטי (מעבר לתקופת ההחזקה)")) -> לא רלוונטי (מעבר לתקופת ההחזקה) | E21: =IF(9<=C9,12*(('מודל כלכלי'!$C$53*(1+'מודל כלכלי'!$C$20)^(9-1))*'מודל כלכלי'!$C$54-'מודל כלכלי'!$C$21+'מודל כלכלי'!$C$48),0) -> 0
B22: 10 | C22: =היוון!$D$4+10*365 -> 49934 | D22: =IF(10<C9,"תזרים שכירות שוטף (כולל עליית שכ״ד)",IF(10=C9,"תזרים תפעולי שוטף - שנת המכירה (ר' פירוט מתחת)","לא רלוונטי (מעבר לתקופת ההחזקה)")) -> לא רלוונטי (מעבר לתקופת ההחזקה) | E22: =IF(10<=C9,12*(('מודל כלכלי'!$C$53*(1+'מודל כלכלי'!$C$20)^(10-1))*'מודל כלכלי'!$C$54-'מודל כלכלי'!$C$21+'מודל כלכלי'!$C$48),0) -> 0
B23: 11 | C23: =היוון!$D$4+11*365 -> 50299 | D23: =IF(11<C9,"תזרים שכירות שוטף (כולל עליית שכ״ד)",IF(11=C9,"תזרים תפעולי שוטף - שנת המכירה (ר' פירוט מתחת)","לא רלוונטי (מעבר לתקופת ההחזקה)")) -> לא רלוונטי (מעבר לתקופת ההחזקה) | E23: =IF(11<=C9,12*(('מודל כלכלי'!$C$53*(1+'מודל כלכלי'!$C$20)^(11-1))*'מודל כלכלי'!$C$54-'מודל כלכלי'!$C$21+'מודל כלכלי'!$C$48),0) -> 0
B24: 12 | C24: =היוון!$D$4+12*365 -> 50664 | D24: =IF(12<C9,"תזרים שכירות שוטף (כולל עליית שכ״ד)",IF(12=C9,"תזרים תפעולי שוטף - שנת המכירה (ר' פירוט מתחת)","לא רלוונטי (מעבר לתקופת ההחזקה)")) -> לא רלוונטי (מעבר לתקופת ההחזקה) | E24: =IF(12<=C9,12*(('מודל כלכלי'!$C$53*(1+'מודל כלכלי'!$C$20)^(12-1))*'מודל כלכלי'!$C$54-'מודל כלכלי'!$C$21+'מודל כלכלי'!$C$48),0) -> 0
B25: 13 | C25: =היוון!$D$4+13*365 -> 51029 | D25: =IF(13<C9,"תזרים שכירות שוטף (כולל עליית שכ״ד)",IF(13=C9,"תזרים תפעולי שוטף - שנת המכירה (ר' פירוט מתחת)","לא רלוונטי (מעבר לתקופת ההחזקה)")) -> לא רלוונטי (מעבר לתקופת ההחזקה) | E25: =IF(13<=C9,12*(('מודל כלכלי'!$C$53*(1+'מודל כלכלי'!$C$20)^(13-1))*'מודל כלכלי'!$C$54-'מודל כלכלי'!$C$21+'מודל כלכלי'!$C$48),0) -> 0
B26: 14 | C26: =היוון!$D$4+14*365 -> 51394 | D26: =IF(14<C9,"תזרים שכירות שוטף (כולל עליית שכ״ד)",IF(14=C9,"תזרים תפעולי שוטף - שנת המכירה (ר' פירוט מתחת)","לא רלוונטי (מעבר לתקופת ההחזקה)")) -> לא רלוונטי (מעבר לתקופת ההחזקה) | E26: =IF(14<=C9,12*(('מודל כלכלי'!$C$53*(1+'מודל כלכלי'!$C$20)^(14-1))*'מודל כלכלי'!$C$54-'מודל כלכלי'!$C$21+'מודל כלכלי'!$C$48),0) -> 0
B27: 15 | C27: =היוון!$D$4+15*365 -> 51759 | D27: =IF(15<C9,"תזרים שכירות שוטף (כולל עליית שכ״ד)",IF(15=C9,"תזרים תפעולי שוטף - שנת המכירה (ר' פירוט מתחת)","לא רלוונטי (מעבר לתקופת ההחזקה)")) -> לא רלוונטי (מעבר לתקופת ההחזקה) | E27: =IF(15<=C9,12*(('מודל כלכלי'!$C$53*(1+'מודל כלכלי'!$C$20)^(15-1))*'מודל כלכלי'!$C$54-'מודל כלכלי'!$C$21+'מודל כלכלי'!$C$48),0) -> 0
C28: =היוון!$D$4+C9*365 -> 49204 | D28: ↳ תקבול ממכירת הנכס (שנת המכירה) | E28: ='מודל כלכלי'!$C$62 -> 4520000
C29: =היוון!$D$4+C9*365 -> 49204 | D29: ↳ סילוק יתרת משכנתא (שנת המכירה) | E29: ='מודל כלכלי'!$C$65 -> -1430000
C30: =היוון!$D$4+C9*365 -> 49204 | D30: ↳ עלויות מכירה - עו"ד ומתווך (שנת המכירה) | E30: ='מודל כלכלי'!$C$71 -> -72000
C31: =היוון!$D$4+C9*365 -> 49204 | D31: ↳ מס שבח משוער (שנת המכירה) | E31: ='מודל כלכלי'!$C$73 -> 0
B33: תשואה שנתית (XIRR) על תזרים המזומנים לעיל: | C33: =XIRR(E12:E31,C12:C31) -> 0.17819558 | D33: מדד תשואה מדויק המתחשב בתאריכים המדויקים של כל תזרים בפועל, כולל עליית שכ"ד
B35: הערה: השורות שמעבר לתקופת ההחזקה בפועל (מספר שנה > זמן ההחזקה שהוגדר) מוצגות עם תזרים אפס ואינן משפיעות על ה-XIRR - הן מאפשרות לשנות את "זמן ההחזקה" בגיליון ההנחות (עד 15 שנה) מבלי לבנות טבלה מחדש. שורות "↳" הן פירוט הרכיבים של שנת המכירה (תקבול מכירה, סילוק משכנתא, עו"ד+מתווך, מס שבח) - כולן חלות באותו תאריך מכירה ומסתכמות יחד עם התזרים התפעולי של אותה שנה.

Sheet רגישות ותרחישים
B1: רגישות ותרחישים | L1: ← תמצית עסקה
B3: כל תא בטבלאות שלהלן הוא נוסחה עצמאית (לא "טבלת נתונים" של אקסל) המחשבת מחדש את שרשרת הרווחיות המלאה - כך שהתוצאות שקופות ואמינות במלואן. הטבלאות תלויות-תרחיש: בתרחיש "פליפ" הן משכפלות את חישוב ה-DCF המלא (זהה לגיליון "היוון") עבור כל שילוב זמן/עליית ערך; בתרחיש "עד אכלוס" או "אין פרויקט" הן מבוססות על עליית ערך פשוטה, כמו בגיליון "מודל כלכלי". שינוי התרחיש בגיליון "הנחות עסקה" מתעדכן אוטומטית בכל הטבלאות.
B8: טבלה 1: תשואה שנתית (CAGR) לפי זמן החזקה ועליית ערך שנתית
B9: עליית ערך \ זמן החזקה | C9: 6 | D9: 7 | E9: 8 | F9: 9 | G9: 10 | H9: 11 | I9: 12 | J9: 13
B10: 0.02 | C10: =(((ROUND((IF('מודל כלכלי'!$C$26="פליפ",((-PV(חישובים!$D$21/12,(('הנחות עסקה'!$D$72*'הנחות עסקה'!$I$70)/365*12),(-FV('מודל כלכלי'!$C$20,(6+(('הנחות עסקה'!$D$71-'הנחות עסקה'!$D$72)*'הנחות עסקה'!$I$70)/365),,'מודל כלכלי'!$C$53))))+((0.07*(ROUND('מודל כלכלי'!$C$59*(1+0.02)^6,-4)))+(0.13*(ROUND('מודל כלכלי'!$C$59*(1+0.02)^6,-4)))+(-PV(חישובים!$D$21,((('הנחות עסקה'!$D$72*'הנחות עסקה'!$I$70)-30)/365),,((0.7*(ROUND('מודל כלכלי'!$C$59*(1+0.02)^6,-4)))+(((('הנחות עסקה'!$D$72*'הנחות עסקה'!$I$70)-30)/365)*חישובים!$D$23*(0.7*(ROUND('מודל כלכלי'!$C$59*(1+0.02)^6,-4)))*0.5))))+(-PV(חישובים!$D$21,(('הנחות עסקה'!$D$72*'הנחות עסקה'!$I$70)/365),,((0.1*(ROUND('מודל כלכלי'!$C$59*(1+0.02)^6,-4)))+((('הנחות עסקה'!$D$72*'הנחות עסקה'!$I$70)/365)*חישובים!$D$23*(0.1*(ROUND('מודל כלכלי'!$C$59*(1+0.02)^6,-4)))*0.5)))))+(-(((0.07*(ROUND('מודל כלכלי'!$C$59*(1+0.02)^6,-4)))+(0.13*(ROUND('מודל כלכלי'!$C$59*(1+0.02)^6,-4)))+(-PV(חישובים!$D$21,((('הנחות עסקה'!$D$72*'הנחות עסקה'!$I$70)-30)/365),,((0.7*(ROUND('מודל כלכלי'!$C$59*(1+0.02)^6,-4)))+(((('הנחות עסקה'!$D$72*'הנחות עסקה'!$I$70)-30)/365)*חישובים!$D$23*(0.7*(ROUND('מודל כלכלי'!$C$59*(1+0.02)^6,-4)))*0.5))))+(-PV(חישובים!$D$21,(('הנחות עסקה'!$D$72*'הנחות עסקה'!$I$70)/365),,((0.1*(ROUND('מודל כלכלי'!$C$59*(1+0.02)^6,-4)))+((('הנחות עסקה'!$D$72*'הנחות עסקה'!$I$70)/365)*חישובים!$D$23*(0.1*(ROUND('מודל כלכלי'!$C$59*(1+0.02)^6,-4)))*0.5)))))+(-PV(חישובים!$D$21/12,(('הנחות עסקה'!$D$72*'הנחות עסקה'!$I$70)/365*12),(-FV('מודל כלכלי'!$C$20,(6+(('הנחות עסקה'!$D$71-'הנחות עסקה'!$D$72)*'הנחות עסקה'!$I$70)/365),,'מודל כלכלי'!$C$53)))))*היוון!$C$26)),ROUND('מודל כלכלי'!$C$59*(1+0.02)^6,-4)))+(ROUND(FV('מודל כלכלי'!$C$17/12,6*12,'מודל כלכלי'!$C$48,'מודל כלכלי'!$C$46),-4))+(ROUND(-'מודל כלכלי'!$C$66*(IF('מודל כלכלי'!$C$26="פליפ",((-PV(חישובים!$D$21/12,(('הנחות עסקה'!$D$72*'הנחות עסקה'!$I$70)/365*12),(-FV('מודל כלכלי'!$C$20,(6+(('הנחות עסקה'!$D$71-'הנחות עסקה'!$D$72)*'הנחות עסקה'!$I$70)/365),,'מודל כלכלי'!$C$53))))+((0.07*(ROUND('מודל כלכלי'!$C$59*(1+0.02)^6,-4)))+(0.13*(ROUND('מודל כלכלי'!$C$59*(1+0.02)^6,-4)))+(-PV(חישובים!$D$21,((('הנחות עסקה'!$D$72*'הנחות עסקה'!$I$70)-30)/365),,((0.7*(ROUND('מודל כלכלי'!$C$59*(1+0.02)^6,-4)))+(((('הנחות עסקה'!$D$72*'הנחות עסקה'!$I$70)-30)/365)*חישובים!$D$23*(0.7*(ROUND('מודל כלכלי'!$C$59*(1+0.02)^6,-4)))*0.5))))+(-PV(חישובים!$D$21,(('הנחות עסקה'!$D$72*'הנחות עסקה'!$I$70)/365),,((0.1*(ROUND('מודל כלכלי'!$C$59*(1+0.02)^6,-4)))+((('הנחות עסקה'!$D$72*'הנחות עסקה'!$I$70)/365)*חישובים!$D$23*(0.1*(ROUND('מודל כלכלי'!$C$59*(1+0.02)^6,-4)))*0.5)))))+(-(((0.07*(ROUND('מודל כלכלי'!$C$59*(1+0.02)^6,-4)))+(0.13*(ROUND('מודל כלכלי'!$C$59*(1+0.02)^6,-4)))+(-PV(חישובים!$D$21,((('הנחות עסקה'!$D$72*'הנחות עסקה'!$I$70)-30)/365),,((0.7*(ROUND('מודל כלכלי'!$C$59*(1+0.02)^6,-4)))+(((('הנחות עסקה'!$D$72*'הנחות עסקה'!$I$70)-30)/365)*חישובים!$D$23*(0.7*(ROUND('מודל כלכלי'!$C$59*(1+0.02)^6,-4)))*0.5))))+(-PV(חישובים!$D$21,(('הנחות עסקה'!$D$72*'הנחות עסקה'!$I$70)/365),,((0.1*(ROUND('מודל כלכלי'!$C$59*(1+0.02)^6,-4)))+((('הנחות עסקה'!$D$72*'הנחות עסקה'!$I$70)/365)*חישובים!$D$23*(0.1*(ROUND('מודל כלכלי'!$C$59*(1+0.02)^6,-4)))*0.5)))))+(-PV(חישובים!$D$21/12,(('הנחות עסקה'!$D$72*'הנחות עסקה'!$I$70)/365*12),(-FV('מודל כלכלי'!$C$20,(6+(('הנחות עסקה'!$D$71-'הנחות עסקה'!$D$72)*'הנחות עסקה'!$I$70)/365),,'מודל כלכלי'!$C$53)))))*היוון!$C$26)),ROUND('מודל כלכלי'!$C$59*(1+0.02)^6,-4)))*'מודל כלכלי'!$C$14-'מודל כלכלי'!$C$68*(IF('מודל כלכלי'!$C$26="פליפ",((-PV(חישובים!$D$21/12,(('הנחות עסקה'!$D$72*'הנחות עסקה'!$I$70)/365*12),(-FV('מודל כלכלי'!$C$20,(6+(('הנחות עסקה'!$D$71-'הנחות עסקה'!$D$72)*'הנחות עסקה'!$I$70)/365),,'מודל כלכלי'!$C$53))))+((0.07*(ROUND('מודל כלכלי'!$C$59*(1+0.02)^6,-4)))+(0.13*(ROUND('מודל כלכלי'!$C$59*(1+0.02)^6,-4)))+(-PV(חישובים!$D$21,((('הנחות עסקה'!$D$72*'הנחות עסקה'!$I$70)-30)/365),,((0.7*(ROUND('מודל כלכלי'!$C$59*(1+0.02)^6,-4)))+(((('הנחות עסקה'!$D$72*'הנחות עסקה'!$I$70)-30)/365)*חישובים!$D$23*(0.7*(ROUND('מודל כלכלי'!$C$59*(1+0.02)^6,-4)))*0.5))))+(-PV(חישובים!$D$21,(('הנחות עסקה'!$D$72*'הנחות עסקה'!$I$70)/365),,((0.1*(ROUND('מודל כלכלי'!$C$59*(1+0.02)^6,-4)))+((('הנחות עסקה'!$D$72*'הנחות עסקה'!$I$70)/365)*חישובים!$D$23*(0.1*(ROUND('מודל כלכלי'!$C$59*(1+0.02)^6,-4)))*0.5)))))+(-(((0.07*(ROUND('מודל כלכלי'!$C$59*(1+0.02)^6,-4)))+(0.13*(ROUND('מודל כלכלי'!$C$59*(1+0.02)^6,-4)))+(-PV(חישובים!$D$21,((('הנחות עסקה'!$D$72*'הנחות עסקה'!$I$70)-30)/365),,((0.7*(ROUND('מודל כלכלי'!$C$59*(1+0.02)^6,-4)))+(((('הנחות עסקה'!$D$72*'הנחות עסקה'!$I$70)-30)/365)*חישובים!$D$23*(0.7*(ROUND('מודל כלכלי'!$C$59*(1+0.02)^6,-4)))*0.5))))+(-PV(חישובים!$D$21,(('הנחות עסקה'!$D$72*'הנחות עסקה'!$I$70)/365),,((0.1*(ROUND('מודל כלכלי'!$C$59*(1+0.02)^6,-4)))+((('הנחות עסקה'!$D$72*'הנחות עסקה'!$I$70)/365)*חישובים!$D$23*(0.1*(ROUND('מודל כלכלי'!$C$59*(1+0.02)^6,-4)))*0.5)))))+(-PV(חישובים!$D$21/12,(('הנחות עסקה'!$D$72*'הנחות עסקה'!$I$70)/365*12),(-FV('מודל כלכלי'!$C$20,(6+(('הנחות עסקה'!$D$71-'הנחות עסקה'!$D$72)*'הנחות עסקה'!$I$70)/365),,'מודל כלכלי'!$C$53)))))*היוון!$C$26)),ROUND('מודל כלכלי'!$C$59*(1+0.02)^6,-4)))*'מודל כלכלי'!$C$14+'מודל כלכלי'!$C$70,-3))+(ROUND(-FV(חישובים!$D$22,6*12,'מודל כלכלי'!$C$55),-3))+(-'מודל כלכלי'!$C$45)+(-MAX(0,(IF('מודל כלכלי'!$C$26="פליפ",((-PV(חישובים!$D$21/12,(('הנחות עסקה'!$D$72*'הנחות עסקה'!$I$70)/365*12),(-FV('מודל כלכלי'!$C$20,(6+(('הנחות עסקה'!$D$71-'הנחות עסקה'!$D$72)*'הנחות עסקה'!$I$70)/365),,'מודל כלכלי'!$C$53))))+((0.07*(ROUND('מודל כלכלי'!$C$59*(1+0.02)^6,-4)))+(0.13*(ROUND('מודל כלכלי'!$C$59*(1+0.02)^6,-4)))+(-PV(חישובים!$D$21,((('הנחות עסקה'!$D$72*'הנחות עסקה'!$I$70)-30)/365),,((0.7*(ROUND('מודל כלכלי'!$C$59*(1+0.02)^6,-4)))+(((('הנחות עסקה'!$D$72*'הנחות עסקה'!$I$70)-30)/365)*חישובים!$D$23*(0.7*(ROUND('מודל כלכלי'!$C$59*(1+0.02)^6,-4)))*0.5))))+(-PV(חישובים!$D$21,(('הנחות עסקה'!$D$72*'הנחות עסקה'!$I$70)/365),,((0.1*(ROUND('מודל כלכלי'!$C$59*(1+0.02)^6,-4)))+((('הנחות עסקה'!$D$72*'הנחות עסקה'!$I$70)/365)*חישובים!$D$23*(0.1*(ROUND('מודל כלכלי'!$C$59*(1+0.02)^6,-4)))*0.5)))))+(-(((0.07*(ROUND('מודל כלכלי'!$C$59*(1+0.02)^6,-4)))+(0.13*(ROUND('מודל כלכלי'!$C$59*(1+0.02)^6,-4)))+(-PV(חישובים!$D$21,((('הנחות עסקה'!$D$72*'הנחות עסקה'!$I$70)-30)/365),,((0.7*(ROUND('מודל כלכלי'!$C$59*(1+0.02)^6,-4)))+(((('הנחות עסקה'!$D$72*'הנחות עסקה'!$I$70)-30)/365)*חישובים!$D$23*(0.7*(ROUND('מודל כלכלי'!$C$59*(1+0.02)^6,-4)))*0.5))))+(-PV(חישובים!$D$21,(('הנחות עסקה'!$D$72*'הנחות עסקה'!$I$70)/365),,((0.1*(ROUND('מודל כלכלי'!$C$59*(1+0.02)^6,-4)))+((('הנחות עסקה'!$D$72*'הנחות עסקה'!$I$70)/365)*חישובים!$D$23*(0.1*(ROUND('מודל כלכלי'!$C$59*(1+0.02)^6,-4)))*0.5)))))+(-PV(חישובים!$D$21/12,(('הנחות עסקה'!$D$72*'הנחות עסקה'!$I$70)/365*12),(-FV('מודל כלכלי'!$C$20,(6+(('הנחות עסקה'!$D$71-'הנחות עסקה'!$D$72)*'הנחות עסקה'!$I$70)/365),,'מודל כלכלי'!$C$53)))))*היוון!$C$26)),ROUND('מודל כלכלי'!$C$59*(1+0.02)^6,-4)))-(חישובים!$D$28*(1+חישובים!$D$29)^6))*0.25),-4))+'מודל כלכלי'!$C$45)/'מודל כלכלי'!$C$45)^(1/6)-1 -> 0.18975499 | D10: =(((ROUND((IF('מודל כלכלי'!$C$26="פליפ",((-PV(חישובים!$D$21/12,(('הנחות עסקה'!$D$72*'הנחות עסקה'!$I$70)/365*12),(-FV('מודל כלכלי'!$C$20,(7+(('הנחות עסקה'!$D$71-'הנחות עסקה'!$D$72)*'הנחות עסקה'!$I$70)/365),,'מודל כלכלי'!$C$53))))+((0.07*(ROUND('מודל כלכלי'!$C$59*(1+0.02)^7,-4)))+(0.13*(ROUND('מודל כלכלי'!$C$59*(1+0.02)^7,-4)))+(-PV(חישובים!$D$21,((('הנחות עסקה'!$D$72*'הנחות עסקה'!$I$70)-30)/365),,((0.7*(ROUND('מודל כלכלי'!$C$59*(1+0.02)^7,-4)))+(((('הנחות עסקה'!$D$72*'הנחות עסקה'!$I$70)-30)/365)*חישובים!$D$23*(0.7*(ROUND('מודל כלכלי'!$C$59*(1+0.02)^7,-4)))*0.5))))+(-PV(חישובים!$D$21,(('הנחות עסקה'!$D$72*'הנחות עסקה'!$I$70)/365),,((0.1*(ROUND('מודל כלכלי'!$C$59*(1+0.02)^7,-4)))+((('הנחות עסקה'!$D$72*'הנחות עסקה'!$I$70)/365)*חישובים!$D$23*(0.1*(ROUND('מודל כלכלי'!$C$59*(1+0.02)^7,-4)))*0.5)))))+(-(((0.07*(ROUND('מודל כלכלי'!$C$59*(1+0.02)^7,-4)))+(0.13*(ROUND('מודל כלכלי'!$C$59*(1+0.02)^7,-4)))+(-PV(חישובים!$D$21,((('הנחות עסקה'!$D$72*'הנחות עסקה'!$I$70)-30)/365),,((0.7*(ROUND('מודל כלכלי'!$C$59*(1+0.02)^7,-4)))+(((('הנחות עסקה'!$D$72*'הנחות עסקה'!$I$70)-30)/365)*חישובים!$D$23*(0.7*(ROUND('מודל כלכלי'!$C$59*(1+0.02)^7,-4)))*0.5))))+(-PV(חישובים!$D$21,(('הנחות עסקה'!$D$72*'הנחות עסקה'!$I$70)/365),,((0.1*(ROUND('מודל כלכלי'!$C$59*(1+0.02)^7,-4)))+((('הנחות עסקה'!$D$72*'הנחות עסקה'!$I$70)/365)*חישובים!$D$23*(0.1*(ROUND('מודל כלכלי'!$C$59*(1+0.02)^7,-4)))*0.5)))))+(-PV(חישובים!$D$21/12,(('הנחות עסקה'!$D$72*'הנחות עסקה'!$I$70)/365*12),(-FV('מודל כלכלי'!$C$20,(7+(('הנחות עסקה'!$D$71-'הנחות עסקה'!$D$72)*'הנחות עסקה'!$I$70)/365),,'מודל כלכלי'!$C$53)))))*היוון!$C$26)),ROUND('מודל כלכלי'!$C$59*(1+0.02)^7,-4)))+(ROUND(FV('מודל כלכלי'!$C$17/12,7*12,'מודל כלכלי'!$C$48,'מודל כלכלי'!$C$46),-4))+(ROUND(-'מודל כלכלי'!$C$66*(IF('מודל כלכלי'!$C$26="פליפ",((-PV(חישובים!$D$21/12,(('הנחות עסקה'!$D$72*'הנחות עסקה'!$I$70)/365*12),(-FV('מודל כלכלי'!$C$20,(7+(('הנחות עסקה'!$D$71-'הנחות עסקה'!$D$72)*'הנחות עסקה'!$I$70)/365),,'מודל כלכלי'!$C$53))))+((0.07*(ROUND('מודל כלכלי'!$C$59*(1+0.02)^7,-4)))+(0.13*(ROUND('מודל כלכלי'!$C$59*(1+0.02)^7,-4)))+(-PV(חישובים!$D$21,((('הנחות עסקה'!$D$72*'הנחות עסקה'!$I$70)-30)/365),,((0.7*(ROUND('מודל כלכלי'!$C$59*(1+0.02)^7,-4)))+(((('הנחות עסקה'!$D$72*'הנחות עסקה'!$I$70)-30)/365)*חישובים!$D$23*(0.7*(ROUND('מודל כלכלי'!$C$59*(1+0.02)^7,-4)))*0.5))))+(-PV(חישובים!$D$21,(('הנחות עסקה'!$D$72*'הנחות עסקה'!$I$70)/365),,((0.1*(ROUND('מודל כלכלי'!$C$59*(1+0.02)^7,-4)))+((('הנחות עסקה'!$D$72*'הנחות עסקה'!$I$70)/365)*חישובים!$D$23*(0.1*(ROUND('מודל כלכלי'!$C$59*(1+0.02)^7,-4)))*0.5)))))+(-(((0.07*(ROUND('מודל כלכלי'!$C$59*(1+0.02)^7,-4)))+(0.13*(ROUND('מודל כלכלי'!$C$59*(1+0.02)^7,-4)))+(-PV(חישובים!$D$21,((('הנחות עסקה'!$D$72*'הנחות עסקה'!$I$70)-30)/365),,((0.7*(ROUND('מודל כלכלי'!$C$59*(1+0.02)^7,-4)))+(((('הנחות עסקה'!$D$72*'הנחות עסקה'!$I$70)-30)/365)*חישובים!$D$23*(0.7*(ROUND('מודל כלכלי'!$C$59*(1+0.02)^7,-4)))*0.5))))+(-PV(חישובים!$D$21,(('הנחות עסקה'!$D$72*'הנחות עסקה'!$I$70)/365),,((0.1*(ROUND('מודל כלכלי'!$C$59*(1+0.02)^7,-4)))+((('הנחות עסקה'!$D$72*'הנחות עסקה'!$I$70)/365)*חישובים!$D$23*(0.1*(ROUND('מודל כלכלי'!$C$59*(1+0.02)^7,-4)))*0.5)))))+(-PV(חישובים!$D$21/12,(('הנחות עסקה'!$D$72*'הנחות עסקה'!$I$70)/365*12),(-FV('מודל כלכלי'!$C$20,(7+(('הנחות עסקה'!$D$71-'הנחות עסקה'!$D$72)*'הנחות עסקה'!$I$70)/365),,'מודל כלכלי'!$C$53)))))*היוון!$C$26)),ROUND('מודל כלכלי'!$C$59*(1+0.02)^7,-4)))*'מודל כלכלי'!$C$14-'מודל כלכלי'!$C$68*(IF('מודל כלכלי'!$C$26="פליפ",((-PV(חישובים!$D$21/12,(('הנחות עסקה'!$D$72*'הנחות עסקה'!$I$70)/365*12),(-FV('מודל כלכלי'!$C$20,(7+(('הנחות עסקה'!$D$71-'הנחות עסקה'!$D$72)*'הנחות עסקה'!$I$70)/365),,'מודל כלכלי'!$C$53))))+((0.07*(ROUND('מודל כלכלי'!$C$59*(1+0.02)^7,-4)))+(0.13*(ROUND('מודל כלכלי'!$C$59*(1+0.02)^7,-4)))+(-PV(חישובים!$D$21,((('הנחות עסקה'!$D$72*'הנחות עסקה'!$I$70)-30)/365),,((0.7*(ROUND('מודל כלכלי'!$C$59*(1+0.02)^7,-4)))+(((('הנחות עסקה'!$D$72*'הנחות עסקה'!$I$70)-30)/365)*חישובים!$D$23*(0.7*(ROUND('מודל כלכלי'!$C$59*(1+0.02)^7,-4)))*0.5))))+(-PV(חישובים!$D$21,(('הנחות עסקה'!$D$72*'הנחות עסקה'!$I$70)/365),,((0.1*(ROUND('מודל כלכלי'!$C$59*(1+0.02)^7,-4)))+((('הנחות עסקה'!$D$72*'הנחות עסקה'!$I$70)/365)*חישובים!$D$23*(0.1*(ROUND('מודל כלכלי'!$C$59*(1+0.02)^7,-4)))*0.5)))))+(-(((0.07*(ROUND('מודל כלכלי'!$C$59*(1+0.02)^7,-4)))+(0.13*(ROUND('מודל כלכלי'!$C$59*(1+0.02)^7,-4)))+(-PV(חישובים!$D$21,((('הנחות עסקה'!$D$72*'הנחות עסקה'!$I$70)-30)/365),,((0.7*(ROUND('מודל כלכלי'!$C$59*(1+0.02)^7,-4)))+(((('הנחות עסקה'!$D$72*'הנחות עסקה'!$I$70)-30)/365)*חישובים!$D$23*(0.7*(ROUND('מודל כלכלי'!$C$59*(1+0.02)^7,-4)))*0.5))))+(-PV(חישובים!$D$21,(('הנחות עסקה'!$D$72*'הנחות עסקה'!$I$70)/365),,((0.1*(ROUND('מודל כלכלי'!$C$59*(1+0.02)^7,-4)))+((('הנחות עסקה'!$D$72*'הנחות עסקה'!$I$70)/365)*חישובים!$D$23*(0.1*(ROUND('מודל כלכלי'!$C$59*(1+0.02)^7,-4)))*0.5)))))+(-PV(חישובים!$D$21/12,(('הנחות עסקה'!$D$72*'הנחות עסקה'!$I$70)/365*12),(-FV('מודל כלכלי'!$C$20,(7+(('הנחות עסקה'!$D$71-'הנחות עסקה'!$D$72)*'הנחות עסקה'!$I$70)/365),,'מודל כלכלי'!$C$53)))))*היוון!$C$26)),ROUND('מודל כלכלי'!$C$59*(1+0.02)^7,-4)))*'מודל כלכלי'!$C$14+'מודל כלכלי'!$C$70,-3))+(ROUND(-FV(חישובים!$D$22,7*12,'מודל כלכלי'!$C$55),-3))+(-'מודל כלכלי'!$C$45)+(-MAX(0,(IF('מודל כלכלי'!$C$26="פליפ",((-PV(חישובים!$D$21/12,(('הנחות עסקה'!$D$72*'הנחות עסקה'!$I$70)/365*12),(-FV('מודל כלכלי'!$C$20,(7+(('הנחות עסקה'!$D$71-'הנחות עסקה'!$D$72)*'הנחות עסקה'!$I$70)/365),,'מודל כלכלי'!$C$53))))+((0.07*(ROUND('מודל כלכלי'!$C$59*(1+0.02)^7,-4)))+(0.13*(ROUND('מודל כלכלי'!$C$59*(1+0.02)^7,-4)))+(-PV(חישובים!$D$21,((('הנחות עסקה'!$D$72*'הנחות עסקה'!$I$70)-30)/365),,((0.7*(ROUND('מודל כלכלי'!$C$59*(1+0.02)^7,-4)))+(((('הנחות עסקה'!$D$72*'הנחות עסקה'!$I$70)-30)/365)*חישובים!$D$23*(0.7*(ROUND('מודל כלכלי'!$C$59*(1+0.02)^7,-4)))*0.5))))+(-PV(חישובים!$D$21,(('הנחות עסקה'!$D$72*'הנחות עסקה'!$I$70)/365),,((0.1*(ROUND('מודל כלכלי'!$C$59*(1+0.02)^7,-4)))+((('הנחות עסקה'!$D$72*'הנחות עסקה'!$I$70)/365)*חישובים!$D$23*(0.1*(ROUND('מודל כלכלי'!$C$59*(1+0.02)^7,-4)))*0.5)))))+(-(((0.07*(ROUND('מודל כלכלי'!$C$59*(1+0.02)^7,-4)))+(0.13*(ROUND('מודל כלכלי'!$C$59*(1+0.02)^7,-4)))+(-PV(חישובים!$D$21,((('הנחות עסקה'!$D$72*'הנחות עסקה'!$I$70)-30)/365),,((0.7*(ROUND('מודל כלכלי'!$C$59*(1+0.02)^7,-4)))+(((('הנחות עסקה'!$D$72*'הנחות עסקה'!$I$70)-30)/365)*חישובים!$D$23*(0.7*(ROUND('מודל כלכלי'!$C$59*(1+0.02)^7,-4)))*0.5))))+(-PV(חישובים!$D$21,(('הנחות עסקה'!$D$72*'הנחות עסקה'!$I$70)/365),,((0.1*(ROUND('מודל כלכלי'!$C$59*(1+0.02)^7,-4)))+((('הנחות עסקה'!$D$72*'הנחות עסקה'!$I$70)/365)*חישובים!$D$23*(0.1*(ROUND('מודל כלכלי'!$C$59*(1+0.02)^7,-4)))*0.5)))))+(-PV(חישובים!$D$21/12,(('הנחות עסקה'!$D$72*'הנחות עסקה'!$I$70)/365*12),(-FV('מודל כלכלי'!$C$20,(7+(('הנחות עסקה'!$D$71-'הנחות עסקה'!$D$72)*'הנחות עסקה'!$I$70)/365),,'מודל כלכלי'!$C$53)))))*היוון!$C$26)),ROUND('מודל כלכלי'!$C$59*(1+0.02)^7,-4)))-(חישובים!$D$28*(1+חישובים!$D$29)^7))*0.25),-4))+'מודל כלכלי'!$C$45)/'מודל כלכלי'!$C$45)^(1/7)-1 -> 0.16583841 | E10: =(((ROUND((IF('מודל כלכלי'!$C$26="פליפ",((-PV(חישובים!$D$21/12,(('הנחות עסקה'!$D$72*'הנחות עסקה'!$I$70)/365*12),(-FV('מודל כלכלי'!$C$20,(8+(('הנחות עסקה'!$D$71-'הנחות עסקה'!$D$72)*'הנחות עסקה'!$I$70)/365),,'מודל כלכלי'!$C$53))))+((0.07*(ROUND('מודל כלכלי'!$C$59*(1+0.02)^8,-4)))+(0.13*(ROUND('מודל כלכלי'!$C$59*(1+0.02)^8,-4)))+(-PV(חישובים!$D$21,((('הנחות עסקה'!$D$72*'הנחות עסקה'!$I$70)-30)/365),,((0.7*(ROUND('מודל כלכלי'!$C$59*(1+0.02)^8,-4)))+(((('הנחות עסקה'!$D$72*'הנחות עסקה'!$I$70)-30)/365)*חישובים!$D$23*(0.7*(ROUND('מודל כלכלי'!$C$59*(1+0.02)^8,-4)))*0.5))))+(-PV(חישובים!$D$21,(('הנחות עסקה'!$D$72*'הנחות עסקה'!$I$70)/365),,((0.1*(ROUND('מודל כלכלי'!$C$59*(1+0.02)^8,-4)))+((('הנחות עסקה'!$D$72*'הנחות עסקה'!$I$70)/365)*חישובים!$D$23*(0.1*(ROUND('מודל כלכלי'!$C$59*(1+0.02)^8,-4)))*0.5)))))+(-(((0.07*(ROUND('מודל כלכלי'!$C$59*(1+0.02)^8,-4)))+(0.13*(ROUND('מודל כלכלי'!$C$59*(1+0.02)^8,-4)))+(-PV(חישובים!$D$21,((('הנחות עסקה'!$D$72*'הנחות עסקה'!$I$70)-30)/365),,((0.7*(ROUND('מודל כלכלי'!$C$59*(1+0.02)^8,-4)))+(((('הנחות עסקה'!$D$72*'הנחות עסקה'!$I$70)-30)/365)*חישובים!$D$23*(0.7*(ROUND('מודל כלכלי'!$C$59*(1+0.02)^8,-4)))*0.5))))+(-PV(חישובים!$D$21,(('הנחות עסקה'!$D$72*'הנחות עסקה'!$I$70)/365),,((0.1*(ROUND('מודל כלכלי'!$C$59*(1+0.02)^8,-4)))+((('הנחות עסקה'!$D$72*'הנחות עסקה'!$I$70)/365)*חישובים!$D$23*(0.1*(ROUND('מודל כלכלי'!$C$59*(1+0.02)^8,-4)))*0.5)))))+(-PV(חישובים!$D$21/12,(('הנחות עסקה'!$D$72*'הנחות עסקה'!$I$70)/365*12),(-FV('מודל כלכלי'!$C$20,(8+(('הנחות עסקה'!$D$71-'הנחות עסקה'!$D$72)*'הנחות עסקה'!$I$70)/365),,'מודל כלכלי'!$C$53)))))*היוון!$C$26)),ROUND('מודל כלכלי'!$C$59*(1+0.02)^8,-4)))+(ROUND(FV('מודל כלכלי'!$C$17/12,8*12,'מודל כלכלי'!$C$48,'מודל כלכלי'!$C$46),-4))+(ROUND(-'מודל כלכלי'!$C$66*(IF('מודל כלכלי'!$C$26="פליפ",((-PV(חישובים!$D$21/12,(('הנחות עסקה'!$D$72*'הנחות עסקה'!$I$70)/365*12),(-FV('מודל כלכלי'!$C$20,(8+(('הנחות עסקה'!$D$71-'הנחות עסקה'!$D$72)*'הנחות עסקה'!$I$70)/365),,'מודל כלכלי'!$C$53))))+((0.07*(ROUND('מודל כלכלי'!$C$59*(1+0.02)^8,-4)))+(0.13*(ROUND('מודל כלכלי'!$C$59*(1+0.02)^8,-4)))+(-PV(חישובים!$D$21,((('הנחות עסקה'!$D$72*'הנחות עסקה'!$I$70)-30)/365),,((0.7*(ROUND('מודל כלכלי'!$C$59*(1+0.02)^8,-4)))+(((('הנחות עסקה'!$D$72*'הנחות עסקה'!$I$70)-30)/365)*חישובים!$D$23*(0.7*(ROUND('מודל כלכלי'!$C$59*(1+0.02)^8,-4)))*0.5))))+(-PV(חישובים!$D$21,(('הנחות עסקה'!$D$72*'הנחות עסקה'!$I$70)/365),,((0.1*(ROUND('מודל כלכלי'!$C$59*(1+0.02)^8,-4)))+((('הנחות עסקה'!$D$72*'הנחות עסקה'!$I$70)/365)*חישובים!$D$23*(0.1*(ROUND('מודל כלכלי'!$C$59*(1+0.02)^8,-4)))*0.5)))))+(-(((0.07*(ROUND('מודל כלכלי'!$C$59*(1+0.02)^8,-4)))+(0.13*(ROUND('מודל כלכלי'!$C$59*(1+0.02)^8,-4)))+(-PV(חישובים!$D$21,((('הנחות עסקה'!$D$72*'הנחות עסקה'!$I$70)-30)/365),,((0.7*(ROUND('מודל כלכלי'!$C$59*(1+0.02)^8,-4)))+(((('הנחות עסקה'!$D$72*'הנחות עסקה'!$I$70)-30)/365)*חישובים!$D$23*(0.7*(ROUND('מודל כלכלי'!$C$59*(1+0.02)^8,-4)))*0.5))))+(-PV(חישובים!$D$21,(('הנחות עסקה'!$D$72*'הנחות עסקה'!$I$70)/365),,((0.1*(ROUND('מודל כלכלי'!$C$59*(1+0.02)^8,-4)))+((('הנחות עסקה'!$D$72*'הנחות עסקה'!$I$70)/365)*חישובים!$D$23*(0.1*(ROUND('מודל כלכלי'!$C$59*(1+0.02)^8,-4)))*0.5)))))+(-PV(חישובים!$D$21/12,(('הנחות עסקה'!$D$72*'הנחות עסקה'!$I$70)/365*12),(-FV('מודל כלכלי'!$C$20,(8+(('הנחות עסקה'!$D$71-'הנחות עסקה'!$D$72)*'הנחות עסקה'!$I$70)/365),,'מודל כלכלי'!$C$53)))))*היוון!$C$26)),ROUND('מודל כלכלי'!$C$59*(1+0.02)^8,-4)))*'מודל כלכלי'!$C$14-'מודל כלכלי'!$C$68*(IF('מודל כלכלי'!$C$26="פליפ",((-PV(חישובים!$D$21/12,(('הנחות עסקה'!$D$72*'הנחות עסקה'!$I$70)/365*12),(-FV('מודל כלכלי'!$C$20,(8+(('הנחות עסקה'!$D$71-'הנחות עסקה'!$D$72)*'הנחות עסקה'!$I$70)/365),,'מודל כלכלי'!$C$53))))+((0.07*(ROUND('מודל כלכלי'!$C$59*(1+0.02)^8,-4)))+(0.13*(ROUND('מודל כלכלי'!$C$59*(1+0.02)^8,-4)))+(-PV(חישובים!$D$21,((('הנחות עסקה'!$D$72*'הנחות עסקה'!$I$70)-30)/365),,((0.7*(ROUND('מודל כלכלי'!$C$59*(1+0.02)^8,-4)))+(((('הנחות עסקה'!$D$72*'הנחות עסקה'!$I$70)-30)/365)*חישובים!$D$23*(0.7*(ROUND('מודל כלכלי'!$C$59*(1+0.02)^8,-4)))*0.5))))+(-PV(חישובים!$D$21,(('הנחות עסקה'!$D$72*'הנחות עסקה'!$I$70)/365),,((0.1*(ROUND('מודל כלכלי'!$C$59*(1+0.02)^8,-4)))+((('הנחות עסקה'!$D$72*'הנחות עסקה'!$I$70)/365)*חישובים!$D$23*(0.1*(ROUND('מודל כלכלי'!$C$59*(1+0.02)^8,-4)))*0.5)))))+(-(((0.07*(ROUND('מודל כלכלי'!$C$59*(1+0.02)^8,-4)))+(0.13*(ROUND('מודל כלכלי'!$C$59*(1+0.02)^8,-4)))+(-PV(חישובים!$D$21,((('הנחות עסקה'!$D$72*'הנחות עסקה'!$I$70)-30)/365),,((0.7*(ROUND('מודל כלכלי'!$C$59*(1+0.02)^8,-4)))+(((('הנחות עסקה'!$D$72*'הנחות עסקה'!$I$70)-30)/365)*חישובים!$D$23*(0.7*(ROUND('מודל כלכלי'!$C$59*(1+0.02)^8,-4)))*0.5))))+(-PV(חישובים!$D$21,(('הנחות עסקה'!$D$72*'הנחות עסקה'!$I$70)/365),,((0.1*(ROUND('מודל כלכלי'!$C$59*(1+0.02)^8,-4)))+((('הנחות עסקה'!$D$72*'הנחות עסקה'!$I$70)/365)*חישובים!$D$23*(0.1*(ROUND('מודל כלכלי'!$C$59*(1+0.02)^8,-4)))*0.5)))))+(-PV(חישובים!$D$21/12,(('הנחות עסקה'!$D$72*'הנחות עסקה'!$I$70)/365*12),(-FV('מודל כלכלי'!$C$20,(8+(('הנחות עסקה'!$D$71-'הנחות עסקה'!$D$72)*'הנחות עסקה'!$I$70)/365),,'מודל כלכלי'!$C$53)))))*היוון!$C$26)),ROUND('מודל כלכלי'!$C$59*(1+0.02)^8,-4)))*'מודל כלכלי'!$C$14+'מודל כלכלי'!$C$70,-3))+(ROUND(-FV(חישובים!$D$22,8*12,'מודל כלכלי'!$C$55),-3))+(-'מודל כלכלי'!$C$45)+(-MAX(0,(IF('מודל כלכלי'!$C$26="פליפ",((-PV(חישובים!$D$21/12,(('הנחות עסקה'!$D$72*'הנחות עסקה'!$I$70)/365*12),(-FV('מודל כלכלי'!$C$20,(8+(('הנחות עסקה'!$D$71-'הנחות עסקה'!$D$72)*'הנחות עסקה'!$I$70)/365),,'מודל כלכלי'!$C$53))))+((0.07*(ROUND('מודל כלכלי'!$C$59*(1+0.02)^8,-4)))+(0.13*(ROUND('מודל כלכלי'!$C$59*(1+0.02)^8,-4)))+(-PV(חישובים!$D$21,((('הנחות עסקה'!$D$72*'הנחות עסקה'!$I$70)-30)/365),,((0.7*(ROUND('מודל כלכלי'!$C$59*(1+0.02)^8,-4)))+(((('הנחות עסקה'!$D$72*'הנחות עסקה'!$I$70)-30)/365)*חישובים!$D$23*(0.7*(ROUND('מודל כלכלי'!$C$59*(1+0.02)^8,-4)))*0.5))))+(-PV(חישובים!$D$21,(('הנחות עסקה'!$D$72*'הנחות עסקה'!$I$70)/365),,((0.1*(ROUND('מודל כלכלי'!$C$59*(1+0.02)^8,-4)))+((('הנחות עסקה'!$D$72*'הנחות עסקה'!$I$70)/365)*חישובים!$D$23*(0.1*(ROUND('מודל כלכלי'!$C$59*(1+0.02)^8,-4)))*0.5)))))+(-(((0.07*(ROUND('מודל כלכלי'!$C$59*(1+0.02)^8,-4)))+(0.13*(ROUND('מודל כלכלי'!$C$59*(1+0.02)^8,-4)))+(-PV(חישובים!$D$21,((('הנחות עסקה'!$D$72*'הנחות עסקה'!$I$70)-30)/365),,((0.7*(ROUND('מודל כלכלי'!$C$59*(1+0.02)^8,-4)))+(((('הנחות עסקה'!$D$72*'הנחות עסקה'!$I$70)-30)/365)*חישובים!$D$23*(0.7*(ROUND('מודל כלכלי'!$C$59*(1+0.02)^8,-4)))*0.5))))+(-PV(חישובים!$D$21,(('הנחות עסקה'!$D$72*'הנחות עסקה'!$I$70)/365),,((0.1*(ROUND('מודל כלכלי'!$C$59*(1+0.02)^8,-4)))+((('הנחות עסקה'!$D$72*'הנחות עסקה'!$I$70)/365)*חישובים!$D$23*(0.1*(ROUND('מודל כלכלי'!$C$59*(1+0.02)^8,-4)))*0.5)))))+(-PV(חישובים!$D$21/12,(('הנחות עסקה'!$D$72*'הנחות עסקה'!$I$70)/365*12),(-FV('מודל כלכלי'!$C$20,(8+(('הנחות עסקה'!$D$71-'הנחות עסקה'!$D$72)*'הנחות עסקה'!$I$70)/365),,'מודל כלכלי'!$C$53)))))*היוון!$C$26)),ROUND('מודל כלכלי'!$C$59*(1+0.02)^8,-4)))-(חישובים!$D$28*(1+חישובים!$D$29)^8))*0.25),-4))+'מודל כלכלי'!$C$45)/'מודל כלכלי'!$C$45)^(1/8)-1 -> 0.14662862 | F10: =(((ROUND((IF('מודל כלכלי'!$C$26="פליפ",((-PV(חישובים!$D$21/12,(('הנחות עסקה'!$D$72*'הנחות עסקה'!$I$70)/365*12),(-FV('מודל כלכלי'!$C$20,(9+(('הנחות עסקה'!$D$71-'הנחות עסקה'!$D$72)*'הנחות עסקה'!$I$70)/365),,'מודל כלכלי'!$C$53))))+((0.07*(ROUND('מודל כלכלי'!$C$59*(1+0.02)^9,-4)))+(0.13*(ROUND('מודל כלכלי'!$C$59*(1+0.02)^9,-4)))+(-PV(חישובים!$D$21,((('הנחות עסקה'!$D$72*'הנחות עסקה'!$I$70)-30)/365),,((0.7*(ROUND('מודל כלכלי'!$C$59*(1+0.02)^9,-4)))+(((('הנחות עסקה'!$D$72*'הנחות עסקה'!$I$70)-30)/365)*חישובים!$D$23*(0.7*(ROUND('מודל כלכלי'!$C$59*(1+0.02)^9,-4)))*0.5))))+(-PV(חישובים!$D$21,(('הנחות עסקה'!$D$72*'הנחות עסקה'!$I$70)/365),,((0.1*(ROUND('מודל כלכלי'!$C$59*(1+0.02)^9,-4)))+((('הנחות עסקה'!$D$72*'הנחות עסקה'!$I$70)/365)*חישובים!$D$23*(0.1*(ROUND('מודל כלכלי'!$C$59*(1+0.02)^9,-4)))*0.5)))))+(-(((0.07*(ROUND('מודל כלכלי'!$C$59*(1+0.02)^9,-4)))+(0.13*(ROUND('מודל כלכלי'!$C$59*(1+0.02)^9,-4)))+(-PV(חישובים!$D$21,((('הנחות עסקה'!$D$72*'הנחות עסקה'!$I$70)-30)/365),,((0.7*(ROUND('מודל כלכלי'!$C$59*(1+0.02)^9,-4)))+(((('הנחות עסקה'!$D$72*'הנחות עסקה'!$I$70)-30)/365)*חישובים!$D$23*(0.7*(ROUND('מודל כלכלי'!$C$59*(1+0.02)^9,-4)))*0.5))))+(-PV(חישובים!$D$21,(('הנחות עסקה'!$D$72*'הנחות עסקה'!$I$70)/365),,((0.1*(ROUND('מודל כלכלי'!$C$59*(1+0.02)^9,-4)))+((('הנחות עסקה'!$D$72*'הנחות עסקה'!$I$70)/365)*חישובים!$D$23*(0.1*(ROUND('מודל כלכלי'!$C$59*(1+0.02)^9,-4)))*0.5)))))+(-PV(חישובים!$D$21/12,(('הנחות עסקה'!$D$72*'הנחות עסקה'!$I$70)/365*12),(-FV('מודל כלכלי'!$C$20,(9+(('הנחות עסקה'!$D$71-'הנחות עסקה'!$D$72)*'הנחות עסקה'!$I$70)/365),,'מודל כלכלי'!$C$53)))))*היוון!$C$26)),ROUND('מודל כלכלי'!$C$59*(1+0.02)^9,-4)))+(ROUND(FV('מודל כלכלי'!$C$17/12,9*12,'מודל כלכלי'!$C$48,'מודל כלכלי'!$C$46),-4))+(ROUND(-'מודל כלכלי'!$C$66*(IF('מודל כלכלי'!$C$26="פליפ",((-PV(חישובים!$D$21/12,(('הנחות עסקה'!$D$72*'הנחות עסקה'!$I$70)/365*12),(-FV('מודל כלכלי'!$C$20,(9+(('הנחות עסקה'!$D$71-'הנחות עסקה'!$D$72)*'הנחות עסקה'!$I$70)/365),,'מודל כלכלי'!$C$53))))+((0.07*(ROUND('מודל כלכלי'!$C$59*(1+0.02)^9,-4)))+(0.13*(ROUND('מודל כלכלי'!$C$59*(1+0.02)^9,-4)))+(-PV(חישובים!$D$21,((('הנחות עסקה'!$D$72*'הנחות עסקה'!$I$70)-30)/365),,((0.7*(ROUND('מודל כלכלי'!$C$59*(1+0.02)^9,-4)))+(((('הנחות עסקה'!$D$72*'הנחות עסקה'!$I$70)-30)/365)*חישובים!$D$23*(0.7*(ROUND('מודל כלכלי'!$C$59*(1+0.02)^9,-4)))*0.5))))+(-PV(חישובים!$D$21,(('הנחות עסקה'!$D$72*'הנחות עסקה'!$I$70)/365),,((0.1*(ROUND('מודל כלכלי'!$C$59*(1+0.02)^9,-4)))+((('הנחות עסקה'!$D$72*'הנחות עסקה'!$I$70)/365)*חישובים!$D$23*(0.1*(ROUND('מודל כלכלי'!$C$59*(1+0.02)^9,-4)))*0.5)))))+(-(((0.07*(ROUND('מודל כלכלי'!$C$59*(1+0.02)^9,-4)))+(0.13*(ROUND('מודל כלכלי'!$C$59*(1+0.02)^9,-4)))+(-PV(חישובים!$D$21,((('הנחות עסקה'!$D$72*'הנחות עסקה'!$I$70)-30)/365),,((0.7*(ROUND('מודל כלכלי'!$C$59*(1+0.02)^9,-4)))+(((('הנחות עסקה'!$D$72*'הנחות עסקה'!$I$70)-30)/365)*חישובים!$D$23*(0.7*(ROUND('מודל כלכלי'!$C$59*(1+0.02)^9,-4)))*0.5))))+(-PV(חישובים!$D$21,(('הנחות עסקה'!$D$72*'הנחות עסקה'!$I$70)/365),,((0.1*(ROUND('מודל כלכלי'!$C$59*(1+0.02)^9,-4)))+((('הנחות עסקה'!$D$72*'הנחות עסקה'!$I$70)/365)*חישובים!$D$23*(0.1*(ROUND('מודל כלכלי'!$C$59*(1+0.02)^9,-4)))*0.5)))))+(-PV(חישובים!$D$21/12,(('הנחות עסקה'!$D$72*'הנחות עסקה'!$I$70)/365*12),(-FV('מודל כלכלי'!$C$20,(9+(('הנחות עסקה'!$D$71-'הנחות עסקה'!$D$72)*'הנחות עסקה'!$I$70)/365),,'מודל כלכלי'!$C$53)))))*היוון!$C$26)),ROUND('מודל כלכלי'!$C$59*(1+0.02)^9,-4)))*'מודל כלכלי'!$C$14-'מודל כלכלי'!$C$68*(IF('מודל כלכלי'!$C$26="פליפ",((-PV(חישובים!$D$21/12,(('הנחות עסקה'!$D$72*'הנחות עסקה'!$I$70)/365*12),(-FV('מודל כלכלי'!$C$20,(9+(('הנחות עסקה'!$D$71-'הנחות עסקה'!$D$72)*'הנחות עסקה'!$I$70)/365),,'מודל כלכלי'!$C$53))))+((0.07*(ROUND('מודל כלכלי'!$C$59*(1+0.02)^9,-4)))+(0.13*(ROUND('מודל כלכלי'!$C$59*(1+0.02)^9,-4)))+(-PV(חישובים!$D$21,((('הנחות עסקה'!$D$72*'הנחות עסקה'!$I$70)-30)/365),,((0.7*(ROUND('מודל כלכלי'!$C$59*(1+0.02)^9,-4)))+(((('הנחות עסקה'!$D$72*'הנחות עסקה'!$I$70)-30)/365)*חישובים!$D$23*(0.7*(ROUND('מודל כלכלי'!$C$59*(1+0.02)^9,-4)))*0.5))))+(-PV(חישובים!$D$21,(('הנחות עסקה'!$D$72*'הנחות עסקה'!$I$70)/365),,((0.1*(ROUND('מודל כלכלי'!$C$59*(1+0.02)^9,-4)))+((('הנחות עסקה'!$D$72*'הנחות עסקה'!$I$70)/365)*חישובים!$D$23*(0.1*(ROUND('מודל כלכלי'!$C$59*(1+0.02)^9,-4)))*0.5)))))+(-(((0.07*(ROUND('מודל כלכלי'!$C$59*(1+0.02)^9,-4)))+(0.13*(ROUND('מודל כלכלי'!$C$59*(1+0.02)^9,-4)))+(-PV(חישובים!$D$21,((('הנחות עסקה'!$D$72*'הנחות עסקה'!$I$70)-30)/365),,((0.7*(ROUND('מודל כלכלי'!$C$59*(1+0.02)^9,-4)))+(((('הנחות עסקה'!$D$72*'הנחות עסקה'!$I$70)-30)/365)*חישובים!$D$23*(0.7*(ROUND('מודל כלכלי'!$C$59*(1+0.02)^9,-4)))*0.5))))+(-PV(חישובים!$D$21,(('הנחות עסקה'!$D$72*'הנחות עסקה'!$I$70)/365),,((0.1*(ROUND('מודל כלכלי'!$C$59*(1+0.02)^9,-4)))+((('הנחות עסקה'!$D$72*'הנחות עסקה'!$I$70)/365)*חישובים!$D$23*(0.1*(ROUND('מודל כלכלי'!$C$59*(1+0.02)^9,-4)))*0.5)))))+(-PV(חישובים!$D$21/12,(('הנחות עסקה'!$D$72*'הנחות עסקה'!$I$70)/365*12),(-FV('מודל כלכלי'!$C$20,(9+(('הנחות עסקה'!$D$71-'הנחות עסקה'!$D$72)*'הנחות עסקה'!$I$70)/365),,'מודל כלכלי'!$C$53)))))*היוון!$C$26)),ROUND('מודל כלכלי'!$C$59*(1+0.02)^9,-4)))*'מודל כלכלי'!$C$14+'מודל כלכלי'!$C$70,-3))+(ROUND(-FV(חישובים!$D$22,9*12,'מודל כלכלי'!$C$55),-3))+(-'מודל כלכלי'!$C$45)+(-MAX(0,(IF('מודל כלכלי'!$C$26="פליפ",((-PV(חישובים!$D$21/12,(('הנחות עסקה'!$D$72*'הנחות עסקה'!$I$70)/365*12),(-FV('מודל כלכלי'!$C$20,(9+(('הנחות עסקה'!$D$71-'הנחות עסקה'!$D$72)*'הנחות עסקה'!$I$70)/365),,'מודל כלכלי'!$C$53))))+((0.07*(ROUND('מודל כלכלי'!$C$59*(1+0.02)^9,-4)))+(0.13*(ROUND('מודל כלכלי'!$C$59*(1+0.02)^9,-4)))+(-PV(חישובים!$D$21,((('הנחות עסקה'!$D$72*'הנחות עסקה'!$I$70)-30)/365),,((0.7*(ROUND('מודל כלכלי'!$C$59*(1+0.02)^9,-4)))+(((('הנחות עסקה'!$D$72*'הנחות עסקה'!$I$70)-30)/365)*חישובים!$D$23*(0.7*(ROUND('מודל כלכלי'!$C$59*(1+0.02)^9,-4)))*0.5))))+(-PV(חישובים!$D$21,(('הנחות עסקה'!$D$72*'הנחות עסקה'!$I$70)/365),,((0.1*(ROUND('מודל כלכלי'!$C$59*(1+0.02)^9,-4)))+((('הנחות עסקה'!$D$72*'הנחות עסקה'!$I$70)/365)*חישובים!$D$23*(0.1*(ROUND('מודל כלכלי'!$C$59*(1+0.02)^9,-4)))*0.5)))))+(-(((0.07*(ROUND('מודל כלכלי'!$C$59*(1+0.02)^9,-4)))+(0.13*(ROUND('מודל כלכלי'!$C$59*(1+0.02)^9,-4)))+(-PV(חישובים!$D$21,((('הנחות עסקה'!$D$72*'הנחות עסקה'!$I$70)-30)/365),,((0.7*(ROUND('מודל כלכלי'!$C$59*(1+0.02)^9,-4)))+(((('הנחות עסקה'!$D$72*'הנחות עסקה'!$I$70)-30)/365)*חישובים!$D$23*(0.7*(ROUND('מודל כלכלי'!$C$59*(1+0.02)^9,-4)))*0.5))))+(-PV(חישובים!$D$21,(('הנחות עסקה'!$D$72*'הנחות עסקה'!$I$70)/365),,((0.1*(ROUND('מודל כלכלי'!$C$59*(1+0.02)^9,-4)))+((('הנחות עסקה'!$D$72*'הנחות עסקה'!$I$70)/365)*חישובים!$D$23*(0.1*(ROUND('מודל כלכלי'!$C$59*(1+0.02)^9,-4)))*0.5)))))+(-PV(חישובים!$D$21/12,(('הנחות עסקה'!$D$72*'הנחות עסקה'!$I$70)/365*12),(-FV('מודל כלכלי'!$C$20,(9+(('הנחות עסקה'!$D$71-'הנחות עסקה'!$D$72)*'הנחות עסקה'!$I$70)/365),,'מודל כלכלי'!$C$53)))))*היוון!$C$26)),ROUND('מודל כלכלי'!$C$59*(1+0.02)^9,-4)))-(חישובים!$D$28*(1+חישובים!$D$29)^9))*0.25),-4))+'מודל כלכלי'!$C$45)/'מודל כלכלי'!$C$45)^(1/9)-1 -> 0.13310137 | G10: =(((ROUND((IF('מודל כלכלי'!$C$26="פליפ",((-PV(חישובים!$D$21/12,(('הנחות עסקה'!$D$72*'הנחות עסקה'!$I$70)/365*12),(-FV('מודל כלכלי'!$C$20,(10+(('הנחות עסקה'!$D$71-'הנחות עסקה'!$D$72)*'הנחות עסקה'!$I$70)/365),,'מודל כלכלי'!$C$53))))+((0.07*(ROUND('מודל כלכלי'!$C$59*(1+0.02)^10,-4)))+(0.13*(ROUND('מודל כלכלי'!$C$59*(1+0.02)^10,-4)))+(-PV(חישובים!$D$21,((('הנחות עסקה'!$D$72*'הנחות עסקה'!$I$70)-30)/365),,((0.7*(ROUND('מודל כלכלי'!$C$59*(1+0.02)^10,-4)))+(((('הנחות עסקה'!$D$72*'הנחות עסקה'!$I$70)-30)/365)*חישובים!$D$23*(0.7*(ROUND('מודל כלכלי'!$C$59*(1+0.02)^10,-4)))*0.5))))+(-PV(חישובים!$D$21,(('הנחות עסקה'!$D$72*'הנחות עסקה'!$I$70)/365),,((0.1*(ROUND('מודל כלכלי'!$C$59*(1+0.02)^10,-4)))+((('הנחות עסקה'!$D$72*'הנחות עסקה'!$I$70)/365)*חישובים!$D$23*(0.1*(ROUND('מודל כלכלי'!$C$59*(1+0.02)^10,-4)))*0.5)))))+(-(((0.07*(ROUND('מודל כלכלי'!$C$59*(1+0.02)^10,-4)))+(0.13*(ROUND('מודל כלכלי'!$C$59*(1+0.02)^10,-4)))+(-PV(חישובים!$D$21,((('הנחות עסקה'!$D$72*'הנחות עסקה'!$I$70)-30)/365),,((0.7*(ROUND('מודל כלכלי'!$C$59*(1+0.02)^10,-4)))+(((('הנחות עסקה'!$D$72*'הנחות עסקה'!$I$70)-30)/365)*חישובים!$D$23*(0.7*(ROUND('מודל כלכלי'!$C$59*(1+0.02)^10,-4)))*0.5))))+(-PV(חישובים!$D$21,(('הנחות עסקה'!$D$72*'הנחות עסקה'!$I$70)/365),,((0.1*(ROUND('מודל כלכלי'!$C$59*(1+0.02)^10,-4)))+((('הנחות עסקה'!$D$72*'הנחות עסקה'!$I$70)/365)*חישובים!$D$23*(0.1*(ROUND('מודל כלכלי'!$C$59*(1+0.02)^10,-4)))*0.5)))))+(-PV(חישובים!$D$21/12,(('הנחות עסקה'!$D$72*'הנחות עסקה'!$I$70)/365*12),(-FV('מודל כלכלי'!$C$20,(10+(('הנחות עסקה'!$D$71-'הנחות עסקה'!$D$72)*'הנחות עסקה'!$I$70)/365),,'מודל כלכלי'!$C$53)))))*היוון!$C$26)),ROUND('מודל כלכלי'!$C$59*(1+0.02)^10,-4)))+(ROUND(FV('מודל כלכלי'!$C$17/12,10*12,'מודל כלכלי'!$C$48,'מודל כלכלי'!$C$46),-4))+(ROUND(-'מודל כלכלי'!$C$66*(IF('מודל כלכלי'!$C$26="פליפ",((-PV(חישובים!$D$21/12,(('הנחות עסקה'!$D$72*'הנחות עסקה'!$I$70)/365*12),(-FV('מודל כלכלי'!$C$20,(10+(('הנחות עסקה'!$D$71-'הנחות עסקה'!$D$72)*'הנחות עסקה'!$I$70)/365),,'מודל כלכלי'!$C$53))))+((0.07*(ROUND('מודל כלכלי'!$C$59*(1+0.02)^10,-4)))+(0.13*(ROUND('מודל כלכלי'!$C$59*(1+0.02)^10,-4)))+(-PV(חישובים!$D$21,((('הנחות עסקה'!$D$72*'הנחות עסקה'!$I$70)-30)/365),,((0.7*(ROUND('מודל כלכלי'!$C$59*(1+0.02)^10,-4)))+(((('הנחות עסקה'!$D$72*'הנחות עסקה'!$I$70)-30)/365)*חישובים!$D$23*(0.7*(ROUND('מודל כלכלי'!$C$59*(1+0.02)^10,-4)))*0.5))))+(-PV(חישובים!$D$21,(('הנחות עסקה'!$D$72*'הנחות עסקה'!$I$70)/365),,((0.1*(ROUND('מודל כלכלי'!$C$59*(1+0.02)^10,-4)))+((('הנחות עסקה'!$D$72*'הנחות עסקה'!$I$70)/365)*חישובים!$D$23*(0.1*(ROUND('מודל כלכלי'!$C$59*(1+0.02)^10,-4)))*0.5)))))+(-(((0.07*(ROUND('מודל כלכלי'!$C$59*(1+0.02)^10,-4)))+(0.13*(ROUND('מודל כלכלי'!$C$59*(1+0.02)^10,-4)))+(-PV(חישובים!$D$21,((('הנחות עסקה'!$D$72*'הנחות עסקה'!$I$70)-30)/365),,((0.7*(ROUND('מודל כלכלי'!$C$59*(1+0.02)^10,-4)))+(((('הנחות עסקה'!$D$72*'הנחות עסקה'!$I$70)-30)/365)*חישובים!$D$23*(0.7*(ROUND('מודל כלכלי'!$C$59*(1+0.02)^10,-4)))*0.5))))+(-PV(חישובים!$D$21,(('הנחות עסקה'!$D$72*'הנחות עסקה'!$I$70)/365),,((0.1*(ROUND('מודל כלכלי'!$C$59*(1+0.02)^10,-4)))+((('הנחות עסקה'!$D$72*'הנחות עסקה'!$I$70)/365)*חישובים!$D$23*(0.1*(ROUND('מודל כלכלי'!$C$59*(1+0.02)^10,-4)))*0.5)))))+(-PV(חישובים!$D$21/12,(('הנחות עסקה'!$D$72*'הנחות עסקה'!$I$70)/365*12),(-FV('מודל כלכלי'!$C$20,(10+(('הנחות עסקה'!$D$71-'הנחות עסקה'!$D$72)*'הנחות עסקה'!$I$70)/365),,'מודל כלכלי'!$C$53)))))*היוון!$C$26)),ROUND('מודל כלכלי'!$C$59*(1+0.02)^10,-4)))*'מודל כלכלי'!$C$14-'מודל כלכלי'!$C$68*(IF('מודל כלכלי'!$C$26="פליפ",((-PV(חישובים!$D$21/12,(('הנחות עסקה'!$D$72*'הנחות עסקה'!$I$70)/365*12),(-FV('מודל כלכלי'!$C$20,(10+(('הנחות עסקה'!$D$71-'הנחות עסקה'!$D$72)*'הנחות עסקה'!$I$70)/365),,'מודל כלכלי'!$C$53))))+((0.07*(ROUND('מודל כלכלי'!$C$59*(1+0.02)^10,-4)))+(0.13*(ROUND('מודל כלכלי'!$C$59*(1+0.02)^10,-4)))+(-PV(חישובים!$D$21,((('הנחות עסקה'!$D$72*'הנחות עסקה'!$I$70)-30)/365),,((0.7*(ROUND('מודל כלכלי'!$C$59*(1+0.02)^10,-4)))+(((('הנחות עסקה'!$D$72*'הנחות עסקה'!$I$70)-30)/365)*חישובים!$D$23*(0.7*(ROUND('מודל כלכלי'!$C$59*(1+0.02)^10,-4)))*0.5))))+(-PV(חישובים!$D$21,(('הנחות עסקה'!$D$72*'הנחות עסקה'!$I$70)/365),,((0.1*(ROUND('מודל כלכלי'!$C$59*(1+0.02)^10,-4)))+((('הנחות עסקה'!$D$72*'הנחות עסקה'!$I$70)/365)*חישובים!$D$23*(0.1*(ROUND('מודל כלכלי'!$C$59*(1+0.02)^10,-4)))*0.5)))))+(-(((0.07*(ROUND('מודל כלכלי'!$C$59*(1+0.02)^10,-4)))+(0.13*(ROUND('מודל כלכלי'!$C$59*(1+0.02)^10,-4)))+(-PV(חישובים!$D$21,((('הנחות עסקה'!$D$72*'הנחות עסקה'!$I$70)-30)/365),,((0.7*(ROUND('מודל כלכלי'!$C$59*(1+0.02)^10,-4)))+(((('הנחות עסקה'!$D$72*'הנחות עסקה'!$I$70)-30)/365)*חישובים!$D$23*(0.7*(ROUND('מודל כלכלי'!$C$59*(1+0.02)^10,-4)))*0.5))))+(-PV(חישובים!$D$21,(('הנחות עסקה'!$D$72*'הנחות עסקה'!$I$70)/365),,((0.1*(ROUND('מודל כלכלי'!$C$59*(1+0.02)^10,-4)))+((('הנחות עסקה'!$D$72*'הנחות עסקה'!$I$70)/365)*חישובים!$D$23*(0.1*(ROUND('מודל כלכלי'!$C$59*(1+0.02)^10,-4)))*0.5)))))+(-PV(חישובים!$D$21/12,(('הנחות עסקה'!$D$72*'הנחות עסקה'!$I$70)/365*12),(-FV('מודל כלכלי'!$C$20,(10+(('הנחות עסקה'!$D$71-'הנחות עסקה'!$D$72)*'הנחות עסקה'!$I$70)/365),,'מודל כלכלי'!$C$53)))))*היוון!$C$26)),ROUND('מודל כלכלי'!$C$59*(1+0.02)^10,-4)))*'מודל כלכלי'!$C$14+'מודל כלכלי'!$C$70,-3))+(ROUND(-FV(חישובים!$D$22,10*12,'מודל כלכלי'!$C$55),-3))+(-'מודל כלכלי'!$C$45)+(-MAX(0,(IF('מודל כלכלי'!$C$26="פליפ",((-PV(חישובים!$D$21/12,(('הנחות עסקה'!$D$72*'הנחות עסקה'!$I$70)/365*12),(-FV('מודל כלכלי'!$C$20,(10+(('הנחות עסקה'!$D$71-'הנחות עסקה'!$D$72)*'הנחות עסקה'!$I$70)/365),,'מודל כלכלי'!$C$53))))+((0.07*(ROUND('מודל כלכלי'!$C$59*(1+0.02)^10,-4)))+(0.13*(ROUND('מודל כלכלי'!$C$59*(1+0.02)^10,-4)))+(-PV(חישובים!$D$21,((('הנחות עסקה'!$D$72*'הנחות עסקה'!$I$70)-30)/365),,((0.7*(ROUND('מודל כלכלי'!$C$59*(1+0.02)^10,-4)))+(((('הנחות עסקה'!$D$72*'הנחות עסקה'!$I$70)-30)/365)*חישובים!$D$23*(0.7*(ROUND('מודל כלכלי'!$C$59*(1+0.02)^10,-4)))*0.5))))+(-PV(חישובים!$D$21,(('הנחות עסקה'!$D$72*'הנחות עסקה'!$I$70)/365),,((0.1*(ROUND('מודל כלכלי'!$C$59*(1+0.02)^10,-4)))+((('הנחות עסקה'!$D$72*'הנחות עסקה'!$I$70)/365)*חישובים!$D$23*(0.1*(ROUND('מודל כלכלי'!$C$59*(1+0.02)^10,-4)))*0.5)))))+(-(((0.07*(ROUND('מודל כלכלי'!$C$59*(1+0.02)^10,-4)))+(0.13*(ROUND('מודל כלכלי'!$C$59*(1+0.02)^10,-4)))+(-PV(חישובים!$D$21,((('הנחות עסקה'!$D$72*'הנחות עסקה'!$I$70)-30)/365),,((0.7*(ROUND('מודל כלכלי'!$C$59*(1+0.02)^10,-4)))+(((('הנחות עסקה'!$D$72*'הנחות עסקה'!$I$70)-30)/365)*חישובים!$D$23*(0.7*(ROUND('מודל כלכלי'!$C$59*(1+0.02)^10,-4)))*0.5))))+(-PV(חישובים!$D$21,(('הנחות עסקה'!$D$72*'הנחות עסקה'!$I$70)/365),,((0.1*(ROUND('מודל כלכלי'!$C$59*(1+0.02)^10,-4)))+((('הנחות עסקה'!$D$72*'הנחות עסקה'!$I$70)/365)*חישובים!$D$23*(0.1*(ROUND('מודל כלכלי'!$C$59*(1+0.02)^10,-4)))*0.5)))))+(-PV(חישובים!$D$21/12,(('הנחות עסקה'!$D$72*'הנחות עסקה'!$I$70)/365*12),(-FV('מודל כלכלי'!$C$20,(10+(('הנחות עסקה'!$D$71-'הנחות עסקה'!$D$72)*'הנחות עסקה'!$I$70)/365),,'מודל כלכלי'!$C$53)))))*היוון!$C$26)),ROUND('מודל כלכלי'!$C$59*(1+0.02)^10,-4)))-(חישובים!$D$28*(1+חישובים!$D$29)^10))*0.25),-4))+'מודל כלכלי'!$C$45)/'מודל כלכלי'!$C$45)^(1/10)-1 -> 0.12175796 | H10: =(((ROUND((IF('מודל כלכלי'!$C$26="פליפ",((-PV(חישובים!$D$21/12,(('הנחות עסקה'!$D$72*'הנחות עסקה'!$I$70)/365*12),(-FV('מודל כלכלי'!$C$20,(11+(('הנחות עסקה'!$D$71-'הנחות עסקה'!$D$72)*'הנחות עסקה'!$I$70)/365),,'מודל כלכלי'!$C$53))))+((0.07*(ROUND('מודל כלכלי'!$C$59*(1+0.02)^11,-4)))+(0.13*(ROUND('מודל כלכלי'!$C$59*(1+0.02)^11,-4)))+(-PV(חישובים!$D$21,((('הנחות עסקה'!$D$72*'הנחות עסקה'!$I$70)-30)/365),,((0.7*(ROUND('מודל כלכלי'!$C$59*(1+0.02)^11,-4)))+(((('הנחות עסקה'!$D$72*'הנחות עסקה'!$I$70)-30)/365)*חישובים!$D$23*(0.7*(ROUND('מודל כלכלי'!$C$59*(1+0.02)^11,-4)))*0.5))))+(-PV(חישובים!$D$21,(('הנחות עסקה'!$D$72*'הנחות עסקה'!$I$70)/365),,((0.1*(ROUND('מודל כלכלי'!$C$59*(1+0.02)^11,-4)))+((('הנחות עסקה'!$D$72*'הנחות עסקה'!$I$70)/365)*חישובים!$D$23*(0.1*(ROUND('מודל כלכלי'!$C$59*(1+0.02)^11,-4)))*0.5)))))+(-(((0.07*(ROUND('מודל כלכלי'!$C$59*(1+0.02)^11,-4)))+(0.13*(ROUND('מודל כלכלי'!$C$59*(1+0.02)^11,-4)))+(-PV(חישובים!$D$21,((('הנחות עסקה'!$D$72*'הנחות עסקה'!$I$70)-30)/365),,((0.7*(ROUND('מודל כלכלי'!$C$59*(1+0.02)^11,-4)))+(((('הנחות עסקה'!$D$72*'הנחות עסקה'!$I$70)-30)/365)*חישובים!$D$23*(0.7*(ROUND('מודל כלכלי'!$C$59*(1+0.02)^11,-4)))*0.5))))+(-PV(חישובים!$D$21,(('הנחות עסקה'!$D$72*'הנחות עסקה'!$I$70)/365),,((0.1*(ROUND('מודל כלכלי'!$C$59*(1+0.02)^11,-4)))+((('הנחות עסקה'!$D$72*'הנחות עסקה'!$I$70)/365)*חישובים!$D$23*(0.1*(ROUND('מודל כלכלי'!$C$59*(1+0.02)^11,-4)))*0.5)))))+(-PV(חישובים!$D$21/12,(('הנחות עסקה'!$D$72*'הנחות עסקה'!$I$70)/365*12),(-FV('מודל כלכלי'!$C$20,(11+(('הנחות עסקה'!$D$71-'הנחות עסקה'!$D$72)*'הנחות עסקה'!$I$70)/365),,'מודל כלכלי'!$C$53)))))*היוון!$C$26)),ROUND('מודל כלכלי'!$C$59*(1+0.02)^11,-4)))+(ROUND(FV('מודל כלכלי'!$C$17/12,11*12,'מודל כלכלי'!$C$48,'מודל כלכלי'!$C$46),-4))+(ROUND(-'מודל כלכלי'!$C$66*(IF('מודל כלכלי'!$C$26="פליפ",((-PV(חישובים!$D$21/12,(('הנחות עסקה'!$D$72*'הנחות עסקה'!$I$70)/365*12),(-FV('מודל כלכלי'!$C$20,(11+(('הנחות עסקה'!$D$71-'הנחות עסקה'!$D$72)*'הנחות עסקה'!$I$70)/365),,'מודל כלכלי'!$C$53))))+((0.07*(ROUND('מודל כלכלי'!$C$59*(1+0.02)^11,-4)))+(0.13*(ROUND('מודל כלכלי'!$C$59*(1+0.02)^11,-4)))+(-PV(חישובים!$D$21,((('הנחות עסקה'!$D$72*'הנחות עסקה'!$I$70)-30)/365),,((0.7*(ROUND('מודל כלכלי'!$C$59*(1+0.02)^11,-4)))+(((('הנחות עסקה'!$D$72*'הנחות עסקה'!$I$70)-30)/365)*חישובים!$D$23*(0.7*(ROUND('מודל כלכלי'!$C$59*(1+0.02)^11,-4)))*0.5))))+(-PV(חישובים!$D$21,(('הנחות עסקה'!$D$72*'הנחות עסקה'!$I$70)/365),,((0.1*(ROUND('מודל כלכלי'!$C$59*(1+0.02)^11,-4)))+((('הנחות עסקה'!$D$72*'הנחות עסקה'!$I$70)/365)*חישובים!$D$23*(0.1*(ROUND('מודל כלכלי'!$C$59*(1+0.02)^11,-4)))*0.5)))))+(-(((0.07*(ROUND('מודל כלכלי'!$C$59*(1+0.02)^11,-4)))+(0.13*(ROUND('מודל כלכלי'!$C$59*(1+0.02)^11,-4)))+(-PV(חישובים!$D$21,((('הנחות עסקה'!$D$72*'הנחות עסקה'!$I$70)-30)/365),,((0.7*(ROUND('מודל כלכלי'!$C$59*(1+0.02)^11,-4)))+(((('הנחות עסקה'!$D$72*'הנחות עסקה'!$I$70)-30)/365)*חישובים!$D$23*(0.7*(ROUND('מודל כלכלי'!$C$59*(1+0.02)^11,-4)))*0.5))))+(-PV(חישובים!$D$21,(('הנחות עסקה'!$D$72*'הנחות עסקה'!$I$70)/365),,((0.1*(ROUND('מודל כלכלי'!$C$59*(1+0.02)^11,-4)))+((('הנחות עסקה'!$D$72*'הנחות עסקה'!$I$70)/365)*חישובים!$D$23*(0.1*(ROUND('מודל כלכלי'!$C$59*(1+0.02)^11,-4)))*0.5)))))+(-PV(חישובים!$D$21/12,(('הנחות עסקה'!$D$72*'הנחות עסקה'!$I$70)/365*12),(-FV('מודל כלכלי'!$C$20,(11+(('הנחות עסקה'!$D$71-'הנחות עסקה'!$D$72)*'הנחות עסקה'!$I$70)/365),,'מודל כלכלי'!$C$53)))))*היוון!$C$26)),ROUND('מודל כלכלי'!$C$59*(1+0.02)^11,-4)))*'מודל כלכלי'!$C$14-'מודל כלכלי'!$C$68*(IF('מודל כלכלי'!$C$26="פליפ",((-PV(חישובים!$D$21/12,(('הנחות עסקה'!$D$72*'הנחות עסקה'!$I$70)/365*12),(-FV('מודל כלכלי'!$C$20,(11+(('הנחות עסקה'!$D$71-'הנחות עסקה'!$D$72)*'הנחות עסקה'!$I$70)/365),,'מודל כלכלי'!$C$53))))+((0.07*(ROUND('מודל כלכלי'!$C$59*(1+0.02)^11,-4)))+(0.13*(ROUND('מודל כלכלי'!$C$59*(1+0.02)^11,-4)))+(-PV(חישובים!$D$21,((('הנחות עסקה'!$D$72*'הנחות עסקה'!$I$70)-30)/365),,((0.7*(ROUND('מודל כלכלי'!$C$59*(1+0.02)^11,-4)))+(((('הנחות עסקה'!$D$72*'הנחות עסקה'!$I$70)-30)/365)*חישובים!$D$23*(0.7*(ROUND('מודל כלכלי'!$C$59*(1+0.02)^11,-4)))*0.5))))+(-PV(חישובים!$D$21,(('הנחות עסקה'!$D$72*'הנחות עסקה'!$I$70)/365),,((0.1*(ROUND('מודל כלכלי'!$C$59*(1+0.02)^11,-4)))+((('הנחות עסקה'!$D$72*'הנחות עסקה'!$I$70)/365)*חישובים!$D$23*(0.1*(ROUND('מודל כלכלי'!$C$59*(1+0.02)^11,-4)))*0.5)))))+(-(((0.07*(ROUND('מודל כלכלי'!$C$59*(1+0.02)^11,-4)))+(0.13*(ROUND('מודל כלכלי'!$C$59*(1+0.02)^11,-4)))+(-PV(חישובים!$D$21,((('הנחות עסקה'!$D$72*'הנחות עסקה'!$I$70)-30)/365),,((0.7*(ROUND('מודל כלכלי'!$C$59*(1+0.02)^11,-4)))+(((('הנחות עסקה'!$D$72*'הנחות עסקה'!$I$70)-30)/365)*חישובים!$D$23*(0.7*(ROUND('מודל כלכלי'!$C$59*(1+0.02)^11,-4)))*0.5))))+(-PV(חישובים!$D$21,(('הנחות עסקה'!$D$72*'הנחות עסקה'!$I$70)/365),,((0.1*(ROUND('מודל כלכלי'!$C$59*(1+0.02)^11,-4)))+((('הנחות עסקה'!$D$72*'הנחות עסקה'!$I$70)/365)*חישובים!$D$23*(0.1*(ROUND('מודל כלכלי'!$C$59*(1+0.02)^11,-4)))*0.5)))))+(-PV(חישובים!$D$21/12,(('הנחות עסקה'!$D$72*'הנחות עסקה'!$I$70)/365*12),(-FV('מודל כלכלי'!$C$20,(11+(('הנחות עסקה'!$D$71-'הנחות עסקה'!$D$72)*'הנחות עסקה'!$I$70)/365),,'מודל כלכלי'!$C$53)))))*היוון!$C$26)),ROUND('מודל כלכלי'!$C$59*(1+0.02)^11,-4)))*'מודל כלכלי'!$C$14+'מודל כלכלי'!$C$70,-3))+(ROUND(-FV(חישובים!$D$22,11*12,'מודל כלכלי'!$C$55),-3))+(-'מודל כלכלי'!$C$45)+(-MAX(0,(IF('מודל כלכלי'!$C$26="פליפ",((-PV(חישובים!$D$21/12,(('הנחות עסקה'!$D$72*'הנחות עסקה'!$I$70)/365*12),(-FV('מודל כלכלי'!$C$20,(11+(('הנחות עסקה'!$D$71-'הנחות עסקה'!$D$72)*'הנחות עסקה'!$I$70)/365),,'מודל כלכלי'!$C$53))))+((0.07*(ROUND('מודל כלכלי'!$C$59*(1+0.02)^11,-4)))+(0.13*(ROUND('מודל כלכלי'!$C$59*(1+0.02)^11,-4)))+(-PV(חישובים!$D$21,((('הנחות עסקה'!$D$72*'הנחות עסקה'!$I$70)-30)/365),,((0.7*(ROUND('מודל כלכלי'!$C$59*(1+0.02)^11,-4)))+(((('הנחות עסקה'!$D$72*'הנחות עסקה'!$I$70)-30)/365)*חישובים!$D$23*(0.7*(ROUND('מודל כלכלי'!$C$59*(1+0.02)^11,-4)))*0.5))))+(-PV(חישובים!$D$21,(('הנחות עסקה'!$D$72*'הנחות עסקה'!$I$70)/365),,((0.1*(ROUND('מודל כלכלי'!$C$59*(1+0.02)^11,-4)))+((('הנחות עסקה'!$D$72*'הנחות עסקה'!$I$70)/365)*חישובים!$D$23*(0.1*(ROUND('מודל כלכלי'!$C$59*(1+0.02)^11,-4)))*0.5)))))+(-(((0.07*(ROUND('מודל כלכלי'!$C$59*(1+0.02)^11,-4)))+(0.13*(ROUND('מודל כלכלי'!$C$59*(1+0.02)^11,-4)))+(-PV(חישובים!$D$21,((('הנחות עסקה'!$D$72*'הנחות עסקה'!$I$70)-30)/365),,((0.7*(ROUND('מודל כלכלי'!$C$59*(1+0.02)^11,-4)))+(((('הנחות עסקה'!$D$72*'הנחות עסקה'!$I$70)-30)/365)*חישובים!$D$23*(0.7*(ROUND('מודל כלכלי'!$C$59*(1+0.02)^11,-4)))*0.5))))+(-PV(חישובים!$D$21,(('הנחות עסקה'!$D$72*'הנחות עסקה'!$I$70)/365),,((0.1*(ROUND('מודל כלכלי'!$C$59*(1+0.02)^11,-4)))+((('הנחות עסקה'!$D$72*'הנחות עסקה'!$I$70)/365)*חישובים!$D$23*(0.1*(ROUND('מודל כלכלי'!$C$59*(1+0.02)^11,-4)))*0.5)))))+(-PV(חישובים!$D$21/12,(('הנחות עסקה'!$D$72*'הנחות עסקה'!$I$70)/365*12),(-FV('מודל כלכלי'!$C$20,(11+(('הנחות עסקה'!$D$71-'הנחות עסקה'!$D$72)*'הנחות עסקה'!$I$70)/365),,'מודל כלכלי'!$C$53)))))*היוון!$C$26)),ROUND('מודל כלכלי'!$C$59*(1+0.02)^11,-4)))-(חישובים!$D$28*(1+חישובים!$D$29)^11))*0.25),-4))+'מודל כלכלי'!$C$45)/'מודל כלכלי'!$C$45)^(1/11)-1 -> 0.11250298 | I10: =(((ROUND((IF('מודל כלכלי'!$C$26="פליפ",((-PV(חישובים!$D$21/12,(('הנחות עסקה'!$D$72*'הנחות עסקה'!$I$70)/365*12),(-FV('מודל כלכלי'!$C$20,(12+(('הנחות עסקה'!$D$71-'הנחות עסקה'!$D$72)*'הנחות עסקה'!$I$70)/365),,'מודל כלכלי'!$C$53))))+((0.07*(ROUND('מודל כלכלי'!$C$59*(1+0.02)^12,-4)))+(0.13*(ROUND('מודל כלכלי'!$C$59*(1+0.02)^12,-4)))+(-PV(חישובים!$D$21,((('הנחות עסקה'!$D$72*'הנחות עסקה'!$I$70)-30)/365),,((0.7*(ROUND('מודל כלכלי'!$C$59*(1+0.02)^12,-4)))+(((('הנחות עסקה'!$D$72*'הנחות עסקה'!$I$70)-30)/365)*חישובים!$D$23*(0.7*(ROUND('מודל כלכלי'!$C$59*(1+0.02)^12,-4)))*0.5))))+(-PV(חישובים!$D$21,(('הנחות עסקה'!$D$72*'הנחות עסקה'!$I$70)/365),,((0.1*(ROUND('מודל כלכלי'!$C$59*(1+0.02)^12,-4)))+((('הנחות עסקה'!$D$72*'הנחות עסקה'!$I$70)/365)*חישובים!$D$23*(0.1*(ROUND('מודל כלכלי'!$C$59*(1+0.02)^12,-4)))*0.5)))))+(-(((0.07*(ROUND('מודל כלכלי'!$C$59*(1+0.02)^12,-4)))+(0.13*(ROUND('מודל כלכלי'!$C$59*(1+0.02)^12,-4)))+(-PV(חישובים!$D$21,((('הנחות עסקה'!$D$72*'הנחות עסקה'!$I$70)-30)/365),,((0.7*(ROUND('מודל כלכלי'!$C$59*(1+0.02)^12,-4)))+(((('הנחות עסקה'!$D$72*'הנחות עסקה'!$I$70)-30)/365)*חישובים!$D$23*(0.7*(ROUND('מודל כלכלי'!$C$59*(1+0.02)^12,-4)))*0.5))))+(-PV(חישובים!$D$21,(('הנחות עסקה'!$D$72*'הנחות עסקה'!$I$70)/365),,((0.1*(ROUND('מודל כלכלי'!$C$59*(1+0.02)^12,-4)))+((('הנחות עסקה'!$D$72*'הנחות עסקה'!$I$70)/365)*חישובים!$D$23*(0.1*(ROUND('מודל כלכלי'!$C$59*(1+0.02)^12,-4)))*0.5)))))+(-PV(חישובים!$D$21/12,(('הנחות עסקה'!$D$72*'הנחות עסקה'!$I$70)/365*12),(-FV('מודל כלכלי'!$C$20,(12+(('הנחות עסקה'!$D$71-'הנחות עסקה'!$D$72)*'הנחות עסקה'!$I$70)/365),,'מודל כלכלי'!$C$53)))))*היוון!$C$26)),ROUND('מודל כלכלי'!$C$59*(1+0.02)^12,-4)))+(ROUND(FV('מודל כלכלי'!$C$17/12,12*12,'מודל כלכלי'!$C$48,'מודל כלכלי'!$C$46),-4))+(ROUND(-'מודל כלכלי'!$C$66*(IF('מודל כלכלי'!$C$26="פליפ",((-PV(חישובים!$D$21/12,(('הנחות עסקה'!$D$72*'הנחות עסקה'!$I$70)/365*12),(-FV('מודל כלכלי'!$C$20,(12+(('הנחות עסקה'!$D$71-'הנחות עסקה'!$D$72)*'הנחות עסקה'!$I$70)/365),,'מודל כלכלי'!$C$53))))+((0.07*(ROUND('מודל כלכלי'!$C$59*(1+0.02)^12,-4)))+(0.13*(ROUND('מודל כלכלי'!$C$59*(1+0.02)^12,-4)))+(-PV(חישובים!$D$21,((('הנחות עסקה'!$D$72*'הנחות עסקה'!$I$70)-30)/365),,((0.7*(ROUND('מודל כלכלי'!$C$59*(1+0.02)^12,-4)))+(((('הנחות עסקה'!$D$72*'הנחות עסקה'!$I$70)-30)/365)*חישובים!$D$23*(0.7*(ROUND('מודל כלכלי'!$C$59*(1+0.02)^12,-4)))*0.5))))+(-PV(חישובים!$D$21,(('הנחות עסקה'!$D$72*'הנחות עסקה'!$I$70)/365),,((0.1*(ROUND('מודל כלכלי'!$C$59*(1+0.02)^12,-4)))+((('הנחות עסקה'!$D$72*'הנחות עסקה'!$I$70)/365)*חישובים!$D$23*(0.1*(ROUND('מודל כלכלי'!$C$59*(1+0.02)^12,-4)))*0.5)))))+(-(((0.07*(ROUND('מודל כלכלי'!$C$59*(1+0.02)^12,-4)))+(0.13*(ROUND('מודל כלכלי'!$C$59*(1+0.02)^12,-4)))+(-PV(חישובים!$D$21,((('הנחות עסקה'!$D$72*'הנחות עסקה'!$I$70)-30)/365),,((0.7*(ROUND('מודל כלכלי'!$C$59*(1+0.02)^12,-4)))+(((('הנחות עסקה'!$D$72*'הנחות עסקה'!$I$70)-30)/365)*חישובים!$D$23*(0.7*(ROUND('מודל כלכלי'!$C$59*(1+0.02)^12,-4)))*0.5))))+(-PV(חישובים!$D$21,(('הנחות עסקה'!$D$72*'הנחות עסקה'!$I$70)/365),,((0.1*(ROUND('מודל כלכלי'!$C$59*(1+0.02)^12,-4)))+((('הנחות עסקה'!$D$72*'הנחות עסקה'!$I$70)/365)*חישובים!$D$23*(0.1*(ROUND('מודל כלכלי'!$C$59*(1+0.02)^12,-4)))*0.5)))))+(-PV(חישובים!$D$21/12,(('הנחות עסקה'!$D$72*'הנחות עסקה'!$I$70)/365*12),(-FV('מודל כלכלי'!$C$20,(12+(('הנחות עסקה'!$D$71-'הנחות עסקה'!$D$72)*'הנחות עסקה'!$I$70)/365),,'מודל כלכלי'!$C$53)))))*היוון!$C$26)),ROUND('מודל כלכלי'!$C$59*(1+0.02)^12,-4)))*'מודל כלכלי'!$C$14-'מודל כלכלי'!$C$68*(IF('מודל כלכלי'!$C$26="פליפ",((-PV(חישובים!$D$21/12,(('הנחות עסקה'!$D$72*'הנחות עסקה'!$I$70)/365*12),(-FV('מודל כלכלי'!$C$20,(12+(('הנחות עסקה'!$D$71-'הנחות עסקה'!$D$72)*'הנחות עסקה'!$I$70)/365),,'מודל כלכלי'!$C$53))))+((0.07*(ROUND('מודל כלכלי'!$C$59*(1+0.02)^12,-4)))+(0.13*(ROUND('מודל כלכלי'!$C$59*(1+0.02)^12,-4)))+(-PV(חישובים!$D$21,((('הנחות עסקה'!$D$72*'הנחות עסקה'!$I$70)-30)/365),,((0.7*(ROUND('מודל כלכלי'!$C$59*(1+0.02)^12,-4)))+(((('הנחות עסקה'!$D$72*'הנחות עסקה'!$I$70)-30)/365)*חישובים!$D$23*(0.7*(ROUND('מודל כלכלי'!$C$59*(1+0.02)^12,-4)))*0.5))))+(-PV(חישובים!$D$21,(('הנחות עסקה'!$D$72*'הנחות עסקה'!$I$70)/365),,((0.1*(ROUND('מודל כלכלי'!$C$59*(1+0.02)^12,-4)))+((('הנחות עסקה'!$D$72*'הנחות עסקה'!$I$70)/365)*חישובים!$D$23*(0.1*(ROUND('מודל כלכלי'!$C$59*(1+0.02)^12,-4)))*0.5)))))+(-(((0.07*(ROUND('מודל כלכלי'!$C$59*(1+0.02)^12,-4)))+(0.13*(ROUND('מודל כלכלי'!$C$59*(1+0.02)^12,-4)))+(-PV(חישובים!$D$21,((('הנחות עסקה'!$D$72*'הנחות עסקה'!$I$70)-30)/365),,((0.7*(ROUND('מודל כלכלי'!$C$59*(1+0.02)^12,-4)))+(((('הנחות עסקה'!$D$72*'הנחות עסקה'!$I$70)-30)/365)*חישובים!$D$23*(0.7*(ROUND('מודל כלכלי'!$C$59*(1+0.02)^12,-4)))*0.5))))+(-PV(חישובים!$D$21,(('הנחות עסקה'!$D$72*'הנחות עסקה'!$I$70)/365),,((0.1*(ROUND('מודל כלכלי'!$C$59*(1+0.02)^12,-4)))+((('הנחות עסקה'!$D$72*'הנחות עסקה'!$I$70)/365)*חישובים!$D$23*(0.1*(ROUND('מודל כלכלי'!$C$59*(1+0.02)^12,-4)))*0.5)))))+(-PV(חישובים!$D$21/12,(('הנחות עסקה'!$D$72*'הנחות עסקה'!$I$70)/365*12),(-FV('מודל כלכלי'!$C$20,(12+(('הנחות עסקה'!$D$71-'הנחות עסקה'!$D$72)*'הנחות עסקה'!$I$70)/365),,'מודל כלכלי'!$C$53)))))*היוון!$C$26)),ROUND('מודל כלכלי'!$C$59*(1+0.02)^12,-4)))*'מודל כלכלי'!$C$14+'מודל כלכלי'!$C$70,-3))+(ROUND(-FV(חישובים!$D$22,12*12,'מודל כלכלי'!$C$55),-3))+(-'מודל כלכלי'!$C$45)+(-MAX(0,(IF('מודל כלכלי'!$C$26="פליפ",((-PV(חישובים!$D$21/12,(('הנחות עסקה'!$D$72*'הנחות עסקה'!$I$70)/365*12),(-FV('מודל כלכלי'!$C$20,(12+(('הנחות עסקה'!$D$71-'הנחות עסקה'!$D$72)*'הנחות עסקה'!$I$70)/365),,'מודל כלכלי'!$C$53))))+((0.07*(ROUND('מודל כלכלי'!$C$59*(1+0.02)^12,-4)))+(0.13*(ROUND('מודל כלכלי'!$C$59*(1+0.02)^12,-4)))+(-PV(חישובים!$D$21,((('הנחות עסקה'!$D$72*'הנחות עסקה'!$I$70)-30)/365),,((0.7*(ROUND('מודל כלכלי'!$C$59*(1+0.02)^12,-4)))+(((('הנחות עסקה'!$D$72*'הנחות עסקה'!$I$70)-30)/365)*חישובים!$D$23*(0.7*(ROUND('מודל כלכלי'!$C$59*(1+0.02)^12,-4)))*0.5))))+(-PV(חישובים!$D$21,(('הנחות עסקה'!$D$72*'הנחות עסקה'!$I$70)/365),,((0.1*(ROUND('מודל כלכלי'!$C$59*(1+0.02)^12,-4)))+((('הנחות עסקה'!$D$72*'הנחות עסקה'!$I$70)/365)*חישובים!$D$23*(0.1*(ROUND('מודל כלכלי'!$C$59*(1+0.02)^12,-4)))*0.5)))))+(-(((0.07*(ROUND('מודל כלכלי'!$C$59*(1+0.02)^12,-4)))+(0.13*(ROUND('מודל כלכלי'!$C$59*(1+0.02)^12,-4)))+(-PV(חישובים!$D$21,((('הנחות עסקה'!$D$72*'הנחות עסקה'!$I$70)-30)/365),,((0.7*(ROUND('מודל כלכלי'!$C$59*(1+0.02)^12,-4)))+(((('הנחות עסקה'!$D$72*'הנחות עסקה'!$I$70)-30)/365)*חישובים!$D$23*(0.7*(ROUND('מודל כלכלי'!$C$59*(1+0.02)^12,-4)))*0.5))))+(-PV(חישובים!$D$21,(('הנחות עסקה'!$D$72*'הנחות עסקה'!$I$70)/365),,((0.1*(ROUND('מודל כלכלי'!$C$59*(1+0.02)^12,-4)))+((('הנחות עסקה'!$D$72*'הנחות עסקה'!$I$70)/365)*חישובים!$D$23*(0.1*(ROUND('מודל כלכלי'!$C$59*(1+0.02)^12,-4)))*0.5)))))+(-PV(חישובים!$D$21/12,(('הנחות עסקה'!$D$72*'הנחות עסקה'!$I$70)/365*12),(-FV('מודל כלכלי'!$C$20,(12+(('הנחות עסקה'!$D$71-'הנחות עסקה'!$D$72)*'הנחות עסקה'!$I$70)/365),,'מודל כלכלי'!$C$53)))))*היוון!$C$26)),ROUND('מודל כלכלי'!$C$59*(1+0.02)^12,-4)))-(חישובים!$D$28*(1+חישובים!$D$29)^12))*0.25),-4))+'מודל כלכלי'!$C$45)/'מודל כלכלי'!$C$45)^(1/12)-1 -> 0.10437463 | J10: =(((ROUND((IF('מודל כלכלי'!$C$26="פליפ",((-PV(חישובים!$D$21/12,(('הנחות עסקה'!$D$72*'הנחות עסקה'!$I$70)/365*12),(-FV('מודל כלכלי'!$C$20,(13+(('הנחות עסקה'!$D$71-'הנחות עסקה'!$D$72)*'הנחות עסקה'!$I$70)/365),,'מודל כלכלי'!$C$53))))+((0.07*(ROUND('מודל כלכלי'!$C$59*(1+0.02)^13,-4)))+(0.13*(ROUND('מודל כלכלי'!$C$59*(1+0.02)^13,-4)))+(-PV(חישובים!$D$21,((('הנחות עסקה'!$D$72*'הנחות עסקה'!$I$70)-30)/365),,((0.7*(ROUND('מודל כלכלי'!$C$59*(1+0.02)^13,-4)))+(((('הנחות עסקה'!$D$72*'הנחות עסקה'!$I$70)-30)/365)*חישובים!$D$23*(0.7*(ROUND('מודל כלכלי'!$C$59*(1+0.02)^13,-4)))*0.5))))+(-PV(חישובים!$D$21,(('הנחות עסקה'!$D$72*'הנחות עסקה'!$I$70)/365),,((0.1*(ROUND('מודל כלכלי'!$C$59*(1+0.02)^13,-4)))+((('הנחות עסקה'!$D$72*'הנחות עסקה'!$I$70)/365)*חישובים!$D$23*(0.1*(ROUND('מודל כלכלי'!$C$59*(1+0.02)^13,-4)))*0.5)))))+(-(((0.07*(ROUND('מודל כלכלי'!$C$59*(1+0.02)^13,-4)))+(0.13*(ROUND('מודל כלכלי'!$C$59*(1+0.02)^13,-4)))+(-PV(חישובים!$D$21,((('הנחות עסקה'!$D$72*'הנחות עסקה'!$I$70)-30)/365),,((0.7*(ROUND('מודל כלכלי'!$C$59*(1+0.02)^13,-4)))+(((('הנחות עסקה'!$D$72*'הנחות עסקה'!$I$70)-30)/365)*חישובים!$D$23*(0.7*(ROUND('מודל כלכלי'!$C$59*(1+0.02)^13,-4)))*0.5))))+(-PV(חישובים!$D$21,(('הנחות עסקה'!$D$72*'הנחות עסקה'!$I$70)/365),,((0.1*(ROUND('מודל כלכלי'!$C$59*(1+0.02)^13,-4)))+((('הנחות עסקה'!$D$72*'הנחות עסקה'!$I$70)/365)*חישובים!$D$23*(0.1*(ROUND('מודל כלכלי'!$C$59*(1+0.02)^13,-4)))*0.5)))))+(-PV(חישובים!$D$21/12,(('הנחות עסקה'!$D$72*'הנחות עסקה'!$I$70)/365*12),(-FV('מודל כלכלי'!$C$20,(13+(('הנחות עסקה'!$D$71-'הנחות עסקה'!$D$72)*'הנחות עסקה'!$I$70)/365),,'מודל כלכלי'!$C$53)))))*היוון!$C$26)),ROUND('מודל כלכלי'!$C$59*(1+0.02)^13,-4)))+(ROUND(FV('מודל כלכלי'!$C$17/12,13*12,'מודל כלכלי'!$C$48,'מודל כלכלי'!$C$46),-4))+(ROUND(-'מודל כלכלי'!$C$66*(IF('מודל כלכלי'!$C$26="פליפ",((-PV(חישובים!$D$21/12,(('הנחות עסקה'!$D$72*'הנחות עסקה'!$I$70)/365*12),(-FV('מודל כלכלי'!$C$20,(13+(('הנחות עסקה'!$D$71-'הנחות עסקה'!$D$72)*'הנחות עסקה'!$I$70)/365),,'מודל כלכלי'!$C$53))))+((0.07*(ROUND('מודל כלכלי'!$C$59*(1+0.02)^13,-4)))+(0.13*(ROUND('מודל כלכלי'!$C$59*(1+0.02)^13,-4)))+(-PV(חישובים!$D$21,((('הנחות עסקה'!$D$72*'הנחות עסקה'!$I$70)-30)/365),,((0.7*(ROUND('מודל כלכלי'!$C$59*(1+0.02)^13,-4)))+(((('הנחות עסקה'!$D$72*'הנחות עסקה'!$I$70)-30)/365)*חישובים!$D$23*(0.7*(ROUND('מודל כלכלי'!$C$59*(1+0.02)^13,-4)))*0.5))))+(-PV(חישובים!$D$21,(('הנחות עסקה'!$D$72*'הנחות עסקה'!$I$70)/365),,((0.1*(ROUND('מודל כלכלי'!$C$59*(1+0.02)^13,-4)))+((('הנחות עסקה'!$D$72*'הנחות עסקה'!$I$70)/365)*חישובים!$D$23*(0.1*(ROUND('מודל כלכלי'!$C$59*(1+0.02)^13,-4)))*0.5)))))+(-(((0.07*(ROUND('מודל כלכלי'!$C$59*(1+0.02)^13,-4)))+(0.13*(ROUND('מודל כלכלי'!$C$59*(1+0.02)^13,-4)))+(-PV(חישובים!$D$21,((('הנחות עסקה'!$D$72*'הנחות עסקה'!$I$70)-30)/365),,((0.7*(ROUND('מודל כלכלי'!$C$59*(1+0.02)^13,-4)))+(((('הנחות עסקה'!$D$72*'הנחות עסקה'!$I$70)-30)/365)*חישובים!$D$23*(0.7*(ROUND('מודל כלכלי'!$C$59*(1+0.02)^13,-4)))*0.5))))+(-PV(חישובים!$D$21,(('הנחות עסקה'!$D$72*'הנחות עסקה'!$I$70)/365),,((0.1*(ROUND('מודל כלכלי'!$C$59*(1+0.02)^13,-4)))+((('הנחות עסקה'!$D$72*'הנחות עסקה'!$I$70)/365)*חישובים!$D$23*(0.1*(ROUND('מודל כלכלי'!$C$59*(1+0.02)^13,-4)))*0.5)))))+(-PV(חישובים!$D$21/12,(('הנחות עסקה'!$D$72*'הנחות עסקה'!$I$70)/365*12),(-FV('מודל כלכלי'!$C$20,(13+(('הנחות עסקה'!$D$71-'הנחות עסקה'!$D$72)*'הנחות עסקה'!$I$70)/365),,'מודל כלכלי'!$C$53)))))*היוון!$C$26)),ROUND('מודל כלכלי'!$C$59*(1+0.02)^13,-4)))*'מודל כלכלי'!$C$14-'מודל כלכלי'!$C$68*(IF('מודל כלכלי'!$C$26="פליפ",((-PV(חישובים!$D$21/12,(('הנחות עסקה'!$D$72*'הנחות עסקה'!$I$70)/365*12),(-FV('מודל כלכלי'!$C$20,(13+(('הנחות עסקה'!$D$71-'הנחות עסקה'!$D$72)*'הנחות עסקה'!$I$70)/365),,'מודל כלכלי'!$C$53))))+((0.07*(ROUND('מודל כלכלי'!$C$59*(1+0.02)^13,-4)))+(0.13*(ROUND('מודל כלכלי'!$C$59*(1+0.02)^13,-4)))+(-PV(חישובים!$D$21,((('הנחות עסקה'!$D$72*'הנחות עסקה'!$I$70)-30)/365),,((0.7*(ROUND('מודל כלכלי'!$C$59*(1+0.02)^13,-4)))+(((('הנחות עסקה'!$D$72*'הנחות עסקה'!$I$70)-30)/365)*חישובים!$D$23*(0.7*(ROUND('מודל כלכלי'!$C$59*(1+0.02)^13,-4)))*0.5))))+(-PV(חישובים!$D$21,(('הנחות עסקה'!$D$72*'הנחות עסקה'!$I$70)/365),,((0.1*(ROUND('מודל כלכלי'!$C$59*(1+0.02)^13,-4)))+((('הנחות עסקה'!$D$72*'הנחות עסקה'!$I$70)/365)*חישובים!$D$23*(0.1*(ROUND('מודל כלכלי'!$C$59*(1+0.02)^13,-4)))*0.5)))))+(-(((0.07*(ROUND('מודל כלכלי'!$C$59*(1+0.02)^13,-4)))+(0.13*(ROUND('מודל כלכלי'!$C$59*(1+0.02)^13,-4)))+(-PV(חישובים!$D$21,((('הנחות עסקה'!$D$72*'הנחות עסקה'!$I$70)-30)/365),,((0.7*(ROUND('מודל כלכלי'!$C$59*(1+0.02)^13,-4)))+(((('הנחות עסקה'!$D$72*'הנחות עסקה'!$I$70)-30)/365)*חישובים!$D$23*(0.7*(ROUND('מודל כלכלי'!$C$59*(1+0.02)^13,-4)))*0.5))))+(-PV(חישובים!$D$21,(('הנחות עסקה'!$D$72*'הנחות עסקה'!$I$70)/365),,((0.1*(ROUND('מודל כלכלי'!$C$59*(1+0.02)^13,-4)))+((('הנחות עסקה'!$D$72*'הנחות עסקה'!$I$70)/365)*חישובים!$D$23*(0.1*(ROUND('מודל כלכלי'!$C$59*(1+0.02)^13,-4)))*0.5)))))+(-PV(חישובים!$D$21/12,(('הנחות עסקה'!$D$72*'הנחות עסקה'!$I$70)/365*12),(-FV('מודל כלכלי'!$C$20,(13+(('הנחות עסקה'!$D$71-'הנחות עסקה'!$D$72)*'הנחות עסקה'!$I$70)/365),,'מודל כלכלי'!$C$53)))))*היוון!$C$26)),ROUND('מודל כלכלי'!$C$59*(1+0.02)^13,-4)))*'מודל כלכלי'!$C$14+'מודל כלכלי'!$C$70,-3))+(ROUND(-FV(חישובים!$D$22,13*12,'מודל כלכלי'!$C$55),-3))+(-'מודל כלכלי'!$C$45)+(-MAX(0,(IF('מודל כלכלי'!$C$26="פליפ",((-PV(חישובים!$D$21/12,(('הנחות עסקה'!$D$72*'הנחות עסקה'!$I$70)/365*12),(-FV('מודל כלכלי'!$C$20,(13+(('הנחות עסקה'!$D$71-'הנחות עסקה'!$D$72)*'הנחות עסקה'!$I$70)/365),,'מודל כלכלי'!$C$53))))+((0.07*(ROUND('מודל כלכלי'!$C$59*(1+0.02)^13,-4)))+(0.13*(ROUND('מודל כלכלי'!$C$59*(1+0.02)^13,-4)))+(-PV(חישובים!$D$21,((('הנחות עסקה'!$D$72*'הנחות עסקה'!$I$70)-30)/365),,((0.7*(ROUND('מודל כלכלי'!$C$59*(1+0.02)^13,-4)))+(((('הנחות עסקה'!$D$72*'הנחות עסקה'!$I$70)-30)/365)*חישובים!$D$23*(0.7*(ROUND('מודל כלכלי'!$C$59*(1+0.02)^13,-4)))*0.5))))+(-PV(חישובים!$D$21,(('הנחות עסקה'!$D$72*'הנחות עסקה'!$I$70)/365),,((0.1*(ROUND('מודל כלכלי'!$C$59*(1+0.02)^13,-4)))+((('הנחות עסקה'!$D$72*'הנחות עסקה'!$I$70)/365)*חישובים!$D$23*(0.1*(ROUND('מודל כלכלי'!$C$59*(1+0.02)^13,-4)))*0.5)))))+(-(((0.07*(ROUND('מודל כלכלי'!$C$59*(1+0.02)^13,-4)))+(0.13*(ROUND('מודל כלכלי'!$C$59*(1+0.02)^13,-4)))+(-PV(חישובים!$D$21,((('הנחות עסקה'!$D$72*'הנחות עסקה'!$I$70)-30)/365),,((0.7*(ROUND('מודל כלכלי'!$C$59*(1+0.02)^13,-4)))+(((('הנחות עסקה'!$D$72*'הנחות עסקה'!$I$70)-30)/365)*חישובים!$D$23*(0.7*(ROUND('מודל כלכלי'!$C$59*(1+0.02)^13,-4)))*0.5))))+(-PV(חישובים!$D$21,(('הנחות עסקה'!$D$72*'הנחות עסקה'!$I$70)/365),,((0.1*(ROUND('מודל כלכלי'!$C$59*(1+0.02)^13,-4)))+((('הנחות עסקה'!$D$72*'הנחות עסקה'!$I$70)/365)*חישובים!$D$23*(0.1*(ROUND('מודל כלכלי'!$C$59*(1+0.02)^13,-4)))*0.5)))))+(-PV(חישובים!$D$21/12,(('הנחות עסקה'!$D$72*'הנחות עסקה'!$I$70)/365*12),(-FV('מודל כלכלי'!$C$20,(13+(('הנחות עסקה'!$D$71-'הנחות עסקה'!$D$72)*'הנחות עסקה'!$I$70)/365),,'מודל כלכלי'!$C$53)))))*היוון!$C$26)),ROUND('מודל כלכלי'!$C$59*(1+0.02)^13,-4)))-(חישובים!$D$28*(1+חישובים!$D$29)^13))*0.25),-4))+'מודל כלכלי'!$C$45)/'מודל כלכלי'!$C$45)^(1/13)-1 -> 0.097895887
B11: 0.03 | C11: =(((ROUND((IF('מודל כלכלי'!$C$26="פליפ",((-PV(חישובים!$D$21/12,(('הנחות עסקה'!$D$72*'הנחות עסקה'!$I$70)/365*12),(-FV('מודל כלכלי'!$C$20,(6+(('הנחות עסקה'!$D$71-'הנחות עסקה'!$D$72)*'הנחות עסקה'!$I$70)/365),,'מודל כלכלי'!$C$53))))+((0.07*(ROUND('מודל כלכלי'!$C$59*(1+0.03)^6,-4)))+(0.13*(ROUND('מודל כלכלי'!$C$59*(1+0.03)^6,-4)))+(-PV(חישובים!$D$21,((('הנחות עסקה'!$D$72*'הנחות עסקה'!$I$70)-30)/365),,((0.7*(ROUND('מודל כלכלי'!$C$59*(1+0.03)^6,-4)))+(((('הנחות עסקה'!$D$72*'הנחות עסקה'!$I$70)-30)/365)*חישובים!$D$23*(0.7*(ROUND('מודל כלכלי'!$C$59*(1+0.03)^6,-4)))*0.5))))+(-PV(חישובים!$D$21,(('הנחות עסקה'!$D$72*'הנחות עסקה'!$I$70)/365),,((0.1*(ROUND('מודל כלכלי'!$C$59*(1+0.03)^6,-4)))+((('הנחות עסקה'!$D$72*'הנחות עסקה'!$I$70)/365)*חישובים!$D$23*(0.1*(ROUND('מודל כלכלי'!$C$59*(1+0.03)^6,-4)))*0.5)))))+(-(((0.07*(ROUND('מודל כלכלי'!$C$59*(1+0.03)^6,-4)))+(0.13*(ROUND('מודל כלכלי'!$C$59*(1+0.03)^6,-4)))+(-PV(חישובים!$D$21,((('הנחות עסקה'!$D$72*'הנחות עסקה'!$I$70)-30)/365),,((0.7*(ROUND('מודל כלכלי'!$C$59*(1+0.03)^6,-4)))+(((('הנחות עסקה'!$D$72*'הנחות עסקה'!$I$70)-30)/365)*חישובים!$D$23*(0.7*(ROUND('מודל כלכלי'!$C$59*(1+0.03)^6,-4)))*0.5))))+(-PV(חישובים!$D$21,(('הנחות עסקה'!$D$72*'הנחות עסקה'!$I$70)/365),,((0.1*(ROUND('מודל כלכלי'!$C$59*(1+0.03)^6,-4)))+((('הנחות עסקה'!$D$72*'הנחות עסקה'!$I$70)/365)*חישובים!$D$23*(0.1*(ROUND('מודל כלכלי'!$C$59*(1+0.03)^6,-4)))*0.5)))))+(-PV(חישובים!$D$21/12,(('הנחות עסקה'!$D$72*'הנחות עסקה'!$I$70)/365*12),(-FV('מודל כלכלי'!$C$20,(6+(('הנחות עסקה'!$D$71-'הנחות עסקה'!$D$72)*'הנחות עסקה'!$I$70)/365),,'מודל כלכלי'!$C$53)))))*היוון!$C$26)),ROUND('מודל כלכלי'!$C$59*(1+0.03)^6,-4)))+(ROUND(FV('מודל כלכלי'!$C$17/12,6*12,'מודל כלכלי'!$C$48,'מודל כלכלי'!$C$46),-4))+(ROUND(-'מודל כלכלי'!$C$66*(IF('מודל כלכלי'!$C$26="פליפ",((-PV(חישובים!$D$21/12,(('הנחות עסקה'!$D$72*'הנחות עסקה'!$I$70)/365*12),(-FV('מודל כלכלי'!$C$20,(6+(('הנחות עסקה'!$D$71-'הנחות עסקה'!$D$72)*'הנחות עסקה'!$I$70)/365),,'מודל כלכלי'!$C$53))))+((0.07*(ROUND('מודל כלכלי'!$C$59*(1+0.03)^6,-4)))+(0.13*(ROUND('מודל כלכלי'!$C$59*(1+0.03)^6,-4)))+(-PV(חישובים!$D$21,((('הנחות עסקה'!$D$72*'הנחות עסקה'!$I$70)-30)/365),,((0.7*(ROUND('מודל כלכלי'!$C$59*(1+0.03)^6,-4)))+(((('הנחות עסקה'!$D$72*'הנחות עסקה'!$I$70)-30)/365)*חישובים!$D$23*(0.7*(ROUND('מודל כלכלי'!$C$59*(1+0.03)^6,-4)))*0.5))))+(-PV(חישובים!$D$21,(('הנחות עסקה'!$D$72*'הנחות עסקה'!$I$70)/365),,((0.1*(ROUND('מודל כלכלי'!$C$59*(1+0.03)^6,-4)))+((('הנחות עסקה'!$D$72*'הנחות עסקה'!$I$70)/365)*חישובים!$D$23*(0.1*(ROUND('מודל כלכלי'!$C$59*(1+0.03)^6,-4)))*0.5)))))+(-(((0.07*(ROUND('מודל כלכלי'!$C$59*(1+0.03)^6,-4)))+(0.13*(ROUND('מודל כלכלי'!$C$59*(1+0.03)^6,-4)))+(-PV(חישובים!$D$21,((('הנחות עסקה'!$D$72*'הנחות עסקה'!$I$70)-30)/365),,((0.7*(ROUND('מודל כלכלי'!$C$59*(1+0.03)^6,-4)))+(((('הנחות עסקה'!$D$72*'הנחות עסקה'!$I$70)-30)/365)*חישובים!$D$23*(0.7*(ROUND('מודל כלכלי'!$C$59*(1+0.03)^6,-4)))*0.5))))+(-PV(חישובים!$D$21,(('הנחות עסקה'!$D$72*'הנחות עסקה'!$I$70)/365),,((0.1*(ROUND('מודל כלכלי'!$C$59*(1+0.03)^6,-4)))+((('הנחות עסקה'!$D$72*'הנחות עסקה'!$I$70)/365)*חישובים!$D$23*(0.1*(ROUND('מודל כלכלי'!$C$59*(1+0.03)^6,-4)))*0.5)))))+(-PV(חישובים!$D$21/12,(('הנחות עסקה'!$D$72*'הנחות עסקה'!$I$70)/365*12),(-FV('מודל כלכלי'!$C$20,(6+(('הנחות עסקה'!$D$71-'הנחות עסקה'!$D$72)*'הנחות עסקה'!$I$70)/365),,'מודל כלכלי'!$C$53)))))*היוון!$C$26)),ROUND('מודל כלכלי'!$C$59*(1+0.03)^6,-4)))*'מודל כלכלי'!$C$14-'מודל כלכלי'!$C$68*(IF('מודל כלכלי'!$C$26="פליפ",((-PV(חישובים!$D$21/12,(('הנחות עסקה'!$D$72*'הנחות עסקה'!$I$70)/365*12),(-FV('מודל כלכלי'!$C$20,(6+(('הנחות עסקה'!$D$71-'הנחות עסקה'!$D$72)*'הנחות עסקה'!$I$70)/365),,'מודל כלכלי'!$C$53))))+((0.07*(ROUND('מודל כלכלי'!$C$59*(1+0.03)^6,-4)))+(0.13*(ROUND('מודל כלכלי'!$C$59*(1+0.03)^6,-4)))+(-PV(חישובים!$D$21,((('הנחות עסקה'!$D$72*'הנחות עסקה'!$I$70)-30)/365),,((0.7*(ROUND('מודל כלכלי'!$C$59*(1+0.03)^6,-4)))+(((('הנחות עסקה'!$D$72*'הנחות עסקה'!$I$70)-30)/365)*חישובים!$D$23*(0.7*(ROUND('מודל כלכלי'!$C$59*(1+0.03)^6,-4)))*0.5))))+(-PV(חישובים!$D$21,(('הנחות עסקה'!$D$72*'הנחות עסקה'!$I$70)/365),,((0.1*(ROUND('מודל כלכלי'!$C$59*(1+0.03)^6,-4)))+((('הנחות עסקה'!$D$72*'הנחות עסקה'!$I$70)/365)*חישובים!$D$23*(0.1*(ROUND('מודל כלכלי'!$C$59*(1+0.03)^6,-4)))*0.5)))))+(-(((0.07*(ROUND('מודל כלכלי'!$C$59*(1+0.03)^6,-4)))+(0.13*(ROUND('מודל כלכלי'!$C$59*(1+0.03)^6,-4)))+(-PV(חישובים!$D$21,((('הנחות עסקה'!$D$72*'הנחות עסקה'!$I$70)-30)/365),,((0.7*(ROUND('מודל כלכלי'!$C$59*(1+0.03)^6,-4)))+(((('הנחות עסקה'!$D$72*'הנחות עסקה'!$I$70)-30)/365)*חישובים!$D$23*(0.7*(ROUND('מודל כלכלי'!$C$59*(1+0.03)^6,-4)))*0.5))))+(-PV(חישובים!$D$21,(('הנחות עסקה'!$D$72*'הנחות עסקה'!$I$70)/365),,((0.1*(ROUND('מודל כלכלי'!$C$59*(1+0.03)^6,-4)))+((('הנחות עסקה'!$D$72*'הנחות עסקה'!$I$70)/365)*חישובים!$D$23*(0.1*(ROUND('מודל כלכלי'!$C$59*(1+0.03)^6,-4)))*0.5)))))+(-PV(חישובים!$D$21/12,(('הנחות עסקה'!$D$72*'הנחות עסקה'!$I$70)/365*12),(-FV('מודל כלכלי'!$C$20,(6+(('הנחות עסקה'!$D$71-'הנחות עסקה'!$D$72)*'הנחות עסקה'!$I$70)/365),,'מודל כלכלי'!$C$53)))))*היוון!$C$26)),ROUND('מודל כלכלי'!$C$59*(1+0.03)^6,-4)))*'מודל כלכלי'!$C$14+'מודל כלכלי'!$C$70,-3))+(ROUND(-FV(חישובים!$D$22,6*12,'מודל כלכלי'!$C$55),-3))+(-'מודל כלכלי'!$C$45)+(-MAX(0,(IF('מודל כלכלי'!$C$26="פליפ",((-PV(חישובים!$D$21/12,(('הנחות עסקה'!$D$72*'הנחות עסקה'!$I$70)/365*12),(-FV('מודל כלכלי'!$C$20,(6+(('הנחות עסקה'!$D$71-'הנחות עסקה'!$D$72)*'הנחות עסקה'!$I$70)/365),,'מודל כלכלי'!$C$53))))+((0.07*(ROUND('מודל כלכלי'!$C$59*(1+0.03)^6,-4)))+(0.13*(ROUND('מודל כלכלי'!$C$59*(1+0.03)^6,-4)))+(-PV(חישובים!$D$21,((('הנחות עסקה'!$D$72*'הנחות עסקה'!$I$70)-30)/365),,((0.7*(ROUND('מודל כלכלי'!$C$59*(1+0.03)^6,-4)))+(((('הנחות עסקה'!$D$72*'הנחות עסקה'!$I$70)-30)/365)*חישובים!$D$23*(0.7*(ROUND('מודל כלכלי'!$C$59*(1+0.03)^6,-4)))*0.5))))+(-PV(חישובים!$D$21,(('הנחות עסקה'!$D$72*'הנחות עסקה'!$I$70)/365),,((0.1*(ROUND('מודל כלכלי'!$C$59*(1+0.03)^6,-4)))+((('הנחות עסקה'!$D$72*'הנחות עסקה'!$I$70)/365)*חישובים!$D$23*(0.1*(ROUND('מודל כלכלי'!$C$59*(1+0.03)^6,-4)))*0.5)))))+(-(((0.07*(ROUND('מודל כלכלי'!$C$59*(1+0.03)^6,-4)))+(0.13*(ROUND('מודל כלכלי'!$C$59*(1+0.03)^6,-4)))+(-PV(חישובים!$D$21,((('הנחות עסקה'!$D$72*'הנחות עסקה'!$I$70)-30)/365),,((0.7*(ROUND('מודל כלכלי'!$C$59*(1+0.03)^6,-4)))+(((('הנחות עסקה'!$D$72*'הנחות עסקה'!$I$70)-30)/365)*חישובים!$D$23*(0.7*(ROUND('מודל כלכלי'!$C$59*(1+0.03)^6,-4)))*0.5))))+(-PV(חישובים!$D$21,(('הנחות עסקה'!$D$72*'הנחות עסקה'!$I$70)/365),,((0.1*(ROUND('מודל כלכלי'!$C$59*(1+0.03)^6,-4)))+((('הנחות עסקה'!$D$72*'הנחות עסקה'!$I$70)/365)*חישובים!$D$23*(0.1*(ROUND('מודל כלכלי'!$C$59*(1+0.03)^6,-4)))*0.5)))))+(-PV(חישובים!$D$21/12,(('הנחות עסקה'!$D$72*'הנחות עסקה'!$I$70)/365*12),(-FV('מודל כלכלי'!$C$20,(6+(('הנחות עסקה'!$D$71-'הנחות עסקה'!$D$72)*'הנחות עסקה'!$I$70)/365),,'מודל כלכלי'!$C$53)))))*היוון!$C$26)),ROUND('מודל כלכלי'!$C$59*(1+0.03)^6,-4)))-(חישובים!$D$28*(1+חישובים!$D$29)^6))*0.25),-4))+'מודל כלכלי'!$C$45)/'מודל כלכלי'!$C$45)^(1/6)-1 -> 0.21202784 | D11: =(((ROUND((IF('מודל כלכלי'!$C$26="פליפ",((-PV(חישובים!$D$21/12,(('הנחות עסקה'!$D$72*'הנחות עסקה'!$I$70)/365*12),(-FV('מודל כלכלי'!$C$20,(7+(('הנחות עסקה'!$D$71-'הנחות עסקה'!$D$72)*'הנחות עסקה'!$I$70)/365),,'מודל כלכלי'!$C$53))))+((0.07*(ROUND('מודל כלכלי'!$C$59*(1+0.03)^7,-4)))+(0.13*(ROUND('מודל כלכלי'!$C$59*(1+0.03)^7,-4)))+(-PV(חישובים!$D$21,((('הנחות עסקה'!$D$72*'הנחות עסקה'!$I$70)-30)/365),,((0.7*(ROUND('מודל כלכלי'!$C$59*(1+0.03)^7,-4)))+(((('הנחות עסקה'!$D$72*'הנחות עסקה'!$I$70)-30)/365)*חישובים!$D$23*(0.7*(ROUND('מודל כלכלי'!$C$59*(1+0.03)^7,-4)))*0.5))))+(-PV(חישובים!$D$21,(('הנחות עסקה'!$D$72*'הנחות עסקה'!$I$70)/365),,((0.1*(ROUND('מודל כלכלי'!$C$59*(1+0.03)^7,-4)))+((('הנחות עסקה'!$D$72*'הנחות עסקה'!$I$70)/365)*חישובים!$D$23*(0.1*(ROUND('מודל כלכלי'!$C$59*(1+0.03)^7,-4)))*0.5)))))+(-(((0.07*(ROUND('מודל כלכלי'!$C$59*(1+0.03)^7,-4)))+(0.13*(ROUND('מודל כלכלי'!$C$59*(1+0.03)^7,-4)))+(-PV(חישובים!$D$21,((('הנחות עסקה'!$D$72*'הנחות עסקה'!$I$70)-30)/365),,((0.7*(ROUND('מודל כלכלי'!$C$59*(1+0.03)^7,-4)))+(((('הנחות עסקה'!$D$72*'הנחות עסקה'!$I$70)-30)/365)*חישובים!$D$23*(0.7*(ROUND('מודל כלכלי'!$C$59*(1+0.03)^7,-4)))*0.5))))+(-PV(חישובים!$D$21,(('הנחות עסקה'!$D$72*'הנחות עסקה'!$I$70)/365),,((0.1*(ROUND('מודל כלכלי'!$C$59*(1+0.03)^7,-4)))+((('הנחות עסקה'!$D$72*'הנחות עסקה'!$I$70)/365)*חישובים!$D$23*(0.1*(ROUND('מודל כלכלי'!$C$59*(1+0.03)^7,-4)))*0.5)))))+(-PV(חישובים!$D$21/12,(('הנחות עסקה'!$D$72*'הנחות עסקה'!$I$70)/365*12),(-FV('מודל כלכלי'!$C$20,(7+(('הנחות עסקה'!$D$71-'הנחות עסקה'!$D$72)*'הנחות עסקה'!$I$70)/365),,'מודל כלכלי'!$C$53)))))*היוון!$C$26)),ROUND('מודל כלכלי'!$C$59*(1+0.03)^7,-4)))+(ROUND(FV('מודל כלכלי'!$C$17/12,7*12,'מודל כלכלי'!$C$48,'מודל כלכלי'!$C$46),-4))+(ROUND(-'מודל כלכלי'!$C$66*(IF('מודל כלכלי'!$C$26="פליפ",((-PV(חישובים!$D$21/12,(('הנחות עסקה'!$D$72*'הנחות עסקה'!$I$70)/365*12),(-FV('מודל כלכלי'!$C$20,(7+(('הנחות עסקה'!$D$71-'הנחות עסקה'!$D$72)*'הנחות עסקה'!$I$70)/365),,'מודל כלכלי'!$C$53))))+((0.07*(ROUND('מודל כלכלי'!$C$59*(1+0.03)^7,-4)))+(0.13*(ROUND('מודל כלכלי'!$C$59*(1+0.03)^7,-4)))+(-PV(חישובים!$D$21,((('הנחות עסקה'!$D$72*'הנחות עסקה'!$I$70)-30)/365),,((0.7*(ROUND('מודל כלכלי'!$C$59*(1+0.03)^7,-4)))+(((('הנחות עסקה'!$D$72*'הנחות עסקה'!$I$70)-30)/365)*חישובים!$D$23*(0.7*(ROUND('מודל כלכלי'!$C$59*(1+0.03)^7,-4)))*0.5))))+(-PV(חישובים!$D$21,(('הנחות עסקה'!$D$72*'הנחות עסקה'!$I$70)/365),,((0.1*(ROUND('מודל כלכלי'!$C$59*(1+0.03)^7,-4)))+((('הנחות עסקה'!$D$72*'הנחות עסקה'!$I$70)/365)*חישובים!$D$23*(0.1*(ROUND('מודל כלכלי'!$C$59*(1+0.03)^7,-4)))*0.5)))))+(-(((0.07*(ROUND('מודל כלכלי'!$C$59*(1+0.03)^7,-4)))+(0.13*(ROUND('מודל כלכלי'!$C$59*(1+0.03)^7,-4)))+(-PV(חישובים!$D$21,((('הנחות עסקה'!$D$72*'הנחות עסקה'!$I$70)-30)/365),,((0.7*(ROUND('מודל כלכלי'!$C$59*(1+0.03)^7,-4)))+(((('הנחות עסקה'!$D$72*'הנחות עסקה'!$I$70)-30)/365)*חישובים!$D$23*(0.7*(ROUND('מודל כלכלי'!$C$59*(1+0.03)^7,-4)))*0.5))))+(-PV(חישובים!$D$21,(('הנחות עסקה'!$D$72*'הנחות עסקה'!$I$70)/365),,((0.1*(ROUND('מודל כלכלי'!$C$59*(1+0.03)^7,-4)))+((('הנחות עסקה'!$D$72*'הנחות עסקה'!$I$70)/365)*חישובים!$D$23*(0.1*(ROUND('מודל כלכלי'!$C$59*(1+0.03)^7,-4)))*0.5)))))+(-PV(חישובים!$D$21/12,(('הנחות עסקה'!$D$72*'הנחות עסקה'!$I$70)/365*12),(-FV('מודל כלכלי'!$C$20,(7+(('הנחות עסקה'!$D$71-'הנחות עסקה'!$D$72)*'הנחות עסקה'!$I$70)/365),,'מודל כלכלי'!$C$53)))))*היוון!$C$26)),ROUND('מודל כלכלי'!$C$59*(1+0.03)^7,-4)))*'מודל כלכלי'!$C$14-'מודל כלכלי'!$C$68*(IF('מודל כלכלי'!$C$26="פליפ",((-PV(חישובים!$D$21/12,(('הנחות עסקה'!$D$72*'הנחות עסקה'!$I$70)/365*12),(-FV('מודל כלכלי'!$C$20,(7+(('הנחות עסקה'!$D$71-'הנחות עסקה'!$D$72)*'הנחות עסקה'!$I$70)/365),,'מודל כלכלי'!$C$53))))+((0.07*(ROUND('מודל כלכלי'!$C$59*(1+0.03)^7,-4)))+(0.13*(ROUND('מודל כלכלי'!$C$59*(1+0.03)^7,-4)))+(-PV(חישובים!$D$21,((('הנחות עסקה'!$D$72*'הנחות עסקה'!$I$70)-30)/365),,((0.7*(ROUND('מודל כלכלי'!$C$59*(1+0.03)^7,-4)))+(((('הנחות עסקה'!$D$72*'הנחות עסקה'!$I$70)-30)/365)*חישובים!$D$23*(0.7*(ROUND('מודל כלכלי'!$C$59*(1+0.03)^7,-4)))*0.5))))+(-PV(חישובים!$D$21,(('הנחות עסקה'!$D$72*'הנחות עסקה'!$I$70)/365),,((0.1*(ROUND('מודל כלכלי'!$C$59*(1+0.03)^7,-4)))+((('הנחות עסקה'!$D$72*'הנחות עסקה'!$I$70)/365)*חישובים!$D$23*(0.1*(ROUND('מודל כלכלי'!$C$59*(1+0.03)^7,-4)))*0.5)))))+(-(((0.07*(ROUND('מודל כלכלי'!$C$59*(1+0.03)^7,-4)))+(0.13*(ROUND('מודל כלכלי'!$C$59*(1+0.03)^7,-4)))+(-PV(חישובים!$D$21,((('הנחות עסקה'!$D$72*'הנחות עסקה'!$I$70)-30)/365),,((0.7*(ROUND('מודל כלכלי'!$C$59*(1+0.03)^7,-4)))+(((('הנחות עסקה'!$D$72*'הנחות עסקה'!$I$70)-30)/365)*חישובים!$D$23*(0.7*(ROUND('מודל כלכלי'!$C$59*(1+0.03)^7,-4)))*0.5))))+(-PV(חישובים!$D$21,(('הנחות עסקה'!$D$72*'הנחות עסקה'!$I$70)/365),,((0.1*(ROUND('מודל כלכלי'!$C$59*(1+0.03)^7,-4)))+((('הנחות עסקה'!$D$72*'הנחות עסקה'!$I$70)/365)*חישובים!$D$23*(0.1*(ROUND('מודל כלכלי'!$C$59*(1+0.03)^7,-4)))*0.5)))))+(-PV(חישובים!$D$21/12,(('הנחות עסקה'!$D$72*'הנחות עסקה'!$I$70)/365*12),(-FV('מודל כלכלי'!$C$20,(7+(('הנחות עסקה'!$D$71-'הנחות עסקה'!$D$72)*'הנחות עסקה'!$I$70)/365),,'מודל כלכלי'!$C$53)))))*היוון!$C$26)),ROUND('מודל כלכלי'!$C$59*(1+0.03)^7,-4)))*'מודל כלכלי'!$C$14+'מודל כלכלי'!$C$70,-3))+(ROUND(-FV(חישובים!$D$22,7*12,'מודל כלכלי'!$C$55),-3))+(-'מודל כלכלי'!$C$45)+(-MAX(0,(IF('מודל כלכלי'!$C$26="פליפ",((-PV(חישובים!$D$21/12,(('הנחות עסקה'!$D$72*'הנחות עסקה'!$I$70)/365*12),(-FV('מודל כלכלי'!$C$20,(7+(('הנחות עסקה'!$D$71-'הנחות עסקה'!$D$72)*'הנחות עסקה'!$I$70)/365),,'מודל כלכלי'!$C$53))))+((0.07*(ROUND('מודל כלכלי'!$C$59*(1+0.03)^7,-4)))+(0.13*(ROUND('מודל כלכלי'!$C$59*(1+0.03)^7,-4)))+(-PV(חישובים!$D$21,((('הנחות עסקה'!$D$72*'הנחות עסקה'!$I$70)-30)/365),,((0.7*(ROUND('מודל כלכלי'!$C$59*(1+0.03)^7,-4)))+(((('הנחות עסקה'!$D$72*'הנחות עסקה'!$I$70)-30)/365)*חישובים!$D$23*(0.7*(ROUND('מודל כלכלי'!$C$59*(1+0.03)^7,-4)))*0.5))))+(-PV(חישובים!$D$21,(('הנחות עסקה'!$D$72*'הנחות עסקה'!$I$70)/365),,((0.1*(ROUND('מודל כלכלי'!$C$59*(1+0.03)^7,-4)))+((('הנחות עסקה'!$D$72*'הנחות עסקה'!$I$70)/365)*חישובים!$D$23*(0.1*(ROUND('מודל כלכלי'!$C$59*(1+0.03)^7,-4)))*0.5)))))+(-(((0.07*(ROUND('מודל כלכלי'!$C$59*(1+0.03)^7,-4)))+(0.13*(ROUND('מודל כלכלי'!$C$59*(1+0.03)^7,-4)))+(-PV(חישובים!$D$21,((('הנחות עסקה'!$D$72*'הנחות עסקה'!$I$70)-30)/365),,((0.7*(ROUND('מודל כלכלי'!$C$59*(1+0.03)^7,-4)))+(((('הנחות עסקה'!$D$72*'הנחות עסקה'!$I$70)-30)/365)*חישובים!$D$23*(0.7*(ROUND('מודל כלכלי'!$C$59*(1+0.03)^7,-4)))*0.5))))+(-PV(חישובים!$D$21,(('הנחות עסקה'!$D$72*'הנחות עסקה'!$I$70)/365),,((0.1*(ROUND('מודל כלכלי'!$C$59*(1+0.03)^7,-4)))+((('הנחות עסקה'!$D$72*'הנחות עסקה'!$I$70)/365)*חישובים!$D$23*(0.1*(ROUND('מודל כלכלי'!$C$59*(1+0.03)^7,-4)))*0.5)))))+(-PV(חישובים!$D$21/12,(('הנחות עסקה'!$D$72*'הנחות עסקה'!$I$70)/365*12),(-FV('מודל כלכלי'!$C$20,(7+(('הנחות עסקה'!$D$71-'הנחות עסקה'!$D$72)*'הנחות עסקה'!$I$70)/365),,'מודל כלכלי'!$C$53)))))*היוון!$C$26)),ROUND('מודל כלכלי'!$C$59*(1+0.03)^7,-4)))-(חישובים!$D$28*(1+חישובים!$D$29)^7))*0.25),-4))+'מודל כלכלי'!$C$45)/'מודל כלכלי'!$C$45)^(1/7)-1 -> 0.18708916 | E11: =(((ROUND((IF('מודל כלכלי'!$C$26="פליפ",((-PV(חישובים!$D$21/12,(('הנחות עסקה'!$D$72*'הנחות עסקה'!$I$70)/365*12),(-FV('מודל כלכלי'!$C$20,(8+(('הנחות עסקה'!$D$71-'הנחות עסקה'!$D$72)*'הנחות עסקה'!$I$70)/365),,'מודל כלכלי'!$C$53))))+((0.07*(ROUND('מודל כלכלי'!$C$59*(1+0.03)^8,-4)))+(0.13*(ROUND('מודל כלכלי'!$C$59*(1+0.03)^8,-4)))+(-PV(חישובים!$D$21,((('הנחות עסקה'!$D$72*'הנחות עסקה'!$I$70)-30)/365),,((0.7*(ROUND('מודל כלכלי'!$C$59*(1+0.03)^8,-4)))+(((('הנחות עסקה'!$D$72*'הנחות עסקה'!$I$70)-30)/365)*חישובים!$D$23*(0.7*(ROUND('מודל כלכלי'!$C$59*(1+0.03)^8,-4)))*0.5))))+(-PV(חישובים!$D$21,(('הנחות עסקה'!$D$72*'הנחות עסקה'!$I$70)/365),,((0.1*(ROUND('מודל כלכלי'!$C$59*(1+0.03)^8,-4)))+((('הנחות עסקה'!$D$72*'הנחות עסקה'!$I$70)/365)*חישובים!$D$23*(0.1*(ROUND('מודל כלכלי'!$C$59*(1+0.03)^8,-4)))*0.5)))))+(-(((0.07*(ROUND('מודל כלכלי'!$C$59*(1+0.03)^8,-4)))+(0.13*(ROUND('מודל כלכלי'!$C$59*(1+0.03)^8,-4)))+(-PV(חישובים!$D$21,((('הנחות עסקה'!$D$72*'הנחות עסקה'!$I$70)-30)/365),,((0.7*(ROUND('מודל כלכלי'!$C$59*(1+0.03)^8,-4)))+(((('הנחות עסקה'!$D$72*'הנחות עסקה'!$I$70)-30)/365)*חישובים!$D$23*(0.7*(ROUND('מודל כלכלי'!$C$59*(1+0.03)^8,-4)))*0.5))))+(-PV(חישובים!$D$21,(('הנחות עסקה'!$D$72*'הנחות עסקה'!$I$70)/365),,((0.1*(ROUND('מודל כלכלי'!$C$59*(1+0.03)^8,-4)))+((('הנחות עסקה'!$D$72*'הנחות עסקה'!$I$70)/365)*חישובים!$D$23*(0.1*(ROUND('מודל כלכלי'!$C$59*(1+0.03)^8,-4)))*0.5)))))+(-PV(חישובים!$D$21/12,(('הנחות עסקה'!$D$72*'הנחות עסקה'!$I$70)/365*12),(-FV('מודל כלכלי'!$C$20,(8+(('הנחות עסקה'!$D$71-'הנחות עסקה'!$D$72)*'הנחות עסקה'!$I$70)/365),,'מודל כלכלי'!$C$53)))))*היוון!$C$26)),ROUND('מודל כלכלי'!$C$59*(1+0.03)^8,-4)))+(ROUND(FV('מודל כלכלי'!$C$17/12,8*12,'מודל כלכלי'!$C$48,'מודל כלכלי'!$C$46),-4))+(ROUND(-'מודל כלכלי'!$C$66*(IF('מודל כלכלי'!$C$26="פליפ",((-PV(חישובים!$D$21/12,(('הנחות עסקה'!$D$72*'הנחות עסקה'!$I$70)/365*12),(-FV('מודל כלכלי'!$C$20,(8+(('הנחות עסקה'!$D$71-'הנחות עסקה'!$D$72)*'הנחות עסקה'!$I$70)/365),,'מודל כלכלי'!$C$53))))+((0.07*(ROUND('מודל כלכלי'!$C$59*(1+0.03)^8,-4)))+(0.13*(ROUND('מודל כלכלי'!$C$59*(1+0.03)^8,-4)))+(-PV(חישובים!$D$21,((('הנחות עסקה'!$D$72*'הנחות עסקה'!$I$70)-30)/365),,((0.7*(ROUND('מודל כלכלי'!$C$59*(1+0.03)^8,-4)))+(((('הנחות עסקה'!$D$72*'הנחות עסקה'!$I$70)-30)/365)*חישובים!$D$23*(0.7*(ROUND('מודל כלכלי'!$C$59*(1+0.03)^8,-4)))*0.5))))+(-PV(חישובים!$D$21,(('הנחות עסקה'!$D$72*'הנחות עסקה'!$I$70)/365),,((0.1*(ROUND('מודל כלכלי'!$C$59*(1+0.03)^8,-4)))+((('הנחות עסקה'!$D$72*'הנחות עסקה'!$I$70)/365)*חישובים!$D$23*(0.1*(ROUND('מודל כלכלי'!$C$59*(1+0.03)^8,-4)))*0.5)))))+(-(((0.07*(ROUND('מודל כלכלי'!$C$59*(1+0.03)^8,-4)))+(0.13*(ROUND('מודל כלכלי'!$C$59*(1+0.03)^8,-4)))+(-PV(חישובים!$D$21,((('הנחות עסקה'!$D$72*'הנחות עסקה'!$I$70)-30)/365),,((0.7*(ROUND('מודל כלכלי'!$C$59*(1+0.03)^8,-4)))+(((('הנחות עסקה'!$D$72*'הנחות עסקה'!$I$70)-30)/365)*חישובים!$D$23*(0.7*(ROUND('מודל כלכלי'!$C$59*(1+0.03)^8,-4)))*0.5))))+(-PV(חישובים!$D$21,(('הנחות עסקה'!$D$72*'הנחות עסקה'!$I$70)/365),,((0.1*(ROUND('מודל כלכלי'!$C$59*(1+0.03)^8,-4)))+((('הנחות עסקה'!$D$72*'הנחות עסקה'!$I$70)/365)*חישובים!$D$23*(0.1*(ROUND('מודל כלכלי'!$C$59*(1+0.03)^8,-4)))*0.5)))))+(-PV(חישובים!$D$21/12,(('הנחות עסקה'!$D$72*'הנחות עסקה'!$I$70)/365*12),(-FV('מודל כלכלי'!$C$20,(8+(('הנחות עסקה'!$D$71-'הנחות עסקה'!$D$72)*'הנחות עסקה'!$I$70)/365),,'מודל כלכלי'!$C$53)))))*היוון!$C$26)),ROUND('מודל כלכלי'!$C$59*(1+0.03)^8,-4)))*'מודל כלכלי'!$C$14-'מודל כלכלי'!$C$68*(IF('מודל כלכלי'!$C$26="פליפ",((-PV(חישובים!$D$21/12,(('הנחות עסקה'!$D$72*'הנחות עסקה'!$I$70)/365*12),(-FV('מודל כלכלי'!$C$20,(8+(('הנחות עסקה'!$D$71-'הנחות עסקה'!$D$72)*'הנחות עסקה'!$I$70)/365),,'מודל כלכלי'!$C$53))))+((0.07*(ROUND('מודל כלכלי'!$C$59*(1+0.03)^8,-4)))+(0.13*(ROUND('מודל כלכלי'!$C$59*(1+0.03)^8,-4)))+(-PV(חישובים!$D$21,((('הנחות עסקה'!$D$72*'הנחות עסקה'!$I$70)-30)/365),,((0.7*(ROUND('מודל כלכלי'!$C$59*(1+0.03)^8,-4)))+(((('הנחות עסקה'!$D$72*'הנחות עסקה'!$I$70)-30)/365)*חישובים!$D$23*(0.7*(ROUND('מודל כלכלי'!$C$59*(1+0.03)^8,-4)))*0.5))))+(-PV(חישובים!$D$21,(('הנחות עסקה'!$D$72*'הנחות עסקה'!$I$70)/365),,((0.1*(ROUND('מודל כלכלי'!$C$59*(1+0.03)^8,-4)))+((('הנחות עסקה'!$D$72*'הנחות עסקה'!$I$70)/365)*חישובים!$D$23*(0.1*(ROUND('מודל כלכלי'!$C$59*(1+0.03)^8,-4)))*0.5)))))+(-(((0.07*(ROUND('מודל כלכלי'!$C$59*(1+0.03)^8,-4)))+(0.13*(ROUND('מודל כלכלי'!$C$59*(1+0.03)^8,-4)))+(-PV(חישובים!$D$21,((('הנחות עסקה'!$D$72*'הנחות עסקה'!$I$70)-30)/365),,((0.7*(ROUND('מודל כלכלי'!$C$59*(1+0.03)^8,-4)))+(((('הנחות עסקה'!$D$72*'הנחות עסקה'!$I$70)-30)/365)*חישובים!$D$23*(0.7*(ROUND('מודל כלכלי'!$C$59*(1+0.03)^8,-4)))*0.5))))+(-PV(חישובים!$D$21,(('הנחות עסקה'!$D$72*'הנחות עסקה'!$I$70)/365),,((0.1*(ROUND('מודל כלכלי'!$C$59*(1+0.03)^8,-4)))+((('הנחות עסקה'!$D$72*'הנחות עסקה'!$I$70)/365)*חישובים!$D$23*(0.1*(ROUND('מודל כלכלי'!$C$59*(1+0.03)^8,-4)))*0.5)))))+(-PV(חישובים!$D$21/12,(('הנחות עסקה'!$D$72*'הנחות עסקה'!$I$70)/365*12),(-FV('מודל כלכלי'!$C$20,(8+(('הנחות עסקה'!$D$71-'הנחות עסקה'!$D$72)*'הנחות עסקה'!$I$70)/365),,'מודל כלכלי'!$C$53)))))*היוון!$C$26)),ROUND('מודל כלכלי'!$C$59*(1+0.03)^8,-4)))*'מודל כלכלי'!$C$14+'מודל כלכלי'!$C$70,-3))+(ROUND(-FV(חישובים!$D$22,8*12,'מודל כלכלי'!$C$55),-3))+(-'מודל כלכלי'!$C$45)+(-MAX(0,(IF('מודל כלכלי'!$C$26="פליפ",((-PV(חישובים!$D$21/12,(('הנחות עסקה'!$D$72*'הנחות עסקה'!$I$70)/365*12),(-FV('מודל כלכלי'!$C$20,(8+(('הנחות עסקה'!$D$71-'הנחות עסקה'!$D$72)*'הנחות עסקה'!$I$70)/365),,'מודל כלכלי'!$C$53))))+((0.07*(ROUND('מודל כלכלי'!$C$59*(1+0.03)^8,-4)))+(0.13*(ROUND('מודל כלכלי'!$C$59*(1+0.03)^8,-4)))+(-PV(חישובים!$D$21,((('הנחות עסקה'!$D$72*'הנחות עסקה'!$I$70)-30)/365),,((0.7*(ROUND('מודל כלכלי'!$C$59*(1+0.03)^8,-4)))+(((('הנחות עסקה'!$D$72*'הנחות עסקה'!$I$70)-30)/365)*חישובים!$D$23*(0.7*(ROUND('מודל כלכלי'!$C$59*(1+0.03)^8,-4)))*0.5))))+(-PV(חישובים!$D$21,(('הנחות עסקה'!$D$72*'הנחות עסקה'!$I$70)/365),,((0.1*(ROUND('מודל כלכלי'!$C$59*(1+0.03)^8,-4)))+((('הנחות עסקה'!$D$72*'הנחות עסקה'!$I$70)/365)*חישובים!$D$23*(0.1*(ROUND('מודל כלכלי'!$C$59*(1+0.03)^8,-4)))*0.5)))))+(-(((0.07*(ROUND('מודל כלכלי'!$C$59*(1+0.03)^8,-4)))+(0.13*(ROUND('מודל כלכלי'!$C$59*(1+0.03)^8,-4)))+(-PV(חישובים!$D$21,((('הנחות עסקה'!$D$72*'הנחות עסקה'!$I$70)-30)/365),,((0.7*(ROUND('מודל כלכלי'!$C$59*(1+0.03)^8,-4)))+(((('הנחות עסקה'!$D$72*'הנחות עסקה'!$I$70)-30)/365)*חישובים!$D$23*(0.7*(ROUND('מודל כלכלי'!$C$59*(1+0.03)^8,-4)))*0.5))))+(-PV(חישובים!$D$21,(('הנחות עסקה'!$D$72*'הנחות עסקה'!$I$70)/365),,((0.1*(ROUND('מודל כלכלי'!$C$59*(1+0.03)^8,-4)))+((('הנחות עסקה'!$D$72*'הנחות עסקה'!$I$70)/365)*חישובים!$D$23*(0.1*(ROUND('מודל כלכלי'!$C$59*(1+0.03)^8,-4)))*0.5)))))+(-PV(חישובים!$D$21/12,(('הנחות עסקה'!$D$72*'הנחות עסקה'!$I$70)/365*12),(-FV('מודל כלכלי'!$C$20,(8+(('הנחות עסקה'!$D$71-'הנחות עסקה'!$D$72)*'הנחות עסקה'!$I$70)/365),,'מודל כלכלי'!$C$53)))))*היוון!$C$26)),ROUND('מודל כלכלי'!$C$59*(1+0.03)^8,-4)))-(חישובים!$D$28*(1+חישובים!$D$29)^8))*0.25),-4))+'מודל כלכלי'!$C$45)/'מודל כלכלי'!$C$45)^(1/8)-1 -> 0.16713625 | F11: =(((ROUND((IF('מודל כלכלי'!$C$26="פליפ",((-PV(חישובים!$D$21/12,(('הנחות עסקה'!$D$72*'הנחות עסקה'!$I$70)/365*12),(-FV('מודל כלכלי'!$C$20,(9+(('הנחות עסקה'!$D$71-'הנחות עסקה'!$D$72)*'הנחות עסקה'!$I$70)/365),,'מודל כלכלי'!$C$53))))+((0.07*(ROUND('מודל כלכלי'!$C$59*(1+0.03)^9,-4)))+(0.13*(ROUND('מודל כלכלי'!$C$59*(1+0.03)^9,-4)))+(-PV(חישובים!$D$21,((('הנחות עסקה'!$D$72*'הנחות עסקה'!$I$70)-30)/365),,((0.7*(ROUND('מודל כלכלי'!$C$59*(1+0.03)^9,-4)))+(((('הנחות עסקה'!$D$72*'הנחות עסקה'!$I$70)-30)/365)*חישובים!$D$23*(0.7*(ROUND('מודל כלכלי'!$C$59*(1+0.03)^9,-4)))*0.5))))+(-PV(חישובים!$D$21,(('הנחות עסקה'!$D$72*'הנחות עסקה'!$I$70)/365),,((0.1*(ROUND('מודל כלכלי'!$C$59*(1+0.03)^9,-4)))+((('הנחות עסקה'!$D$72*'הנחות עסקה'!$I$70)/365)*חישובים!$D$23*(0.1*(ROUND('מודל כלכלי'!$C$59*(1+0.03)^9,-4)))*0.5)))))+(-(((0.07*(ROUND('מודל כלכלי'!$C$59*(1+0.03)^9,-4)))+(0.13*(ROUND('מודל כלכלי'!$C$59*(1+0.03)^9,-4)))+(-PV(חישובים!$D$21,((('הנחות עסקה'!$D$72*'הנחות עסקה'!$I$70)-30)/365),,((0.7*(ROUND('מודל כלכלי'!$C$59*(1+0.03)^9,-4)))+(((('הנחות עסקה'!$D$72*'הנחות עסקה'!$I$70)-30)/365)*חישובים!$D$23*(0.7*(ROUND('מודל כלכלי'!$C$59*(1+0.03)^9,-4)))*0.5))))+(-PV(חישובים!$D$21,(('הנחות עסקה'!$D$72*'הנחות עסקה'!$I$70)/365),,((0.1*(ROUND('מודל כלכלי'!$C$59*(1+0.03)^9,-4)))+((('הנחות עסקה'!$D$72*'הנחות עסקה'!$I$70)/365)*חישובים!$D$23*(0.1*(ROUND('מודל כלכלי'!$C$59*(1+0.03)^9,-4)))*0.5)))))+(-PV(חישובים!$D$21/12,(('הנחות עסקה'!$D$72*'הנחות עסקה'!$I$70)/365*12),(-FV('מודל כלכלי'!$C$20,(9+(('הנחות עסקה'!$D$71-'הנחות עסקה'!$D$72)*'הנחות עסקה'!$I$70)/365),,'מודל כלכלי'!$C$53)))))*היוון!$C$26)),ROUND('מודל כלכלי'!$C$59*(1+0.03)^9,-4)))+(ROUND(FV('מודל כלכלי'!$C$17/12,9*12,'מודל כלכלי'!$C$48,'מודל כלכלי'!$C$46),-4))+(ROUND(-'מודל כלכלי'!$C$66*(IF('מודל כלכלי'!$C$26="פליפ",((-PV(חישובים!$D$21/12,(('הנחות עסקה'!$D$72*'הנחות עסקה'!$I$70)/365*12),(-FV('מודל כלכלי'!$C$20,(9+(('הנחות עסקה'!$D$71-'הנחות עסקה'!$D$72)*'הנחות עסקה'!$I$70)/365),,'מודל כלכלי'!$C$53))))+((0.07*(ROUND('מודל כלכלי'!$C$59*(1+0.03)^9,-4)))+(0.13*(ROUND('מודל כלכלי'!$C$59*(1+0.03)^9,-4)))+(-PV(חישובים!$D$21,((('הנחות עסקה'!$D$72*'הנחות עסקה'!$I$70)-30)/365),,((0.7*(ROUND('מודל כלכלי'!$C$59*(1+0.03)^9,-4)))+(((('הנחות עסקה'!$D$72*'הנחות עסקה'!$I$70)-30)/365)*חישובים!$D$23*(0.7*(ROUND('מודל כלכלי'!$C$59*(1+0.03)^9,-4)))*0.5))))+(-PV(חישובים!$D$21,(('הנחות עסקה'!$D$72*'הנחות עסקה'!$I$70)/365),,((0.1*(ROUND('מודל כלכלי'!$C$59*(1+0.03)^9,-4)))+((('הנחות עסקה'!$D$72*'הנחות עסקה'!$I$70)/365)*חישובים!$D$23*(0.1*(ROUND('מודל כלכלי'!$C$59*(1+0.03)^9,-4)))*0.5)))))+(-(((0.07*(ROUND('מודל כלכלי'!$C$59*(1+0.03)^9,-4)))+(0.13*(ROUND('מודל כלכלי'!$C$59*(1+0.03)^9,-4)))+(-PV(חישובים!$D$21,((('הנחות עסקה'!$D$72*'הנחות עסקה'!$I$70)-30)/365),,((0.7*(ROUND('מודל כלכלי'!$C$59*(1+0.03)^9,-4)))+(((('הנחות עסקה'!$D$72*'הנחות עסקה'!$I$70)-30)/365)*חישובים!$D$23*(0.7*(ROUND('מודל כלכלי'!$C$59*(1+0.03)^9,-4)))*0.5))))+(-PV(חישובים!$D$21,(('הנחות עסקה'!$D$72*'הנחות עסקה'!$I$70)/365),,((0.1*(ROUND('מודל כלכלי'!$C$59*(1+0.03)^9,-4)))+((('הנחות עסקה'!$D$72*'הנחות עסקה'!$I$70)/365)*חישובים!$D$23*(0.1*(ROUND('מודל כלכלי'!$C$59*(1+0.03)^9,-4)))*0.5)))))+(-PV(חישובים!$D$21/12,(('הנחות עסקה'!$D$72*'הנחות עסקה'!$I$70)/365*12),(-FV('מודל כלכלי'!$C$20,(9+(('הנחות עסקה'!$D$71-'הנחות עסקה'!$D$72)*'הנחות עסקה'!$I$70)/365),,'מודל כלכלי'!$C$53)))))*היוון!$C$26)),ROUND('מודל כלכלי'!$C$59*(1+0.03)^9,-4)))*'מודל כלכלי'!$C$14-'מודל כלכלי'!$C$68*(IF('מודל כלכלי'!$C$26="פליפ",((-PV(חישובים!$D$21/12,(('הנחות עסקה'!$D$72*'הנחות עסקה'!$I$70)/365*12),(-FV('מודל כלכלי'!$C$20,(9+(('הנחות עסקה'!$D$71-'הנחות עסקה'!$D$72)*'הנחות עסקה'!$I$70)/365),,'מודל כלכלי'!$C$53))))+((0.07*(ROUND('מודל כלכלי'!$C$59*(1+0.03)^9,-4)))+(0.13*(ROUND('מודל כלכלי'!$C$59*(1+0.03)^9,-4)))+(-PV(חישובים!$D$21,((('הנחות עסקה'!$D$72*'הנחות עסקה'!$I$70)-30)/365),,((0.7*(ROUND('מודל כלכלי'!$C$59*(1+0.03)^9,-4)))+(((('הנחות עסקה'!$D$72*'הנחות עסקה'!$I$70)-30)/365)*חישובים!$D$23*(0.7*(ROUND('מודל כלכלי'!$C$59*(1+0.03)^9,-4)))*0.5))))+(-PV(חישובים!$D$21,(('הנחות עסקה'!$D$72*'הנחות עסקה'!$I$70)/365),,((0.1*(ROUND('מודל כלכלי'!$C$59*(1+0.03)^9,-4)))+((('הנחות עסקה'!$D$72*'הנחות עסקה'!$I$70)/365)*חישובים!$D$23*(0.1*(ROUND('מודל כלכלי'!$C$59*(1+0.03)^9,-4)))*0.5)))))+(-(((0.07*(ROUND('מודל כלכלי'!$C$59*(1+0.03)^9,-4)))+(0.13*(ROUND('מודל כלכלי'!$C$59*(1+0.03)^9,-4)))+(-PV(חישובים!$D$21,((('הנחות עסקה'!$D$72*'הנחות עסקה'!$I$70)-30)/365),,((0.7*(ROUND('מודל כלכלי'!$C$59*(1+0.03)^9,-4)))+(((('הנחות עסקה'!$D$72*'הנחות עסקה'!$I$70)-30)/365)*חישובים!$D$23*(0.7*(ROUND('מודל כלכלי'!$C$59*(1+0.03)^9,-4)))*0.5))))+(-PV(חישובים!$D$21,(('הנחות עסקה'!$D$72*'הנחות עסקה'!$I$70)/365),,((0.1*(ROUND('מודל כלכלי'!$C$59*(1+0.03)^9,-4)))+((('הנחות עסקה'!$D$72*'הנחות עסקה'!$I$70)/365)*חישובים!$D$23*(0.1*(ROUND('מודל כלכלי'!$C$59*(1+0.03)^9,-4)))*0.5)))))+(-PV(חישובים!$D$21/12,(('הנחות עסקה'!$D$72*'הנחות עסקה'!$I$70)/365*12),(-FV('מודל כלכלי'!$C$20,(9+(('הנחות עסקה'!$D$71-'הנחות עסקה'!$D$72)*'הנחות עסקה'!$I$70)/365),,'מודל כלכלי'!$C$53)))))*היוון!$C$26)),ROUND('מודל כלכלי'!$C$59*(1+0.03)^9,-4)))*'מודל כלכלי'!$C$14+'מודל כלכלי'!$C$70,-3))+(ROUND(-FV(חישובים!$D$22,9*12,'מודל כלכלי'!$C$55),-3))+(-'מודל כלכלי'!$C$45)+(-MAX(0,(IF('מודל כלכלי'!$C$26="פליפ",((-PV(חישובים!$D$21/12,(('הנחות עסקה'!$D$72*'הנחות עסקה'!$I$70)/365*12),(-FV('מודל כלכלי'!$C$20,(9+(('הנחות עסקה'!$D$71-'הנחות עסקה'!$D$72)*'הנחות עסקה'!$I$70)/365),,'מודל כלכלי'!$C$53))))+((0.07*(ROUND('מודל כלכלי'!$C$59*(1+0.03)^9,-4)))+(0.13*(ROUND('מודל כלכלי'!$C$59*(1+0.03)^9,-4)))+(-PV(חישובים!$D$21,((('הנחות עסקה'!$D$72*'הנחות עסקה'!$I$70)-30)/365),,((0.7*(ROUND('מודל כלכלי'!$C$59*(1+0.03)^9,-4)))+(((('הנחות עסקה'!$D$72*'הנחות עסקה'!$I$70)-30)/365)*חישובים!$D$23*(0.7*(ROUND('מודל כלכלי'!$C$59*(1+0.03)^9,-4)))*0.5))))+(-PV(חישובים!$D$21,(('הנחות עסקה'!$D$72*'הנחות עסקה'!$I$70)/365),,((0.1*(ROUND('מודל כלכלי'!$C$59*(1+0.03)^9,-4)))+((('הנחות עסקה'!$D$72*'הנחות עסקה'!$I$70)/365)*חישובים!$D$23*(0.1*(ROUND('מודל כלכלי'!$C$59*(1+0.03)^9,-4)))*0.5)))))+(-(((0.07*(ROUND('מודל כלכלי'!$C$59*(1+0.03)^9,-4)))+(0.13*(ROUND('מודל כלכלי'!$C$59*(1+0.03)^9,-4)))+(-PV(חישובים!$D$21,((('הנחות עסקה'!$D$72*'הנחות עסקה'!$I$70)-30)/365),,((0.7*(ROUND('מודל כלכלי'!$C$59*(1+0.03)^9,-4)))+(((('הנחות עסקה'!$D$72*'הנחות עסקה'!$I$70)-30)/365)*חישובים!$D$23*(0.7*(ROUND('מודל כלכלי'!$C$59*(1+0.03)^9,-4)))*0.5))))+(-PV(חישובים!$D$21,(('הנחות עסקה'!$D$72*'הנחות עסקה'!$I$70)/365),,((0.1*(ROUND('מודל כלכלי'!$C$59*(1+0.03)^9,-4)))+((('הנחות עסקה'!$D$72*'הנחות עסקה'!$I$70)/365)*חישובים!$D$23*(0.1*(ROUND('מודל כלכלי'!$C$59*(1+0.03)^9,-4)))*0.5)))))+(-PV(חישובים!$D$21/12,(('הנחות עסקה'!$D$72*'הנחות עסקה'!$I$70)/365*12),(-FV('מודל כלכלי'!$C$20,(9+(('הנחות עסקה'!$D$71-'הנחות עסקה'!$D$72)*'הנחות עסקה'!$I$70)/365),,'מודל כלכלי'!$C$53)))))*היוון!$C$26)),ROUND('מודל כלכלי'!$C$59*(1+0.03)^9,-4)))-(חישובים!$D$28*(1+חישובים!$D$29)^9))*0.25),-4))+'מודל כלכלי'!$C$45)/'מודל כלכלי'!$C$45)^(1/9)-1 -> 0.15277573 | G11: =(((ROUND((IF('מודל כלכלי'!$C$26="פליפ",((-PV(חישובים!$D$21/12,(('הנחות עסקה'!$D$72*'הנחות עסקה'!$I$70)/365*12),(-FV('מודל כלכלי'!$C$20,(10+(('הנחות עסקה'!$D$71-'הנחות עסקה'!$D$72)*'הנחות עסקה'!$I$70)/365),,'מודל כלכלי'!$C$53))))+((0.07*(ROUND('מודל כלכלי'!$C$59*(1+0.03)^10,-4)))+(0.13*(ROUND('מודל כלכלי'!$C$59*(1+0.03)^10,-4)))+(-PV(חישובים!$D$21,((('הנחות עסקה'!$D$72*'הנחות עסקה'!$I$70)-30)/365),,((0.7*(ROUND('מודל כלכלי'!$C$59*(1+0.03)^10,-4)))+(((('הנחות עסקה'!$D$72*'הנחות עסקה'!$I$70)-30)/365)*חישובים!$D$23*(0.7*(ROUND('מודל כלכלי'!$C$59*(1+0.03)^10,-4)))*0.5))))+(-PV(חישובים!$D$21,(('הנחות עסקה'!$D$72*'הנחות עסקה'!$I$70)/365),,((0.1*(ROUND('מודל כלכלי'!$C$59*(1+0.03)^10,-4)))+((('הנחות עסקה'!$D$72*'הנחות עסקה'!$I$70)/365)*חישובים!$D$23*(0.1*(ROUND('מודל כלכלי'!$C$59*(1+0.03)^10,-4)))*0.5)))))+(-(((0.07*(ROUND('מודל כלכלי'!$C$59*(1+0.03)^10,-4)))+(0.13*(ROUND('מודל כלכלי'!$C$59*(1+0.03)^10,-4)))+(-PV(חישובים!$D$21,((('הנחות עסקה'!$D$72*'הנחות עסקה'!$I$70)-30)/365),,((0.7*(ROUND('מודל כלכלי'!$C$59*(1+0.03)^10,-4)))+(((('הנחות עסקה'!$D$72*'הנחות עסקה'!$I$70)-30)/365)*חישובים!$D$23*(0.7*(ROUND('מודל כלכלי'!$C$59*(1+0.03)^10,-4)))*0.5))))+(-PV(חישובים!$D$21,(('הנחות עסקה'!$D$72*'הנחות עסקה'!$I$70)/365),,((0.1*(ROUND('מודל כלכלי'!$C$59*(1+0.03)^10,-4)))+((('הנחות עסקה'!$D$72*'הנחות עסקה'!$I$70)/365)*חישובים!$D$23*(0.1*(ROUND('מודל כלכלי'!$C$59*(1+0.03)^10,-4)))*0.5)))))+(-PV(חישובים!$D$21/12,(('הנחות עסקה'!$D$72*'הנחות עסקה'!$I$70)/365*12),(-FV('מודל כלכלי'!$C$20,(10+(('הנחות עסקה'!$D$71-'הנחות עסקה'!$D$72)*'הנחות עסקה'!$I$70)/365),,'מודל כלכלי'!$C$53)))))*היוון!$C$26)),ROUND('מודל כלכלי'!$C$59*(1+0.03)^10,-4)))+(ROUND(FV('מודל כלכלי'!$C$17/12,10*12,'מודל כלכלי'!$C$48,'מודל כלכלי'!$C$46),-4))+(ROUND(-'מודל כלכלי'!$C$66*(IF('מודל כלכלי'!$C$26="פליפ",((-PV(חישובים!$D$21/12,(('הנחות עסקה'!$D$72*'הנחות עסקה'!$I$70)/365*12),(-FV('מודל כלכלי'!$C$20,(10+(('הנחות עסקה'!$D$71-'הנחות עסקה'!$D$72)*'הנחות עסקה'!$I$70)/365),,'מודל כלכלי'!$C$53))))+((0.07*(ROUND('מודל כלכלי'!$C$59*(1+0.03)^10,-4)))+(0.13*(ROUND('מודל כלכלי'!$C$59*(1+0.03)^10,-4)))+(-PV(חישובים!$D$21,((('הנחות עסקה'!$D$72*'הנחות עסקה'!$I$70)-30)/365),,((0.7*(ROUND('מודל כלכלי'!$C$59*(1+0.03)^10,-4)))+(((('הנחות עסקה'!$D$72*'הנחות עסקה'!$I$70)-30)/365)*חישובים!$D$23*(0.7*(ROUND('מודל כלכלי'!$C$59*(1+0.03)^10,-4)))*0.5))))+(-PV(חישובים!$D$21,(('הנחות עסקה'!$D$72*'הנחות עסקה'!$I$70)/365),,((0.1*(ROUND('מודל כלכלי'!$C$59*(1+0.03)^10,-4)))+((('הנחות עסקה'!$D$72*'הנחות עסקה'!$I$70)/365)*חישובים!$D$23*(0.1*(ROUND('מודל כלכלי'!$C$59*(1+0.03)^10,-4)))*0.5)))))+(-(((0.07*(ROUND('מודל כלכלי'!$C$59*(1+0.03)^10,-4)))+(0.13*(ROUND('מודל כלכלי'!$C$59*(1+0.03)^10,-4)))+(-PV(חישובים!$D$21,((('הנחות עסקה'!$D$72*'הנחות עסקה'!$I$70)-30)/365),,((0.7*(ROUND('מודל כלכלי'!$C$59*(1+0.03)^10,-4)))+(((('הנחות עסקה'!$D$72*'הנחות עסקה'!$I$70)-30)/365)*חישובים!$D$23*(0.7*(ROUND('מודל כלכלי'!$C$59*(1+0.03)^10,-4)))*0.5))))+(-PV(חישובים!$D$21,(('הנחות עסקה'!$D$72*'הנחות עסקה'!$I$70)/365),,((0.1*(ROUND('מודל כלכלי'!$C$59*(1+0.03)^10,-4)))+((('הנחות עסקה'!$D$72*'הנחות עסקה'!$I$70)/365)*חישובים!$D$23*(0.1*(ROUND('מודל כלכלי'!$C$59*(1+0.03)^10,-4)))*0.5)))))+(-PV(חישובים!$D$21/12,(('הנחות עסקה'!$D$72*'הנחות עסקה'!$I$70)/365*12),(-FV('מודל כלכלי'!$C$20,(10+(('הנחות עסקה'!$D$71-'הנחות עסקה'!$D$72)*'הנחות עסקה'!$I$70)/365),,'מודל כלכלי'!$C$53)))))*היוון!$C$26)),ROUND('מודל כלכלי'!$C$59*(1+0.03)^10,-4)))*'מודל כלכלי'!$C$14-'מודל כלכלי'!$C$68*(IF('מודל כלכלי'!$C$26="פליפ",((-PV(חישובים!$D$21/12,(('הנחות עסקה'!$D$72*'הנחות עסקה'!$I$70)/365*12),(-FV('מודל כלכלי'!$C$20,(10+(('הנחות עסקה'!$D$71-'הנחות עסקה'!$D$72)*'הנחות עסקה'!$I$70)/365),,'מודל כלכלי'!$C$53))))+((0.07*(ROUND('מודל כלכלי'!$C$59*(1+0.03)^10,-4)))+(0.13*(ROUND('מודל כלכלי'!$C$59*(1+0.03)^10,-4)))+(-PV(חישובים!$D$21,((('הנחות עסקה'!$D$72*'הנחות עסקה'!$I$70)-30)/365),,((0.7*(ROUND('מודל כלכלי'!$C$59*(1+0.03)^10,-4)))+(((('הנחות עסקה'!$D$72*'הנחות עסקה'!$I$70)-30)/365)*חישובים!$D$23*(0.7*(ROUND('מודל כלכלי'!$C$59*(1+0.03)^10,-4)))*0.5))))+(-PV(חישובים!$D$21,(('הנחות עסקה'!$D$72*'הנחות עסקה'!$I$70)/365),,((0.1*(ROUND('מודל כלכלי'!$C$59*(1+0.03)^10,-4)))+((('הנחות עסקה'!$D$72*'הנחות עסקה'!$I$70)/365)*חישובים!$D$23*(0.1*(ROUND('מודל כלכלי'!$C$59*(1+0.03)^10,-4)))*0.5)))))+(-(((0.07*(ROUND('מודל כלכלי'!$C$59*(1+0.03)^10,-4)))+(0.13*(ROUND('מודל כלכלי'!$C$59*(1+0.03)^10,-4)))+(-PV(חישובים!$D$21,((('הנחות עסקה'!$D$72*'הנחות עסקה'!$I$70)-30)/365),,((0.7*(ROUND('מודל כלכלי'!$C$59*(1+0.03)^10,-4)))+(((('הנחות עסקה'!$D$72*'הנחות עסקה'!$I$70)-30)/365)*חישובים!$D$23*(0.7*(ROUND('מודל כלכלי'!$C$59*(1+0.03)^10,-4)))*0.5))))+(-PV(חישובים!$D$21,(('הנחות עסקה'!$D$72*'הנחות עסקה'!$I$70)/365),,((0.1*(ROUND('מודל כלכלי'!$C$59*(1+0.03)^10,-4)))+((('הנחות עסקה'!$D$72*'הנחות עסקה'!$I$70)/365)*חישובים!$D$23*(0.1*(ROUND('מודל כלכלי'!$C$59*(1+0.03)^10,-4)))*0.5)))))+(-PV(חישובים!$D$21/12,(('הנחות עסקה'!$D$72*'הנחות עסקה'!$I$70)/365*12),(-FV('מודל כלכלי'!$C$20,(10+(('הנחות עסקה'!$D$71-'הנחות עסקה'!$D$72)*'הנחות עסקה'!$I$70)/365),,'מודל כלכלי'!$C$53)))))*היוון!$C$26)),ROUND('מודל כלכלי'!$C$59*(1+0.03)^10,-4)))*'מודל כלכלי'!$C$14+'מודל כלכלי'!$C$70,-3))+(ROUND(-FV(חישובים!$D$22,10*12,'מודל כלכלי'!$C$55),-3))+(-'מודל כלכלי'!$C$45)+(-MAX(0,(IF('מודל כלכלי'!$C$26="פליפ",((-PV(חישובים!$D$21/12,(('הנחות עסקה'!$D$72*'הנחות עסקה'!$I$70)/365*12),(-FV('מודל כלכלי'!$C$20,(10+(('הנחות עסקה'!$D$71-'הנחות עסקה'!$D$72)*'הנחות עסקה'!$I$70)/365),,'מודל כלכלי'!$C$53))))+((0.07*(ROUND('מודל כלכלי'!$C$59*(1+0.03)^10,-4)))+(0.13*(ROUND('מודל כלכלי'!$C$59*(1+0.03)^10,-4)))+(-PV(חישובים!$D$21,((('הנחות עסקה'!$D$72*'הנחות עסקה'!$I$70)-30)/365),,((0.7*(ROUND('מודל כלכלי'!$C$59*(1+0.03)^10,-4)))+(((('הנחות עסקה'!$D$72*'הנחות עסקה'!$I$70)-30)/365)*חישובים!$D$23*(0.7*(ROUND('מודל כלכלי'!$C$59*(1+0.03)^10,-4)))*0.5))))+(-PV(חישובים!$D$21,(('הנחות עסקה'!$D$72*'הנחות עסקה'!$I$70)/365),,((0.1*(ROUND('מודל כלכלי'!$C$59*(1+0.03)^10,-4)))+((('הנחות עסקה'!$D$72*'הנחות עסקה'!$I$70)/365)*חישובים!$D$23*(0.1*(ROUND('מודל כלכלי'!$C$59*(1+0.03)^10,-4)))*0.5)))))+(-(((0.07*(ROUND('מודל כלכלי'!$C$59*(1+0.03)^10,-4)))+(0.13*(ROUND('מודל כלכלי'!$C$59*(1+0.03)^10,-4)))+(-PV(חישובים!$D$21,((('הנחות עסקה'!$D$72*'הנחות עסקה'!$I$70)-30)/365),,((0.7*(ROUND('מודל כלכלי'!$C$59*(1+0.03)^10,-4)))+(((('הנחות עסקה'!$D$72*'הנחות עסקה'!$I$70)-30)/365)*חישובים!$D$23*(0.7*(ROUND('מודל כלכלי'!$C$59*(1+0.03)^10,-4)))*0.5))))+(-PV(חישובים!$D$21,(('הנחות עסקה'!$D$72*'הנחות עסקה'!$I$70)/365),,((0.1*(ROUND('מודל כלכלי'!$C$59*(1+0.03)^10,-4)))+((('הנחות עסקה'!$D$72*'הנחות עסקה'!$I$70)/365)*חישובים!$D$23*(0.1*(ROUND('מודל כלכלי'!$C$59*(1+0.03)^10,-4)))*0.5)))))+(-PV(חישובים!$D$21/12,(('הנחות עסקה'!$D$72*'הנחות עסקה'!$I$70)/365*12),(-FV('מודל כלכלי'!$C$20,(10+(('הנחות עסקה'!$D$71-'הנחות עסקה'!$D$72)*'הנחות עסקה'!$I$70)/365),,'מודל כלכלי'!$C$53)))))*היוון!$C$26)),ROUND('מודל כלכלי'!$C$59*(1+0.03)^10,-4)))-(חישובים!$D$28*(1+חישובים!$D$29)^10))*0.25),-4))+'מודל כלכלי'!$C$45)/'מודל כלכלי'!$C$45)^(1/10)-1 -> 0.14121109 | H11: =(((ROUND((IF('מודל כלכלי'!$C$26="פליפ",((-PV(חישובים!$D$21/12,(('הנחות עסקה'!$D$72*'הנחות עסקה'!$I$70)/365*12),(-FV('מודל כלכלי'!$C$20,(11+(('הנחות עסקה'!$D$71-'הנחות עסקה'!$D$72)*'הנחות עסקה'!$I$70)/365),,'מודל כלכלי'!$C$53))))+((0.07*(ROUND('מודל כלכלי'!$C$59*(1+0.03)^11,-4)))+(0.13*(ROUND('מודל כלכלי'!$C$59*(1+0.03)^11,-4)))+(-PV(חישובים!$D$21,((('הנחות עסקה'!$D$72*'הנחות עסקה'!$I$70)-30)/365),,((0.7*(ROUND('מודל כלכלי'!$C$59*(1+0.03)^11,-4)))+(((('הנחות עסקה'!$D$72*'הנחות עסקה'!$I$70)-30)/365)*חישובים!$D$23*(0.7*(ROUND('מודל כלכלי'!$C$59*(1+0.03)^11,-4)))*0.5))))+(-PV(חישובים!$D$21,(('הנחות עסקה'!$D$72*'הנחות עסקה'!$I$70)/365),,((0.1*(ROUND('מודל כלכלי'!$C$59*(1+0.03)^11,-4)))+((('הנחות עסקה'!$D$72*'הנחות עסקה'!$I$70)/365)*חישובים!$D$23*(0.1*(ROUND('מודל כלכלי'!$C$59*(1+0.03)^11,-4)))*0.5)))))+(-(((0.07*(ROUND('מודל כלכלי'!$C$59*(1+0.03)^11,-4)))+(0.13*(ROUND('מודל כלכלי'!$C$59*(1+0.03)^11,-4)))+(-PV(חישובים!$D$21,((('הנחות עסקה'!$D$72*'הנחות עסקה'!$I$70)-30)/365),,((0.7*(ROUND('מודל כלכלי'!$C$59*(1+0.03)^11,-4)))+(((('הנחות עסקה'!$D$72*'הנחות עסקה'!$I$70)-30)/365)*חישובים!$D$23*(0.7*(ROUND('מודל כלכלי'!$C$59*(1+0.03)^11,-4)))*0.5))))+(-PV(חישובים!$D$21,(('הנחות עסקה'!$D$72*'הנחות עסקה'!$I$70)/365),,((0.1*(ROUND('מודל כלכלי'!$C$59*(1+0.03)^11,-4)))+((('הנחות עסקה'!$D$72*'הנחות עסקה'!$I$70)/365)*חישובים!$D$23*(0.1*(ROUND('מודל כלכלי'!$C$59*(1+0.03)^11,-4)))*0.5)))))+(-PV(חישובים!$D$21/12,(('הנחות עסקה'!$D$72*'הנחות עסקה'!$I$70)/365*12),(-FV('מודל כלכלי'!$C$20,(11+(('הנחות עסקה'!$D$71-'הנחות עסקה'!$D$72)*'הנחות עסקה'!$I$70)/365),,'מודל כלכלי'!$C$53)))))*היוון!$C$26)),ROUND('מודל כלכלי'!$C$59*(1+0.03)^11,-4)))+(ROUND(FV('מודל כלכלי'!$C$17/12,11*12,'מודל כלכלי'!$C$48,'מודל כלכלי'!$C$46),-4))+(ROUND(-'מודל כלכלי'!$C$66*(IF('מודל כלכלי'!$C$26="פליפ",((-PV(חישובים!$D$21/12,(('הנחות עסקה'!$D$72*'הנחות עסקה'!$I$70)/365*12),(-FV('מודל כלכלי'!$C$20,(11+(('הנחות עסקה'!$D$71-'הנחות עסקה'!$D$72)*'הנחות עסקה'!$I$70)/365),,'מודל כלכלי'!$C$53))))+((0.07*(ROUND('מודל כלכלי'!$C$59*(1+0.03)^11,-4)))+(0.13*(ROUND('מודל כלכלי'!$C$59*(1+0.03)^11,-4)))+(-PV(חישובים!$D$21,((('הנחות עסקה'!$D$72*'הנחות עסקה'!$I$70)-30)/365),,((0.7*(ROUND('מודל כלכלי'!$C$59*(1+0.03)^11,-4)))+(((('הנחות עסקה'!$D$72*'הנחות עסקה'!$I$70)-30)/365)*חישובים!$D$23*(0.7*(ROUND('מודל כלכלי'!$C$59*(1+0.03)^11,-4)))*0.5))))+(-PV(חישובים!$D$21,(('הנחות עסקה'!$D$72*'הנחות עסקה'!$I$70)/365),,((0.1*(ROUND('מודל כלכלי'!$C$59*(1+0.03)^11,-4)))+((('הנחות עסקה'!$D$72*'הנחות עסקה'!$I$70)/365)*חישובים!$D$23*(0.1*(ROUND('מודל כלכלי'!$C$59*(1+0.03)^11,-4)))*0.5)))))+(-(((0.07*(ROUND('מודל כלכלי'!$C$59*(1+0.03)^11,-4)))+(0.13*(ROUND('מודל כלכלי'!$C$59*(1+0.03)^11,-4)))+(-PV(חישובים!$D$21,((('הנחות עסקה'!$D$72*'הנחות עסקה'!$I$70)-30)/365),,((0.7*(ROUND('מודל כלכלי'!$C$59*(1+0.03)^11,-4)))+(((('הנחות עסקה'!$D$72*'הנחות עסקה'!$I$70)-30)/365)*חישובים!$D$23*(0.7*(ROUND('מודל כלכלי'!$C$59*(1+0.03)^11,-4)))*0.5))))+(-PV(חישובים!$D$21,(('הנחות עסקה'!$D$72*'הנחות עסקה'!$I$70)/365),,((0.1*(ROUND('מודל כלכלי'!$C$59*(1+0.03)^11,-4)))+((('הנחות עסקה'!$D$72*'הנחות עסקה'!$I$70)/365)*חישובים!$D$23*(0.1*(ROUND('מודל כלכלי'!$C$59*(1+0.03)^11,-4)))*0.5)))))+(-PV(חישובים!$D$21/12,(('הנחות עסקה'!$D$72*'הנחות עסקה'!$I$70)/365*12),(-FV('מודל כלכלי'!$C$20,(11+(('הנחות עסקה'!$D$71-'הנחות עסקה'!$D$72)*'הנחות עסקה'!$I$70)/365),,'מודל כלכלי'!$C$53)))))*היוון!$C$26)),ROUND('מודל כלכלי'!$C$59*(1+0.03)^11,-4)))*'מודל כלכלי'!$C$14-'מודל כלכלי'!$C$68*(IF('מודל כלכלי'!$C$26="פליפ",((-PV(חישובים!$D$21/12,(('הנחות עסקה'!$D$72*'הנחות עסקה'!$I$70)/365*12),(-FV('מודל כלכלי'!$C$20,(11+(('הנחות עסקה'!$D$71-'הנחות עסקה'!$D$72)*'הנחות עסקה'!$I$70)/365),,'מודל כלכלי'!$C$53))))+((0.07*(ROUND('מודל כלכלי'!$C$59*(1+0.03)^11,-4)))+(0.13*(ROUND('מודל כלכלי'!$C$59*(1+0.03)^11,-4)))+(-PV(חישובים!$D$21,((('הנחות עסקה'!$D$72*'הנחות עסקה'!$I$70)-30)/365),,((0.7*(ROUND('מודל כלכלי'!$C$59*(1+0.03)^11,-4)))+(((('הנחות עסקה'!$D$72*'הנחות עסקה'!$I$70)-30)/365)*חישובים!$D$23*(0.7*(ROUND('מודל כלכלי'!$C$59*(1+0.03)^11,-4)))*0.5))))+(-PV(חישובים!$D$21,(('הנחות עסקה'!$D$72*'הנחות עסקה'!$I$70)/365),,((0.1*(ROUND('מודל כלכלי'!$C$59*(1+0.03)^11,-4)))+((('הנחות עסקה'!$D$72*'הנחות עסקה'!$I$70)/365)*חישובים!$D$23*(0.1*(ROUND('מודל כלכלי'!$C$59*(1+0.03)^11,-4)))*0.5)))))+(-(((0.07*(ROUND('מודל כלכלי'!$C$59*(1+0.03)^11,-4)))+(0.13*(ROUND('מודל כלכלי'!$C$59*(1+0.03)^11,-4)))+(-PV(חישובים!$D$21,((('הנחות עסקה'!$D$72*'הנחות עסקה'!$I$70)-30)/365),,((0.7*(ROUND('מודל כלכלי'!$C$59*(1+0.03)^11,-4)))+(((('הנחות עסקה'!$D$72*'הנחות עסקה'!$I$70)-30)/365)*חישובים!$D$23*(0.7*(ROUND('מודל כלכלי'!$C$59*(1+0.03)^11,-4)))*0.5))))+(-PV(חישובים!$D$21,(('הנחות עסקה'!$D$72*'הנחות עסקה'!$I$70)/365),,((0.1*(ROUND('מודל כלכלי'!$C$59*(1+0.03)^11,-4)))+((('הנחות עסקה'!$D$72*'הנחות עסקה'!$I$70)/365)*חישובים!$D$23*(0.1*(ROUND('מודל כלכלי'!$C$59*(1+0.03)^11,-4)))*0.5)))))+(-PV(חישובים!$D$21/12,(('הנחות עסקה'!$D$72*'הנחות עסקה'!$I$70)/365*12),(-FV('מודל כלכלי'!$C$20,(11+(('הנחות עסקה'!$D$71-'הנחות עסקה'!$D$72)*'הנחות עסקה'!$I$70)/365),,'מודל כלכלי'!$C$53)))))*היוון!$C$26)),ROUND('מודל כלכלי'!$C$59*(1+0.03)^11,-4)))*'מודל כלכלי'!$C$14+'מודל כלכלי'!$C$70,-3))+(ROUND(-FV(חישובים!$D$22,11*12,'מודל כלכלי'!$C$55),-3))+(-'מודל כלכלי'!$C$45)+(-MAX(0,(IF('מודל כלכלי'!$C$26="פליפ",((-PV(חישובים!$D$21/12,(('הנחות עסקה'!$D$72*'הנחות עסקה'!$I$70)/365*12),(-FV('מודל כלכלי'!$C$20,(11+(('הנחות עסקה'!$D$71-'הנחות עסקה'!$D$72)*'הנחות עסקה'!$I$70)/365),,'מודל כלכלי'!$C$53))))+((0.07*(ROUND('מודל כלכלי'!$C$59*(1+0.03)^11,-4)))+(0.13*(ROUND('מודל כלכלי'!$C$59*(1+0.03)^11,-4)))+(-PV(חישובים!$D$21,((('הנחות עסקה'!$D$72*'הנחות עסקה'!$I$70)-30)/365),,((0.7*(ROUND('מודל כלכלי'!$C$59*(1+0.03)^11,-4)))+(((('הנחות עסקה'!$D$72*'הנחות עסקה'!$I$70)-30)/365)*חישובים!$D$23*(0.7*(ROUND('מודל כלכלי'!$C$59*(1+0.03)^11,-4)))*0.5))))+(-PV(חישובים!$D$21,(('הנחות עסקה'!$D$72*'הנחות עסקה'!$I$70)/365),,((0.1*(ROUND('מודל כלכלי'!$C$59*(1+0.03)^11,-4)))+((('הנחות עסקה'!$D$72*'הנחות עסקה'!$I$70)/365)*חישובים!$D$23*(0.1*(ROUND('מודל כלכלי'!$C$59*(1+0.03)^11,-4)))*0.5)))))+(-(((0.07*(ROUND('מודל כלכלי'!$C$59*(1+0.03)^11,-4)))+(0.13*(ROUND('מודל כלכלי'!$C$59*(1+0.03)^11,-4)))+(-PV(חישובים!$D$21,((('הנחות עסקה'!$D$72*'הנחות עסקה'!$I$70)-30)/365),,((0.7*(ROUND('מודל כלכלי'!$C$59*(1+0.03)^11,-4)))+(((('הנחות עסקה'!$D$72*'הנחות עסקה'!$I$70)-30)/365)*חישובים!$D$23*(0.7*(ROUND('מודל כלכלי'!$C$59*(1+0.03)^11,-4)))*0.5))))+(-PV(חישובים!$D$21,(('הנחות עסקה'!$D$72*'הנחות עסקה'!$I$70)/365),,((0.1*(ROUND('מודל כלכלי'!$C$59*(1+0.03)^11,-4)))+((('הנחות עסקה'!$D$72*'הנחות עסקה'!$I$70)/365)*חישובים!$D$23*(0.1*(ROUND('מודל כלכלי'!$C$59*(1+0.03)^11,-4)))*0.5)))))+(-PV(חישובים!$D$21/12,(('הנחות עסקה'!$D$72*'הנחות עסקה'!$I$70)/365*12),(-FV('מודל כלכלי'!$C$20,(11+(('הנחות עסקה'!$D$71-'הנחות עסקה'!$D$72)*'הנחות עסקה'!$I$70)/365),,'מודל כלכלי'!$C$53)))))*היוון!$C$26)),ROUND('מודל כלכלי'!$C$59*(1+0.03)^11,-4)))-(חישובים!$D$28*(1+חישובים!$D$29)^11))*0.25),-4))+'מודל כלכלי'!$C$45)/'מודל כלכלי'!$C$45)^(1/11)-1 -> 0.13166653 | I11: =(((ROUND((IF('מודל כלכלי'!$C$26="פליפ",((-PV(חישובים!$D$21/12,(('הנחות עסקה'!$D$72*'הנחות עסקה'!$I$70)/365*12),(-FV('מודל כלכלי'!$C$20,(12+(('הנחות עסקה'!$D$71-'הנחות עסקה'!$D$72)*'הנחות עסקה'!$I$70)/365),,'מודל כלכלי'!$C$53))))+((0.07*(ROUND('מודל כלכלי'!$C$59*(1+0.03)^12,-4)))+(0.13*(ROUND('מודל כלכלי'!$C$59*(1+0.03)^12,-4)))+(-PV(חישובים!$D$21,((('הנחות עסקה'!$D$72*'הנחות עסקה'!$I$70)-30)/365),,((0.7*(ROUND('מודל כלכלי'!$C$59*(1+0.03)^12,-4)))+(((('הנחות עסקה'!$D$72*'הנחות עסקה'!$I$70)-30)/365)*חישובים!$D$23*(0.7*(ROUND('מודל כלכלי'!$C$59*(1+0.03)^12,-4)))*0.5))))+(-PV(חישובים!$D$21,(('הנחות עסקה'!$D$72*'הנחות עסקה'!$I$70)/365),,((0.1*(ROUND('מודל כלכלי'!$C$59*(1+0.03)^12,-4)))+((('הנחות עסקה'!$D$72*'הנחות עסקה'!$I$70)/365)*חישובים!$D$23*(0.1*(ROUND('מודל כלכלי'!$C$59*(1+0.03)^12,-4)))*0.5)))))+(-(((0.07*(ROUND('מודל כלכלי'!$C$59*(1+0.03)^12,-4)))+(0.13*(ROUND('מודל כלכלי'!$C$59*(1+0.03)^12,-4)))+(-PV(חישובים!$D$21,((('הנחות עסקה'!$D$72*'הנחות עסקה'!$I$70)-30)/365),,((0.7*(ROUND('מודל כלכלי'!$C$59*(1+0.03)^12,-4)))+(((('הנחות עסקה'!$D$72*'הנחות עסקה'!$I$70)-30)/365)*חישובים!$D$23*(0.7*(ROUND('מודל כלכלי'!$C$59*(1+0.03)^12,-4)))*0.5))))+(-PV(חישובים!$D$21,(('הנחות עסקה'!$D$72*'הנחות עסקה'!$I$70)/365),,((0.1*(ROUND('מודל כלכלי'!$C$59*(1+0.03)^12,-4)))+((('הנחות עסקה'!$D$72*'הנחות עסקה'!$I$70)/365)*חישובים!$D$23*(0.1*(ROUND('מודל כלכלי'!$C$59*(1+0.03)^12,-4)))*0.5)))))+(-PV(חישובים!$D$21/12,(('הנחות עסקה'!$D$72*'הנחות עסקה'!$I$70)/365*12),(-FV('מודל כלכלי'!$C$20,(12+(('הנחות עסקה'!$D$71-'הנחות עסקה'!$D$72)*'הנחות עסקה'!$I$70)/365),,'מודל כלכלי'!$C$53)))))*היוון!$C$26)),ROUND('מודל כלכלי'!$C$59*(1+0.03)^12,-4)))+(ROUND(FV('מודל כלכלי'!$C$17/12,12*12,'מודל כלכלי'!$C$48,'מודל כלכלי'!$C$46),-4))+(ROUND(-'מודל כלכלי'!$C$66*(IF('מודל כלכלי'!$C$26="פליפ",((-PV(חישובים!$D$21/12,(('הנחות עסקה'!$D$72*'הנחות עסקה'!$I$70)/365*12),(-FV('מודל כלכלי'!$C$20,(12+(('הנחות עסקה'!$D$71-'הנחות עסקה'!$D$72)*'הנחות עסקה'!$I$70)/365),,'מודל כלכלי'!$C$53))))+((0.07*(ROUND('מודל כלכלי'!$C$59*(1+0.03)^12,-4)))+(0.13*(ROUND('מודל כלכלי'!$C$59*(1+0.03)^12,-4)))+(-PV(חישובים!$D$21,((('הנחות עסקה'!$D$72*'הנחות עסקה'!$I$70)-30)/365),,((0.7*(ROUND('מודל כלכלי'!$C$59*(1+0.03)^12,-4)))+(((('הנחות עסקה'!$D$72*'הנחות עסקה'!$I$70)-30)/365)*חישובים!$D$23*(0.7*(ROUND('מודל כלכלי'!$C$59*(1+0.03)^12,-4)))*0.5))))+(-PV(חישובים!$D$21,(('הנחות עסקה'!$D$72*'הנחות עסקה'!$I$70)/365),,((0.1*(ROUND('מודל כלכלי'!$C$59*(1+0.03)^12,-4)))+((('הנחות עסקה'!$D$72*'הנחות עסקה'!$I$70)/365)*חישובים!$D$23*(0.1*(ROUND('מודל כלכלי'!$C$59*(1+0.03)^12,-4)))*0.5)))))+(-(((0.07*(ROUND('מודל כלכלי'!$C$59*(1+0.03)^12,-4)))+(0.13*(ROUND('מודל כלכלי'!$C$59*(1+0.03)^12,-4)))+(-PV(חישובים!$D$21,((('הנחות עסקה'!$D$72*'הנחות עסקה'!$I$70)-30)/365),,((0.7*(ROUND('מודל כלכלי'!$C$59*(1+0.03)^12,-4)))+(((('הנחות עסקה'!$D$72*'הנחות עסקה'!$I$70)-30)/365)*חישובים!$D$23*(0.7*(ROUND('מודל כלכלי'!$C$59*(1+0.03)^12,-4)))*0.5))))+(-PV(חישובים!$D$21,(('הנחות עסקה'!$D$72*'הנחות עסקה'!$I$70)/365),,((0.1*(ROUND('מודל כלכלי'!$C$59*(1+0.03)^12,-4)))+((('הנחות עסקה'!$D$72*'הנחות עסקה'!$I$70)/365)*חישובים!$D$23*(0.1*(ROUND('מודל כלכלי'!$C$59*(1+0.03)^12,-4)))*0.5)))))+(-PV(חישובים!$D$21/12,(('הנחות עסקה'!$D$72*'הנחות עסקה'!$I$70)/365*12),(-FV('מודל כלכלי'!$C$20,(12+(('הנחות עסקה'!$D$71-'הנחות עסקה'!$D$72)*'הנחות עסקה'!$I$70)/365),,'מודל כלכלי'!$C$53)))))*היוון!$C$26)),ROUND('מודל כלכלי'!$C$59*(1+0.03)^12,-4)))*'מודל כלכלי'!$C$14-'מודל כלכלי'!$C$68*(IF('מודל כלכלי'!$C$26="פליפ",((-PV(חישובים!$D$21/12,(('הנחות עסקה'!$D$72*'הנחות עסקה'!$I$70)/365*12),(-FV('מודל כלכלי'!$C$20,(12+(('הנחות עסקה'!$D$71-'הנחות עסקה'!$D$72)*'הנחות עסקה'!$I$70)/365),,'מודל כלכלי'!$C$53))))+((0.07*(ROUND('מודל כלכלי'!$C$59*(1+0.03)^12,-4)))+(0.13*(ROUND('מודל כלכלי'!$C$59*(1+0.03)^12,-4)))+(-PV(חישובים!$D$21,((('הנחות עסקה'!$D$72*'הנחות עסקה'!$I$70)-30)/365),,((0.7*(ROUND('מודל כלכלי'!$C$59*(1+0.03)^12,-4)))+(((('הנחות עסקה'!$D$72*'הנחות עסקה'!$I$70)-30)/365)*חישובים!$D$23*(0.7*(ROUND('מודל כלכלי'!$C$59*(1+0.03)^12,-4)))*0.5))))+(-PV(חישובים!$D$21,(('הנחות עסקה'!$D$72*'הנחות עסקה'!$I$70)/365),,((0.1*(ROUND('מודל כלכלי'!$C$59*(1+0.03)^12,-4)))+((('הנחות עסקה'!$D$72*'הנחות עסקה'!$I$70)/365)*חישובים!$D$23*(0.1*(ROUND('מודל כלכלי'!$C$59*(1+0.03)^12,-4)))*0.5)))))+(-(((0.07*(ROUND('מודל כלכלי'!$C$59*(1+0.03)^12,-4)))+(0.13*(ROUND('מודל כלכלי'!$C$59*(1+0.03)^12,-4)))+(-PV(חישובים!$D$21,((('הנחות עסקה'!$D$72*'הנחות עסקה'!$I$70)-30)/365),,((0.7*(ROUND('מודל כלכלי'!$C$59*(1+0.03)^12,-4)))+(((('הנחות עסקה'!$D$72*'הנחות עסקה'!$I$70)-30)/365)*חישובים!$D$23*(0.7*(ROUND('מודל כלכלי'!$C$59*(1+0.03)^12,-4)))*0.5))))+(-PV(חישובים!$D$21,(('הנחות עסקה'!$D$72*'הנחות עסקה'!$I$70)/365),,((0.1*(ROUND('מודל כלכלי'!$C$59*(1+0.03)^12,-4)))+((('הנחות עסקה'!$D$72*'הנחות עסקה'!$I$70)/365)*חישובים!$D$23*(0.1*(ROUND('מודל כלכלי'!$C$59*(1+0.03)^12,-4)))*0.5)))))+(-PV(חישובים!$D$21/12,(('הנחות עסקה'!$D$72*'הנחות עסקה'!$I$70)/365*12),(-FV('מודל כלכלי'!$C$20,(12+(('הנחות עסקה'!$D$71-'הנחות עסקה'!$D$72)*'הנחות עסקה'!$I$70)/365),,'מודל כלכלי'!$C$53)))))*היוון!$C$26)),ROUND('מודל כלכלי'!$C$59*(1+0.03)^12,-4)))*'מודל כלכלי'!$C$14+'מודל כלכלי'!$C$70,-3))+(ROUND(-FV(חישובים!$D$22,12*12,'מודל כלכלי'!$C$55),-3))+(-'מודל כלכלי'!$C$45)+(-MAX(0,(IF('מודל כלכלי'!$C$26="פליפ",((-PV(חישובים!$D$21/12,(('הנחות עסקה'!$D$72*'הנחות עסקה'!$I$70)/365*12),(-FV('מודל כלכלי'!$C$20,(12+(('הנחות עסקה'!$D$71-'הנחות עסקה'!$D$72)*'הנחות עסקה'!$I$70)/365),,'מודל כלכלי'!$C$53))))+((0.07*(ROUND('מודל כלכלי'!$C$59*(1+0.03)^12,-4)))+(0.13*(ROUND('מודל כלכלי'!$C$59*(1+0.03)^12,-4)))+(-PV(חישובים!$D$21,((('הנחות עסקה'!$D$72*'הנחות עסקה'!$I$70)-30)/365),,((0.7*(ROUND('מודל כלכלי'!$C$59*(1+0.03)^12,-4)))+(((('הנחות עסקה'!$D$72*'הנחות עסקה'!$I$70)-30)/365)*חישובים!$D$23*(0.7*(ROUND('מודל כלכלי'!$C$59*(1+0.03)^12,-4)))*0.5))))+(-PV(חישובים!$D$21,(('הנחות עסקה'!$D$72*'הנחות עסקה'!$I$70)/365),,((0.1*(ROUND('מודל כלכלי'!$C$59*(1+0.03)^12,-4)))+((('הנחות עסקה'!$D$72*'הנחות עסקה'!$I$70)/365)*חישובים!$D$23*(0.1*(ROUND('מודל כלכלי'!$C$59*(1+0.03)^12,-4)))*0.5)))))+(-(((0.07*(ROUND('מודל כלכלי'!$C$59*(1+0.03)^12,-4)))+(0.13*(ROUND('מודל כלכלי'!$C$59*(1+0.03)^12,-4)))+(-PV(חישובים!$D$21,((('הנחות עסקה'!$D$72*'הנחות עסקה'!$I$70)-30)/365),,((0.7*(ROUND('מודל כלכלי'!$C$59*(1+0.03)^12,-4)))+(((('הנחות עסקה'!$D$72*'הנחות עסקה'!$I$70)-30)/365)*חישובים!$D$23*(0.7*(ROUND('מודל כלכלי'!$C$59*(1+0.03)^12,-4)))*0.5))))+(-PV(חישובים!$D$21,(('הנחות עסקה'!$D$72*'הנחות עסקה'!$I$70)/365),,((0.1*(ROUND('מודל כלכלי'!$C$59*(1+0.03)^12,-4)))+((('הנחות עסקה'!$D$72*'הנחות עסקה'!$I$70)/365)*חישובים!$D$23*(0.1*(ROUND('מודל כלכלי'!$C$59*(1+0.03)^12,-4)))*0.5)))))+(-PV(חישובים!$D$21/12,(('הנחות עסקה'!$D$72*'הנחות עסקה'!$I$70)/365*12),(-FV('מודל כלכלי'!$C$20,(12+(('הנחות עסקה'!$D$71-'הנחות עסקה'!$D$72)*'הנחות עסקה'!$I$70)/365),,'מודל כלכלי'!$C$53)))))*היוון!$C$26)),ROUND('מודל כלכלי'!$C$59*(1+0.03)^12,-4)))-(חישובים!$D$28*(1+חישובים!$D$29)^12))*0.25),-4))+'מודל כלכלי'!$C$45)/'מודל כלכלי'!$C$45)^(1/12)-1 -> 0.12363174 | J11: =(((ROUND((IF('מודל כלכלי'!$C$26="פליפ",((-PV(חישובים!$D$21/12,(('הנחות עסקה'!$D$72*'הנחות עסקה'!$I$70)/365*12),(-FV('מודל כלכלי'!$C$20,(13+(('הנחות עסקה'!$D$71-'הנחות עסקה'!$D$72)*'הנחות עסקה'!$I$70)/365),,'מודל כלכלי'!$C$53))))+((0.07*(ROUND('מודל כלכלי'!$C$59*(1+0.03)^13,-4)))+(0.13*(ROUND('מודל כלכלי'!$C$59*(1+0.03)^13,-4)))+(-PV(חישובים!$D$21,((('הנחות עסקה'!$D$72*'הנחות עסקה'!$I$70)-30)/365),,((0.7*(ROUND('מודל כלכלי'!$C$59*(1+0.03)^13,-4)))+(((('הנחות עסקה'!$D$72*'הנחות עסקה'!$I$70)-30)/365)*חישובים!$D$23*(0.7*(ROUND('מודל כלכלי'!$C$59*(1+0.03)^13,-4)))*0.5))))+(-PV(חישובים!$D$21,(('הנחות עסקה'!$D$72*'הנחות עסקה'!$I$70)/365),,((0.1*(ROUND('מודל כלכלי'!$C$59*(1+0.03)^13,-4)))+((('הנחות עסקה'!$D$72*'הנחות עסקה'!$I$70)/365)*חישובים!$D$23*(0.1*(ROUND('מודל כלכלי'!$C$59*(1+0.03)^13,-4)))*0.5)))))+(-(((0.07*(ROUND('מודל כלכלי'!$C$59*(1+0.03)^13,-4)))+(0.13*(ROUND('מודל כלכלי'!$C$59*(1+0.03)^13,-4)))+(-PV(חישובים!$D$21,((('הנחות עסקה'!$D$72*'הנחות עסקה'!$I$70)-30)/365),,((0.7*(ROUND('מודל כלכלי'!$C$59*(1+0.03)^13,-4)))+(((('הנחות עסקה'!$D$72*'הנחות עסקה'!$I$70)-30)/365)*חישובים!$D$23*(0.7*(ROUND('מודל כלכלי'!$C$59*(1+0.03)^13,-4)))*0.5))))+(-PV(חישובים!$D$21,(('הנחות עסקה'!$D$72*'הנחות עסקה'!$I$70)/365),,((0.1*(ROUND('מודל כלכלי'!$C$59*(1+0.03)^13,-4)))+((('הנחות עסקה'!$D$72*'הנחות עסקה'!$I$70)/365)*חישובים!$D$23*(0.1*(ROUND('מודל כלכלי'!$C$59*(1+0.03)^13,-4)))*0.5)))))+(-PV(חישובים!$D$21/12,(('הנחות עסקה'!$D$72*'הנחות עסקה'!$I$70)/365*12),(-FV('מודל כלכלי'!$C$20,(13+(('הנחות עסקה'!$D$71-'הנחות עסקה'!$D$72)*'הנחות עסקה'!$I$70)/365),,'מודל כלכלי'!$C$53)))))*היוון!$C$26)),ROUND('מודל כלכלי'!$C$59*(1+0.03)^13,-4)))+(ROUND(FV('מודל כלכלי'!$C$17/12,13*12,'מודל כלכלי'!$C$48,'מודל כלכלי'!$C$46),-4))+(ROUND(-'מודל כלכלי'!$C$66*(IF('מודל כלכלי'!$C$26="פליפ",((-PV(חישובים!$D$21/12,(('הנחות עסקה'!$D$72*'הנחות עסקה'!$I$70)/365*12),(-FV('מודל כלכלי'!$C$20,(13+(('הנחות עסקה'!$D$71-'הנחות עסקה'!$D$72)*'הנחות עסקה'!$I$70)/365),,'מודל כלכלי'!$C$53))))+((0.07*(ROUND('מודל כלכלי'!$C$59*(1+0.03)^13,-4)))+(0.13*(ROUND('מודל כלכלי'!$C$59*(1+0.03)^13,-4)))+(-PV(חישובים!$D$21,((('הנחות עסקה'!$D$72*'הנחות עסקה'!$I$70)-30)/365),,((0.7*(ROUND('מודל כלכלי'!$C$59*(1+0.03)^13,-4)))+(((('הנחות עסקה'!$D$72*'הנחות עסקה'!$I$70)-30)/365)*חישובים!$D$23*(0.7*(ROUND('מודל כלכלי'!$C$59*(1+0.03)^13,-4)))*0.5))))+(-PV(חישובים!$D$21,(('הנחות עסקה'!$D$72*'הנחות עסקה'!$I$70)/365),,((0.1*(ROUND('מודל כלכלי'!$C$59*(1+0.03)^13,-4)))+((('הנחות עסקה'!$D$72*'הנחות עסקה'!$I$70)/365)*חישובים!$D$23*(0.1*(ROUND('מודל כלכלי'!$C$59*(1+0.03)^13,-4)))*0.5)))))+(-(((0.07*(ROUND('מודל כלכלי'!$C$59*(1+0.03)^13,-4)))+(0.13*(ROUND('מודל כלכלי'!$C$59*(1+0.03)^13,-4)))+(-PV(חישובים!$D$21,((('הנחות עסקה'!$D$72*'הנחות עסקה'!$I$70)-30)/365),,((0.7*(ROUND('מודל כלכלי'!$C$59*(1+0.03)^13,-4)))+(((('הנחות עסקה'!$D$72*'הנחות עסקה'!$I$70)-30)/365)*חישובים!$D$23*(0.7*(ROUND('מודל כלכלי'!$C$59*(1+0.03)^13,-4)))*0.5))))+(-PV(חישובים!$D$21,(('הנחות עסקה'!$D$72*'הנחות עסקה'!$I$70)/365),,((0.1*(ROUND('מודל כלכלי'!$C$59*(1+0.03)^13,-4)))+((('הנחות עסקה'!$D$72*'הנחות עסקה'!$I$70)/365)*חישובים!$D$23*(0.1*(ROUND('מודל כלכלי'!$C$59*(1+0.03)^13,-4)))*0.5)))))+(-PV(חישובים!$D$21/12,(('הנחות עסקה'!$D$72*'הנחות עסקה'!$I$70)/365*12),(-FV('מודל כלכלי'!$C$20,(13+(('הנחות עסקה'!$D$71-'הנחות עסקה'!$D$72)*'הנחות עסקה'!$I$70)/365),,'מודל כלכלי'!$C$53)))))*היוון!$C$26)),ROUND('מודל כלכלי'!$C$59*(1+0.03)^13,-4)))*'מודל כלכלי'!$C$14-'מודל כלכלי'!$C$68*(IF('מודל כלכלי'!$C$26="פליפ",((-PV(חישובים!$D$21/12,(('הנחות עסקה'!$D$72*'הנחות עסקה'!$I$70)/365*12),(-FV('מודל כלכלי'!$C$20,(13+(('הנחות עסקה'!$D$71-'הנחות עסקה'!$D$72)*'הנחות עסקה'!$I$70)/365),,'מודל כלכלי'!$C$53))))+((0.07*(ROUND('מודל כלכלי'!$C$59*(1+0.03)^13,-4)))+(0.13*(ROUND('מודל כלכלי'!$C$59*(1+0.03)^13,-4)))+(-PV(חישובים!$D$21,((('הנחות עסקה'!$D$72*'הנחות עסקה'!$I$70)-30)/365),,((0.7*(ROUND('מודל כלכלי'!$C$59*(1+0.03)^13,-4)))+(((('הנחות עסקה'!$D$72*'הנחות עסקה'!$I$70)-30)/365)*חישובים!$D$23*(0.7*(ROUND('מודל כלכלי'!$C$59*(1+0.03)^13,-4)))*0.5))))+(-PV(חישובים!$D$21,(('הנחות עסקה'!$D$72*'הנחות עסקה'!$I$70)/365),,((0.1*(ROUND('מודל כלכלי'!$C$59*(1+0.03)^13,-4)))+((('הנחות עסקה'!$D$72*'הנחות עסקה'!$I$70)/365)*חישובים!$D$23*(0.1*(ROUND('מודל כלכלי'!$C$59*(1+0.03)^13,-4)))*0.5)))))+(-(((0.07*(ROUND('מודל כלכלי'!$C$59*(1+0.03)^13,-4)))+(0.13*(ROUND('מודל כלכלי'!$C$59*(1+0.03)^13,-4)))+(-PV(חישובים!$D$21,((('הנחות עסקה'!$D$72*'הנחות עסקה'!$I$70)-30)/365),,((0.7*(ROUND('מודל כלכלי'!$C$59*(1+0.03)^13,-4)))+(((('הנחות עסקה'!$D$72*'הנחות עסקה'!$I$70)-30)/365)*חישובים!$D$23*(0.7*(ROUND('מודל כלכלי'!$C$59*(1+0.03)^13,-4)))*0.5))))+(-PV(חישובים!$D$21,(('הנחות עסקה'!$D$72*'הנחות עסקה'!$I$70)/365),,((0.1*(ROUND('מודל כלכלי'!$C$59*(1+0.03)^13,-4)))+((('הנחות עסקה'!$D$72*'הנחות עסקה'!$I$70)/365)*חישובים!$D$23*(0.1*(ROUND('מודל כלכלי'!$C$59*(1+0.03)^13,-4)))*0.5)))))+(-PV(חישובים!$D$21/12,(('הנחות עסקה'!$D$72*'הנחות עסקה'!$I$70)/365*12),(-FV('מודל כלכלי'!$C$20,(13+(('הנחות עסקה'!$D$71-'הנחות עסקה'!$D$72)*'הנחות עסקה'!$I$70)/365),,'מודל כלכלי'!$C$53)))))*היוון!$C$26)),ROUND('מודל כלכלי'!$C$59*(1+0.03)^13,-4)))*'מודל כלכלי'!$C$14+'מודל כלכלי'!$C$70,-3))+(ROUND(-FV(חישובים!$D$22,13*12,'מודל כלכלי'!$C$55),-3))+(-'מודל כלכלי'!$C$45)+(-MAX(0,(IF('מודל כלכלי'!$C$26="פליפ",((-PV(חישובים!$D$21/12,(('הנחות עסקה'!$D$72*'הנחות עסקה'!$I$70)/365*12),(-FV('מודל כלכלי'!$C$20,(13+(('הנחות עסקה'!$D$71-'הנחות עסקה'!$D$72)*'הנחות עסקה'!$I$70)/365),,'מודל כלכלי'!$C$53))))+((0.07*(ROUND('מודל כלכלי'!$C$59*(1+0.03)^13,-4)))+(0.13*(ROUND('מודל כלכלי'!$C$59*(1+0.03)^13,-4)))+(-PV(חישובים!$D$21,((('הנחות עסקה'!$D$72*'הנחות עסקה'!$I$70)-30)/365),,((0.7*(ROUND('מודל כלכלי'!$C$59*(1+0.03)^13,-4)))+(((('הנחות עסקה'!$D$72*'הנחות עסקה'!$I$70)-30)/365)*חישובים!$D$23*(0.7*(ROUND('מודל כלכלי'!$C$59*(1+0.03)^13,-4)))*0.5))))+(-PV(חישובים!$D$21,(('הנחות עסקה'!$D$72*'הנחות עסקה'!$I$70)/365),,((0.1*(ROUND('מודל כלכלי'!$C$59*(1+0.03)^13,-4)))+((('הנחות עסקה'!$D$72*'הנחות עסקה'!$I$70)/365)*חישובים!$D$23*(0.1*(ROUND('מודל כלכלי'!$C$59*(1+0.03)^13,-4)))*0.5)))))+(-(((0.07*(ROUND('מודל כלכלי'!$C$59*(1+0.03)^13,-4)))+(0.13*(ROUND('מודל כלכלי'!$C$59*(1+0.03)^13,-4)))+(-PV(חישובים!$D$21,((('הנחות עסקה'!$D$72*'הנחות עסקה'!$I$70)-30)/365),,((0.7*(ROUND('מודל כלכלי'!$C$59*(1+0.03)^13,-4)))+(((('הנחות עסקה'!$D$72*'הנחות עסקה'!$I$70)-30)/365)*חישובים!$D$23*(0.7*(ROUND('מודל כלכלי'!$C$59*(1+0.03)^13,-4)))*0.5))))+(-PV(חישובים!$D$21,(('הנחות עסקה'!$D$72*'הנחות עסקה'!$I$70)/365),,((0.1*(ROUND('מודל כלכלי'!$C$59*(1+0.03)^13,-4)))+((('הנחות עסקה'!$D$72*'הנחות עסקה'!$I$70)/365)*חישובים!$D$23*(0.1*(ROUND('מודל כלכלי'!$C$59*(1+0.03)^13,-4)))*0.5)))))+(-PV(חישובים!$D$21/12,(('הנחות עסקה'!$D$72*'הנחות עסקה'!$I$70)/365*12),(-FV('מודל כלכלי'!$C$20,(13+(('הנחות עסקה'!$D$71-'הנחות עסקה'!$D$72)*'הנחות עסקה'!$I$70)/365),,'מודל כלכלי'!$C$53)))))*היוון!$C$26)),ROUND('מודל כלכלי'!$C$59*(1+0.03)^13,-4)))-(חישובים!$D$28*(1+חישובים!$D$29)^13))*0.25),-4))+'מודל כלכלי'!$C$45)/'מודל כלכלי'!$C$45)^(1/13)-1 -> 0.11706668
B12: 0.04 | C12: =(((ROUND((IF('מודל כלכלי'!$C$26="פליפ",((-PV(חישובים!$D$21/12,(('הנחות עסקה'!$D$72*'הנחות עסקה'!$I$70)/365*12),(-FV('מודל כלכלי'!$C$20,(6+(('הנחות עסקה'!$D$71-'הנחות עסקה'!$D$72)*'הנחות עסקה'!$I$70)/365),,'מודל כלכלי'!$C$53))))+((0.07*(ROUND('מודל כלכלי'!$C$59*(1+0.04)^6,-4)))+(0.13*(ROUND('מודל כלכלי'!$C$59*(1+0.04)^6,-4)))+(-PV(חישובים!$D$21,((('הנחות עסקה'!$D$72*'הנחות עסקה'!$I$70)-30)/365),,((0.7*(ROUND('מודל כלכלי'!$C$59*(1+0.04)^6,-4)))+(((('הנחות עסקה'!$D$72*'הנחות עסקה'!$I$70)-30)/365)*חישובים!$D$23*(0.7*(ROUND('מודל כלכלי'!$C$59*(1+0.04)^6,-4)))*0.5))))+(-PV(חישובים!$D$21,(('הנחות עסקה'!$D$72*'הנחות עסקה'!$I$70)/365),,((0.1*(ROUND('מודל כלכלי'!$C$59*(1+0.04)^6,-4)))+((('הנחות עסקה'!$D$72*'הנחות עסקה'!$I$70)/365)*חישובים!$D$23*(0.1*(ROUND('מודל כלכלי'!$C$59*(1+0.04)^6,-4)))*0.5)))))+(-(((0.07*(ROUND('מודל כלכלי'!$C$59*(1+0.04)^6,-4)))+(0.13*(ROUND('מודל כלכלי'!$C$59*(1+0.04)^6,-4)))+(-PV(חישובים!$D$21,((('הנחות עסקה'!$D$72*'הנחות עסקה'!$I$70)-30)/365),,((0.7*(ROUND('מודל כלכלי'!$C$59*(1+0.04)^6,-4)))+(((('הנחות עסקה'!$D$72*'הנחות עסקה'!$I$70)-30)/365)*חישובים!$D$23*(0.7*(ROUND('מודל כלכלי'!$C$59*(1+0.04)^6,-4)))*0.5))))+(-PV(חישובים!$D$21,(('הנחות עסקה'!$D$72*'הנחות עסקה'!$I$70)/365),,((0.1*(ROUND('מודל כלכלי'!$C$59*(1+0.04)^6,-4)))+((('הנחות עסקה'!$D$72*'הנחות עסקה'!$I$70)/365)*חישובים!$D$23*(0.1*(ROUND('מודל כלכלי'!$C$59*(1+0.04)^6,-4)))*0.5)))))+(-PV(חישובים!$D$21/12,(('הנחות עסקה'!$D$72*'הנחות עסקה'!$I$70)/365*12),(-FV('מודל כלכלי'!$C$20,(6+(('הנחות עסקה'!$D$71-'הנחות עסקה'!$D$72)*'הנחות עסקה'!$I$70)/365),,'מודל כלכלי'!$C$53)))))*היוון!$C$26)),ROUND('מודל כלכלי'!$C$59*(1+0.04)^6,-4)))+(ROUND(FV('מודל כלכלי'!$C$17/12,6*12,'מודל כלכלי'!$C$48,'מודל כלכלי'!$C$46),-4))+(ROUND(-'מודל כלכלי'!$C$66*(IF('מודל כלכלי'!$C$26="פליפ",((-PV(חישובים!$D$21/12,(('הנחות עסקה'!$D$72*'הנחות עסקה'!$I$70)/365*12),(-FV('מודל כלכלי'!$C$20,(6+(('הנחות עסקה'!$D$71-'הנחות עסקה'!$D$72)*'הנחות עסקה'!$I$70)/365),,'מודל כלכלי'!$C$53))))+((0.07*(ROUND('מודל כלכלי'!$C$59*(1+0.04)^6,-4)))+(0.13*(ROUND('מודל כלכלי'!$C$59*(1+0.04)^6,-4)))+(-PV(חישובים!$D$21,((('הנחות עסקה'!$D$72*'הנחות עסקה'!$I$70)-30)/365),,((0.7*(ROUND('מודל כלכלי'!$C$59*(1+0.04)^6,-4)))+(((('הנחות עסקה'!$D$72*'הנחות עסקה'!$I$70)-30)/365)*חישובים!$D$23*(0.7*(ROUND('מודל כלכלי'!$C$59*(1+0.04)^6,-4)))*0.5))))+(-PV(חישובים!$D$21,(('הנחות עסקה'!$D$72*'הנחות עסקה'!$I$70)/365),,((0.1*(ROUND('מודל כלכלי'!$C$59*(1+0.04)^6,-4)))+((('הנחות עסקה'!$D$72*'הנחות עסקה'!$I$70)/365)*חישובים!$D$23*(0.1*(ROUND('מודל כלכלי'!$C$59*(1+0.04)^6,-4)))*0.5)))))+(-(((0.07*(ROUND('מודל כלכלי'!$C$59*(1+0.04)^6,-4)))+(0.13*(ROUND('מודל כלכלי'!$C$59*(1+0.04)^6,-4)))+(-PV(חישובים!$D$21,((('הנחות עסקה'!$D$72*'הנחות עסקה'!$I$70)-30)/365),,((0.7*(ROUND('מודל כלכלי'!$C$59*(1+0.04)^6,-4)))+(((('הנחות עסקה'!$D$72*'הנחות עסקה'!$I$70)-30)/365)*חישובים!$D$23*(0.7*(ROUND('מודל כלכלי'!$C$59*(1+0.04)^6,-4)))*0.5))))+(-PV(חישובים!$D$21,(('הנחות עסקה'!$D$72*'הנחות עסקה'!$I$70)/365),,((0.1*(ROUND('מודל כלכלי'!$C$59*(1+0.04)^6,-4)))+((('הנחות עסקה'!$D$72*'הנחות עסקה'!$I$70)/365)*חישובים!$D$23*(0.1*(ROUND('מודל כלכלי'!$C$59*(1+0.04)^6,-4)))*0.5)))))+(-PV(חישובים!$D$21/12,(('הנחות עסקה'!$D$72*'הנחות עסקה'!$I$70)/365*12),(-FV('מודל כלכלי'!$C$20,(6+(('הנחות עסקה'!$D$71-'הנחות עסקה'!$D$72)*'הנחות עסקה'!$I$70)/365),,'מודל כלכלי'!$C$53)))))*היוון!$C$26)),ROUND('מודל כלכלי'!$C$59*(1+0.04)^6,-4)))*'מודל כלכלי'!$C$14-'מודל כלכלי'!$C$68*(IF('מודל כלכלי'!$C$26="פליפ",((-PV(חישובים!$D$21/12,(('הנחות עסקה'!$D$72*'הנחות עסקה'!$I$70)/365*12),(-FV('מודל כלכלי'!$C$20,(6+(('הנחות עסקה'!$D$71-'הנחות עסקה'!$D$72)*'הנחות עסקה'!$I$70)/365),,'מודל כלכלי'!$C$53))))+((0.07*(ROUND('מודל כלכלי'!$C$59*(1+0.04)^6,-4)))+(0.13*(ROUND('מודל כלכלי'!$C$59*(1+0.04)^6,-4)))+(-PV(חישובים!$D$21,((('הנחות עסקה'!$D$72*'הנחות עסקה'!$I$70)-30)/365),,((0.7*(ROUND('מודל כלכלי'!$C$59*(1+0.04)^6,-4)))+(((('הנחות עסקה'!$D$72*'הנחות עסקה'!$I$70)-30)/365)*חישובים!$D$23*(0.7*(ROUND('מודל כלכלי'!$C$59*(1+0.04)^6,-4)))*0.5))))+(-PV(חישובים!$D$21,(('הנחות עסקה'!$D$72*'הנחות עסקה'!$I$70)/365),,((0.1*(ROUND('מודל כלכלי'!$C$59*(1+0.04)^6,-4)))+((('הנחות עסקה'!$D$72*'הנחות עסקה'!$I$70)/365)*חישובים!$D$23*(0.1*(ROUND('מודל כלכלי'!$C$59*(1+0.04)^6,-4)))*0.5)))))+(-(((0.07*(ROUND('מודל כלכלי'!$C$59*(1+0.04)^6,-4)))+(0.13*(ROUND('מודל כלכלי'!$C$59*(1+0.04)^6,-4)))+(-PV(חישובים!$D$21,((('הנחות עסקה'!$D$72*'הנחות עסקה'!$I$70)-30)/365),,((0.7*(ROUND('מודל כלכלי'!$C$59*(1+0.04)^6,-4)))+(((('הנחות עסקה'!$D$72*'הנחות עסקה'!$I$70)-30)/365)*חישובים!$D$23*(0.7*(ROUND('מודל כלכלי'!$C$59*(1+0.04)^6,-4)))*0.5))))+(-PV(חישובים!$D$21,(('הנחות עסקה'!$D$72*'הנחות עסקה'!$I$70)/365),,((0.1*(ROUND('מודל כלכלי'!$C$59*(1+0.04)^6,-4)))+((('הנחות עסקה'!$D$72*'הנחות עסקה'!$I$70)/365)*חישובים!$D$23*(0.1*(ROUND('מודל כלכלי'!$C$59*(1+0.04)^6,-4)))*0.5)))))+(-PV(חישובים!$D$21/12,(('הנחות עסקה'!$D$72*'הנחות עסקה'!$I$70)/365*12),(-FV('מודל כלכלי'!$C$20,(6+(('הנחות עסקה'!$D$71-'הנחות עסקה'!$D$72)*'הנחות עסקה'!$I$70)/365),,'מודל כלכלי'!$C$53)))))*היוון!$C$26)),ROUND('מודל כלכלי'!$C$59*(1+0.04)^6,-4)))*'מודל כלכלי'!$C$14+'מודל כלכלי'!$C$70,-3))+(ROUND(-FV(חישובים!$D$22,6*12,'מודל כלכלי'!$C$55),-3))+(-'מודל כלכלי'!$C$45)+(-MAX(0,(IF('מודל כלכלי'!$C$26="פליפ",((-PV(חישובים!$D$21/12,(('הנחות עסקה'!$D$72*'הנחות עסקה'!$I$70)/365*12),(-FV('מודל כלכלי'!$C$20,(6+(('הנחות עסקה'!$D$71-'הנחות עסקה'!$D$72)*'הנחות עסקה'!$I$70)/365),,'מודל כלכלי'!$C$53))))+((0.07*(ROUND('מודל כלכלי'!$C$59*(1+0.04)^6,-4)))+(0.13*(ROUND('מודל כלכלי'!$C$59*(1+0.04)^6,-4)))+(-PV(חישובים!$D$21,((('הנחות עסקה'!$D$72*'הנחות עסקה'!$I$70)-30)/365),,((0.7*(ROUND('מודל כלכלי'!$C$59*(1+0.04)^6,-4)))+(((('הנחות עסקה'!$D$72*'הנחות עסקה'!$I$70)-30)/365)*חישובים!$D$23*(0.7*(ROUND('מודל כלכלי'!$C$59*(1+0.04)^6,-4)))*0.5))))+(-PV(חישובים!$D$21,(('הנחות עסקה'!$D$72*'הנחות עסקה'!$I$70)/365),,((0.1*(ROUND('מודל כלכלי'!$C$59*(1+0.04)^6,-4)))+((('הנחות עסקה'!$D$72*'הנחות עסקה'!$I$70)/365)*חישובים!$D$23*(0.1*(ROUND('מודל כלכלי'!$C$59*(1+0.04)^6,-4)))*0.5)))))+(-(((0.07*(ROUND('מודל כלכלי'!$C$59*(1+0.04)^6,-4)))+(0.13*(ROUND('מודל כלכלי'!$C$59*(1+0.04)^6,-4)))+(-PV(חישובים!$D$21,((('הנחות עסקה'!$D$72*'הנחות עסקה'!$I$70)-30)/365),,((0.7*(ROUND('מודל כלכלי'!$C$59*(1+0.04)^6,-4)))+(((('הנחות עסקה'!$D$72*'הנחות עסקה'!$I$70)-30)/365)*חישובים!$D$23*(0.7*(ROUND('מודל כלכלי'!$C$59*(1+0.04)^6,-4)))*0.5))))+(-PV(חישובים!$D$21,(('הנחות עסקה'!$D$72*'הנחות עסקה'!$I$70)/365),,((0.1*(ROUND('מודל כלכלי'!$C$59*(1+0.04)^6,-4)))+((('הנחות עסקה'!$D$72*'הנחות עסקה'!$I$70)/365)*חישובים!$D$23*(0.1*(ROUND('מודל כלכלי'!$C$59*(1+0.04)^6,-4)))*0.5)))))+(-PV(חישובים!$D$21/12,(('הנחות עסקה'!$D$72*'הנחות עסקה'!$I$70)/365*12),(-FV('מודל כלכלי'!$C$20,(6+(('הנחות עסקה'!$D$71-'הנחות עסקה'!$D$72)*'הנחות עסקה'!$I$70)/365),,'מודל כלכלי'!$C$53)))))*היוון!$C$26)),ROUND('מודל כלכלי'!$C$59*(1+0.04)^6,-4)))-(חישובים!$D$28*(1+חישובים!$D$29)^6))*0.25),-4))+'מודל כלכלי'!$C$45)/'מודל כלכלי'!$C$45)^(1/6)-1 -> 0.23242456 | D12: =(((ROUND((IF('מודל כלכלי'!$C$26="פליפ",((-PV(חישובים!$D$21/12,(('הנחות עסקה'!$D$72*'הנחות עסקה'!$I$70)/365*12),(-FV('מודל כלכלי'!$C$20,(7+(('הנחות עסקה'!$D$71-'הנחות עסקה'!$D$72)*'הנחות עסקה'!$I$70)/365),,'מודל כלכלי'!$C$53))))+((0.07*(ROUND('מודל כלכלי'!$C$59*(1+0.04)^7,-4)))+(0.13*(ROUND('מודל כלכלי'!$C$59*(1+0.04)^7,-4)))+(-PV(חישובים!$D$21,((('הנחות עסקה'!$D$72*'הנחות עסקה'!$I$70)-30)/365),,((0.7*(ROUND('מודל כלכלי'!$C$59*(1+0.04)^7,-4)))+(((('הנחות עסקה'!$D$72*'הנחות עסקה'!$I$70)-30)/365)*חישובים!$D$23*(0.7*(ROUND('מודל כלכלי'!$C$59*(1+0.04)^7,-4)))*0.5))))+(-PV(חישובים!$D$21,(('הנחות עסקה'!$D$72*'הנחות עסקה'!$I$70)/365),,((0.1*(ROUND('מודל כלכלי'!$C$59*(1+0.04)^7,-4)))+((('הנחות עסקה'!$D$72*'הנחות עסקה'!$I$70)/365)*חישובים!$D$23*(0.1*(ROUND('מודל כלכלי'!$C$59*(1+0.04)^7,-4)))*0.5)))))+(-(((0.07*(ROUND('מודל כלכלי'!$C$59*(1+0.04)^7,-4)))+(0.13*(ROUND('מודל כלכלי'!$C$59*(1+0.04)^7,-4)))+(-PV(חישובים!$D$21,((('הנחות עסקה'!$D$72*'הנחות עסקה'!$I$70)-30)/365),,((0.7*(ROUND('מודל כלכלי'!$C$59*(1+0.04)^7,-4)))+(((('הנחות עסקה'!$D$72*'הנחות עסקה'!$I$70)-30)/365)*חישובים!$D$23*(0.7*(ROUND('מודל כלכלי'!$C$59*(1+0.04)^7,-4)))*0.5))))+(-PV(חישובים!$D$21,(('הנחות עסקה'!$D$72*'הנחות עסקה'!$I$70)/365),,((0.1*(ROUND('מודל כלכלי'!$C$59*(1+0.04)^7,-4)))+((('הנחות עסקה'!$D$72*'הנחות עסקה'!$I$70)/365)*חישובים!$D$23*(0.1*(ROUND('מודל כלכלי'!$C$59*(1+0.04)^7,-4)))*0.5)))))+(-PV(חישובים!$D$21/12,(('הנחות עסקה'!$D$72*'הנחות עסקה'!$I$70)/365*12),(-FV('מודל כלכלי'!$C$20,(7+(('הנחות עסקה'!$D$71-'הנחות עסקה'!$D$72)*'הנחות עסקה'!$I$70)/365),,'מודל כלכלי'!$C$53)))))*היוון!$C$26)),ROUND('מודל כלכלי'!$C$59*(1+0.04)^7,-4)))+(ROUND(FV('מודל כלכלי'!$C$17/12,7*12,'מודל כלכלי'!$C$48,'מודל כלכלי'!$C$46),-4))+(ROUND(-'מודל כלכלי'!$C$66*(IF('מודל כלכלי'!$C$26="פליפ",((-PV(חישובים!$D$21/12,(('הנחות עסקה'!$D$72*'הנחות עסקה'!$I$70)/365*12),(-FV('מודל כלכלי'!$C$20,(7+(('הנחות עסקה'!$D$71-'הנחות עסקה'!$D$72)*'הנחות עסקה'!$I$70)/365),,'מודל כלכלי'!$C$53))))+((0.07*(ROUND('מודל כלכלי'!$C$59*(1+0.04)^7,-4)))+(0.13*(ROUND('מודל כלכלי'!$C$59*(1+0.04)^7,-4)))+(-PV(חישובים!$D$21,((('הנחות עסקה'!$D$72*'הנחות עסקה'!$I$70)-30)/365),,((0.7*(ROUND('מודל כלכלי'!$C$59*(1+0.04)^7,-4)))+(((('הנחות עסקה'!$D$72*'הנחות עסקה'!$I$70)-30)/365)*חישובים!$D$23*(0.7*(ROUND('מודל כלכלי'!$C$59*(1+0.04)^7,-4)))*0.5))))+(-PV(חישובים!$D$21,(('הנחות עסקה'!$D$72*'הנחות עסקה'!$I$70)/365),,((0.1*(ROUND('מודל כלכלי'!$C$59*(1+0.04)^7,-4)))+((('הנחות עסקה'!$D$72*'הנחות עסקה'!$I$70)/365)*חישובים!$D$23*(0.1*(ROUND('מודל כלכלי'!$C$59*(1+0.04)^7,-4)))*0.5)))))+(-(((0.07*(ROUND('מודל כלכלי'!$C$59*(1+0.04)^7,-4)))+(0.13*(ROUND('מודל כלכלי'!$C$59*(1+0.04)^7,-4)))+(-PV(חישובים!$D$21,((('הנחות עסקה'!$D$72*'הנחות עסקה'!$I$70)-30)/365),,((0.7*(ROUND('מודל כלכלי'!$C$59*(1+0.04)^7,-4)))+(((('הנחות עסקה'!$D$72*'הנחות עסקה'!$I$70)-30)/365)*חישובים!$D$23*(0.7*(ROUND('מודל כלכלי'!$C$59*(1+0.04)^7,-4)))*0.5))))+(-PV(חישובים!$D$21,(('הנחות עסקה'!$D$72*'הנחות עסקה'!$I$70)/365),,((0.1*(ROUND('מודל כלכלי'!$C$59*(1+0.04)^7,-4)))+((('הנחות עסקה'!$D$72*'הנחות עסקה'!$I$70)/365)*חישובים!$D$23*(0.1*(ROUND('מודל כלכלי'!$C$59*(1+0.04)^7,-4)))*0.5)))))+(-PV(חישובים!$D$21/12,(('הנחות עסקה'!$D$72*'הנחות עסקה'!$I$70)/365*12),(-FV('מודל כלכלי'!$C$20,(7+(('הנחות עסקה'!$D$71-'הנחות עסקה'!$D$72)*'הנחות עסקה'!$I$70)/365),,'מודל כלכלי'!$C$53)))))*היוון!$C$26)),ROUND('מודל כלכלי'!$C$59*(1+0.04)^7,-4)))*'מודל כלכלי'!$C$14-'מודל כלכלי'!$C$68*(IF('מודל כלכלי'!$C$26="פליפ",((-PV(חישובים!$D$21/12,(('הנחות עסקה'!$D$72*'הנחות עסקה'!$I$70)/365*12),(-FV('מודל כלכלי'!$C$20,(7+(('הנחות עסקה'!$D$71-'הנחות עסקה'!$D$72)*'הנחות עסקה'!$I$70)/365),,'מודל כלכלי'!$C$53))))+((0.07*(ROUND('מודל כלכלי'!$C$59*(1+0.04)^7,-4)))+(0.13*(ROUND('מודל כלכלי'!$C$59*(1+0.04)^7,-4)))+(-PV(חישובים!$D$21,((('הנחות עסקה'!$D$72*'הנחות עסקה'!$I$70)-30)/365),,((0.7*(ROUND('מודל כלכלי'!$C$59*(1+0.04)^7,-4)))+(((('הנחות עסקה'!$D$72*'הנחות עסקה'!$I$70)-30)/365)*חישובים!$D$23*(0.7*(ROUND('מודל כלכלי'!$C$59*(1+0.04)^7,-4)))*0.5))))+(-PV(חישובים!$D$21,(('הנחות עסקה'!$D$72*'הנחות עסקה'!$I$70)/365),,((0.1*(ROUND('מודל כלכלי'!$C$59*(1+0.04)^7,-4)))+((('הנחות עסקה'!$D$72*'הנחות עסקה'!$I$70)/365)*חישובים!$D$23*(0.1*(ROUND('מודל כלכלי'!$C$59*(1+0.04)^7,-4)))*0.5)))))+(-(((0.07*(ROUND('מודל כלכלי'!$C$59*(1+0.04)^7,-4)))+(0.13*(ROUND('מודל כלכלי'!$C$59*(1+0.04)^7,-4)))+(-PV(חישובים!$D$21,((('הנחות עסקה'!$D$72*'הנחות עסקה'!$I$70)-30)/365),,((0.7*(ROUND('מודל כלכלי'!$C$59*(1+0.04)^7,-4)))+(((('הנחות עסקה'!$D$72*'הנחות עסקה'!$I$70)-30)/365)*חישובים!$D$23*(0.7*(ROUND('מודל כלכלי'!$C$59*(1+0.04)^7,-4)))*0.5))))+(-PV(חישובים!$D$21,(('הנחות עסקה'!$D$72*'הנחות עסקה'!$I$70)/365),,((0.1*(ROUND('מודל כלכלי'!$C$59*(1+0.04)^7,-4)))+((('הנחות עסקה'!$D$72*'הנחות עסקה'!$I$70)/365)*חישובים!$D$23*(0.1*(ROUND('מודל כלכלי'!$C$59*(1+0.04)^7,-4)))*0.5)))))+(-PV(חישובים!$D$21/12,(('הנחות עסקה'!$D$72*'הנחות עסקה'!$I$70)/365*12),(-FV('מודל כלכלי'!$C$20,(7+(('הנחות עסקה'!$D$71-'הנחות עסקה'!$D$72)*'הנחות עסקה'!$I$70)/365),,'מודל כלכלי'!$C$53)))))*היוון!$C$26)),ROUND('מודל כלכלי'!$C$59*(1+0.04)^7,-4)))*'מודל כלכלי'!$C$14+'מודל כלכלי'!$C$70,-3))+(ROUND(-FV(חישובים!$D$22,7*12,'מודל כלכלי'!$C$55),-3))+(-'מודל כלכלי'!$C$45)+(-MAX(0,(IF('מודל כלכלי'!$C$26="פליפ",((-PV(חישובים!$D$21/12,(('הנחות עסקה'!$D$72*'הנחות עסקה'!$I$70)/365*12),(-FV('מודל כלכלי'!$C$20,(7+(('הנחות עסקה'!$D$71-'הנחות עסקה'!$D$72)*'הנחות עסקה'!$I$70)/365),,'מודל כלכלי'!$C$53))))+((0.07*(ROUND('מודל כלכלי'!$C$59*(1+0.04)^7,-4)))+(0.13*(ROUND('מודל כלכלי'!$C$59*(1+0.04)^7,-4)))+(-PV(חישובים!$D$21,((('הנחות עסקה'!$D$72*'הנחות עסקה'!$I$70)-30)/365),,((0.7*(ROUND('מודל כלכלי'!$C$59*(1+0.04)^7,-4)))+(((('הנחות עסקה'!$D$72*'הנחות עסקה'!$I$70)-30)/365)*חישובים!$D$23*(0.7*(ROUND('מודל כלכלי'!$C$59*(1+0.04)^7,-4)))*0.5))))+(-PV(חישובים!$D$21,(('הנחות עסקה'!$D$72*'הנחות עסקה'!$I$70)/365),,((0.1*(ROUND('מודל כלכלי'!$C$59*(1+0.04)^7,-4)))+((('הנחות עסקה'!$D$72*'הנחות עסקה'!$I$70)/365)*חישובים!$D$23*(0.1*(ROUND('מודל כלכלי'!$C$59*(1+0.04)^7,-4)))*0.5)))))+(-(((0.07*(ROUND('מודל כלכלי'!$C$59*(1+0.04)^7,-4)))+(0.13*(ROUND('מודל כלכלי'!$C$59*(1+0.04)^7,-4)))+(-PV(חישובים!$D$21,((('הנחות עסקה'!$D$72*'הנחות עסקה'!$I$70)-30)/365),,((0.7*(ROUND('מודל כלכלי'!$C$59*(1+0.04)^7,-4)))+(((('הנחות עסקה'!$D$72*'הנחות עסקה'!$I$70)-30)/365)*חישובים!$D$23*(0.7*(ROUND('מודל כלכלי'!$C$59*(1+0.04)^7,-4)))*0.5))))+(-PV(חישובים!$D$21,(('הנחות עסקה'!$D$72*'הנחות עסקה'!$I$70)/365),,((0.1*(ROUND('מודל כלכלי'!$C$59*(1+0.04)^7,-4)))+((('הנחות עסקה'!$D$72*'הנחות עסקה'!$I$70)/365)*חישובים!$D$23*(0.1*(ROUND('מודל כלכלי'!$C$59*(1+0.04)^7,-4)))*0.5)))))+(-PV(חישובים!$D$21/12,(('הנחות עסקה'!$D$72*'הנחות עסקה'!$I$70)/365*12),(-FV('מודל כלכלי'!$C$20,(7+(('הנחות עסקה'!$D$71-'הנחות עסקה'!$D$72)*'הנחות עסקה'!$I$70)/365),,'מודל כלכלי'!$C$53)))))*היוון!$C$26)),ROUND('מודל כלכלי'!$C$59*(1+0.04)^7,-4)))-(חישובים!$D$28*(1+חישובים!$D$29)^7))*0.25),-4))+'מודל כלכלי'!$C$45)/'מודל כלכלי'!$C$45)^(1/7)-1 -> 0.20627626 | E12: =(((ROUND((IF('מודל כלכלי'!$C$26="פליפ",((-PV(חישובים!$D$21/12,(('הנחות עסקה'!$D$72*'הנחות עסקה'!$I$70)/365*12),(-FV('מודל כלכלי'!$C$20,(8+(('הנחות עסקה'!$D$71-'הנחות עסקה'!$D$72)*'הנחות עסקה'!$I$70)/365),,'מודל כלכלי'!$C$53))))+((0.07*(ROUND('מודל כלכלי'!$C$59*(1+0.04)^8,-4)))+(0.13*(ROUND('מודל כלכלי'!$C$59*(1+0.04)^8,-4)))+(-PV(חישובים!$D$21,((('הנחות עסקה'!$D$72*'הנחות עסקה'!$I$70)-30)/365),,((0.7*(ROUND('מודל כלכלי'!$C$59*(1+0.04)^8,-4)))+(((('הנחות עסקה'!$D$72*'הנחות עסקה'!$I$70)-30)/365)*חישובים!$D$23*(0.7*(ROUND('מודל כלכלי'!$C$59*(1+0.04)^8,-4)))*0.5))))+(-PV(חישובים!$D$21,(('הנחות עסקה'!$D$72*'הנחות עסקה'!$I$70)/365),,((0.1*(ROUND('מודל כלכלי'!$C$59*(1+0.04)^8,-4)))+((('הנחות עסקה'!$D$72*'הנחות עסקה'!$I$70)/365)*חישובים!$D$23*(0.1*(ROUND('מודל כלכלי'!$C$59*(1+0.04)^8,-4)))*0.5)))))+(-(((0.07*(ROUND('מודל כלכלי'!$C$59*(1+0.04)^8,-4)))+(0.13*(ROUND('מודל כלכלי'!$C$59*(1+0.04)^8,-4)))+(-PV(חישובים!$D$21,((('הנחות עסקה'!$D$72*'הנחות עסקה'!$I$70)-30)/365),,((0.7*(ROUND('מודל כלכלי'!$C$59*(1+0.04)^8,-4)))+(((('הנחות עסקה'!$D$72*'הנחות עסקה'!$I$70)-30)/365)*חישובים!$D$23*(0.7*(ROUND('מודל כלכלי'!$C$59*(1+0.04)^8,-4)))*0.5))))+(-PV(חישובים!$D$21,(('הנחות עסקה'!$D$72*'הנחות עסקה'!$I$70)/365),,((0.1*(ROUND('מודל כלכלי'!$C$59*(1+0.04)^8,-4)))+((('הנחות עסקה'!$D$72*'הנחות עסקה'!$I$70)/365)*חישובים!$D$23*(0.1*(ROUND('מודל כלכלי'!$C$59*(1+0.04)^8,-4)))*0.5)))))+(-PV(חישובים!$D$21/12,(('הנחות עסקה'!$D$72*'הנחות עסקה'!$I$70)/365*12),(-FV('מודל כלכלי'!$C$20,(8+(('הנחות עסקה'!$D$71-'הנחות עסקה'!$D$72)*'הנחות עסקה'!$I$70)/365),,'מודל כלכלי'!$C$53)))))*היוון!$C$26)),ROUND('מודל כלכלי'!$C$59*(1+0.04)^8,-4)))+(ROUND(FV('מודל כלכלי'!$C$17/12,8*12,'מודל כלכלי'!$C$48,'מודל כלכלי'!$C$46),-4))+(ROUND(-'מודל כלכלי'!$C$66*(IF('מודל כלכלי'!$C$26="פליפ",((-PV(חישובים!$D$21/12,(('הנחות עסקה'!$D$72*'הנחות עסקה'!$I$70)/365*12),(-FV('מודל כלכלי'!$C$20,(8+(('הנחות עסקה'!$D$71-'הנחות עסקה'!$D$72)*'הנחות עסקה'!$I$70)/365),,'מודל כלכלי'!$C$53))))+((0.07*(ROUND('מודל כלכלי'!$C$59*(1+0.04)^8,-4)))+(0.13*(ROUND('מודל כלכלי'!$C$59*(1+0.04)^8,-4)))+(-PV(חישובים!$D$21,((('הנחות עסקה'!$D$72*'הנחות עסקה'!$I$70)-30)/365),,((0.7*(ROUND('מודל כלכלי'!$C$59*(1+0.04)^8,-4)))+(((('הנחות עסקה'!$D$72*'הנחות עסקה'!$I$70)-30)/365)*חישובים!$D$23*(0.7*(ROUND('מודל כלכלי'!$C$59*(1+0.04)^8,-4)))*0.5))))+(-PV(חישובים!$D$21,(('הנחות עסקה'!$D$72*'הנחות עסקה'!$I$70)/365),,((0.1*(ROUND('מודל כלכלי'!$C$59*(1+0.04)^8,-4)))+((('הנחות עסקה'!$D$72*'הנחות עסקה'!$I$70)/365)*חישובים!$D$23*(0.1*(ROUND('מודל כלכלי'!$C$59*(1+0.04)^8,-4)))*0.5)))))+(-(((0.07*(ROUND('מודל כלכלי'!$C$59*(1+0.04)^8,-4)))+(0.13*(ROUND('מודל כלכלי'!$C$59*(1+0.04)^8,-4)))+(-PV(חישובים!$D$21,((('הנחות עסקה'!$D$72*'הנחות עסקה'!$I$70)-30)/365),,((0.7*(ROUND('מודל כלכלי'!$C$59*(1+0.04)^8,-4)))+(((('הנחות עסקה'!$D$72*'הנחות עסקה'!$I$70)-30)/365)*חישובים!$D$23*(0.7*(ROUND('מודל כלכלי'!$C$59*(1+0.04)^8,-4)))*0.5))))+(-PV(חישובים!$D$21,(('הנחות עסקה'!$D$72*'הנחות עסקה'!$I$70)/365),,((0.1*(ROUND('מודל כלכלי'!$C$59*(1+0.04)^8,-4)))+((('הנחות עסקה'!$D$72*'הנחות עסקה'!$I$70)/365)*חישובים!$D$23*(0.1*(ROUND('מודל כלכלי'!$C$59*(1+0.04)^8,-4)))*0.5)))))+(-PV(חישובים!$D$21/12,(('הנחות עסקה'!$D$72*'הנחות עסקה'!$I$70)/365*12),(-FV('מודל כלכלי'!$C$20,(8+(('הנחות עסקה'!$D$71-'הנחות עסקה'!$D$72)*'הנחות עסקה'!$I$70)/365),,'מודל כלכלי'!$C$53)))))*היוון!$C$26)),ROUND('מודל כלכלי'!$C$59*(1+0.04)^8,-4)))*'מודל כלכלי'!$C$14-'מודל כלכלי'!$C$68*(IF('מודל כלכלי'!$C$26="פליפ",((-PV(חישובים!$D$21/12,(('הנחות עסקה'!$D$72*'הנחות עסקה'!$I$70)/365*12),(-FV('מודל כלכלי'!$C$20,(8+(('הנחות עסקה'!$D$71-'הנחות עסקה'!$D$72)*'הנחות עסקה'!$I$70)/365),,'מודל כלכלי'!$C$53))))+((0.07*(ROUND('מודל כלכלי'!$C$59*(1+0.04)^8,-4)))+(0.13*(ROUND('מודל כלכלי'!$C$59*(1+0.04)^8,-4)))+(-PV(חישובים!$D$21,((('הנחות עסקה'!$D$72*'הנחות עסקה'!$I$70)-30)/365),,((0.7*(ROUND('מודל כלכלי'!$C$59*(1+0.04)^8,-4)))+(((('הנחות עסקה'!$D$72*'הנחות עסקה'!$I$70)-30)/365)*חישובים!$D$23*(0.7*(ROUND('מודל כלכלי'!$C$59*(1+0.04)^8,-4)))*0.5))))+(-PV(חישובים!$D$21,(('הנחות עסקה'!$D$72*'הנחות עסקה'!$I$70)/365),,((0.1*(ROUND('מודל כלכלי'!$C$59*(1+0.04)^8,-4)))+((('הנחות עסקה'!$D$72*'הנחות עסקה'!$I$70)/365)*חישובים!$D$23*(0.1*(ROUND('מודל כלכלי'!$C$59*(1+0.04)^8,-4)))*0.5)))))+(-(((0.07*(ROUND('מודל כלכלי'!$C$59*(1+0.04)^8,-4)))+(0.13*(ROUND('מודל כלכלי'!$C$59*(1+0.04)^8,-4)))+(-PV(חישובים!$D$21,((('הנחות עסקה'!$D$72*'הנחות עסקה'!$I$70)-30)/365),,((0.7*(ROUND('מודל כלכלי'!$C$59*(1+0.04)^8,-4)))+(((('הנחות עסקה'!$D$72*'הנחות עסקה'!$I$70)-30)/365)*חישובים!$D$23*(0.7*(ROUND('מודל כלכלי'!$C$59*(1+0.04)^8,-4)))*0.5))))+(-PV(חישובים!$D$21,(('הנחות עסקה'!$D$72*'הנחות עסקה'!$I$70)/365),,((0.1*(ROUND('מודל כלכלי'!$C$59*(1+0.04)^8,-4)))+((('הנחות עסקה'!$D$72*'הנחות עסקה'!$I$70)/365)*חישובים!$D$23*(0.1*(ROUND('מודל כלכלי'!$C$59*(1+0.04)^8,-4)))*0.5)))))+(-PV(חישובים!$D$21/12,(('הנחות עסקה'!$D$72*'הנחות עסקה'!$I$70)/365*12),(-FV('מודל כלכלי'!$C$20,(8+(('הנחות עסקה'!$D$71-'הנחות עסקה'!$D$72)*'הנחות עסקה'!$I$70)/365),,'מודל כלכלי'!$C$53)))))*היוון!$C$26)),ROUND('מודל כלכלי'!$C$59*(1+0.04)^8,-4)))*'מודל כלכלי'!$C$14+'מודל כלכלי'!$C$70,-3))+(ROUND(-FV(חישובים!$D$22,8*12,'מודל כלכלי'!$C$55),-3))+(-'מודל כלכלי'!$C$45)+(-MAX(0,(IF('מודל כלכלי'!$C$26="פליפ",((-PV(חישובים!$D$21/12,(('הנחות עסקה'!$D$72*'הנחות עסקה'!$I$70)/365*12),(-FV('מודל כלכלי'!$C$20,(8+(('הנחות עסקה'!$D$71-'הנחות עסקה'!$D$72)*'הנחות עסקה'!$I$70)/365),,'מודל כלכלי'!$C$53))))+((0.07*(ROUND('מודל כלכלי'!$C$59*(1+0.04)^8,-4)))+(0.13*(ROUND('מודל כלכלי'!$C$59*(1+0.04)^8,-4)))+(-PV(חישובים!$D$21,((('הנחות עסקה'!$D$72*'הנחות עסקה'!$I$70)-30)/365),,((0.7*(ROUND('מודל כלכלי'!$C$59*(1+0.04)^8,-4)))+(((('הנחות עסקה'!$D$72*'הנחות עסקה'!$I$70)-30)/365)*חישובים!$D$23*(0.7*(ROUND('מודל כלכלי'!$C$59*(1+0.04)^8,-4)))*0.5))))+(-PV(חישובים!$D$21,(('הנחות עסקה'!$D$72*'הנחות עסקה'!$I$70)/365),,((0.1*(ROUND('מודל כלכלי'!$C$59*(1+0.04)^8,-4)))+((('הנחות עסקה'!$D$72*'הנחות עסקה'!$I$70)/365)*חישובים!$D$23*(0.1*(ROUND('מודל כלכלי'!$C$59*(1+0.04)^8,-4)))*0.5)))))+(-(((0.07*(ROUND('מודל כלכלי'!$C$59*(1+0.04)^8,-4)))+(0.13*(ROUND('מודל כלכלי'!$C$59*(1+0.04)^8,-4)))+(-PV(חישובים!$D$21,((('הנחות עסקה'!$D$72*'הנחות עסקה'!$I$70)-30)/365),,((0.7*(ROUND('מודל כלכלי'!$C$59*(1+0.04)^8,-4)))+(((('הנחות עסקה'!$D$72*'הנחות עסקה'!$I$70)-30)/365)*חישובים!$D$23*(0.7*(ROUND('מודל כלכלי'!$C$59*(1+0.04)^8,-4)))*0.5))))+(-PV(חישובים!$D$21,(('הנחות עסקה'!$D$72*'הנחות עסקה'!$I$70)/365),,((0.1*(ROUND('מודל כלכלי'!$C$59*(1+0.04)^8,-4)))+((('הנחות עסקה'!$D$72*'הנחות עסקה'!$I$70)/365)*חישובים!$D$23*(0.1*(ROUND('מודל כלכלי'!$C$59*(1+0.04)^8,-4)))*0.5)))))+(-PV(חישובים!$D$21/12,(('הנחות עסקה'!$D$72*'הנחות עסקה'!$I$70)/365*12),(-FV('מודל כלכלי'!$C$20,(8+(('הנחות עסקה'!$D$71-'הנחות עסקה'!$D$72)*'הנחות עסקה'!$I$70)/365),,'מודל כלכלי'!$C$53)))))*היוון!$C$26)),ROUND('מודל כלכלי'!$C$59*(1+0.04)^8,-4)))-(חישובים!$D$28*(1+חישובים!$D$29)^8))*0.25),-4))+'מודל כלכלי'!$C$45)/'מודל כלכלי'!$C$45)^(1/8)-1 -> 0.18654414 | F12: =(((ROUND((IF('מודל כלכלי'!$C$26="פליפ",((-PV(חישובים!$D$21/12,(('הנחות עסקה'!$D$72*'הנחות עסקה'!$I$70)/365*12),(-FV('מודל כלכלי'!$C$20,(9+(('הנחות עסקה'!$D$71-'הנחות עסקה'!$D$72)*'הנחות עסקה'!$I$70)/365),,'מודל כלכלי'!$C$53))))+((0.07*(ROUND('מודל כלכלי'!$C$59*(1+0.04)^9,-4)))+(0.13*(ROUND('מודל כלכלי'!$C$59*(1+0.04)^9,-4)))+(-PV(חישובים!$D$21,((('הנחות עסקה'!$D$72*'הנחות עסקה'!$I$70)-30)/365),,((0.7*(ROUND('מודל כלכלי'!$C$59*(1+0.04)^9,-4)))+(((('הנחות עסקה'!$D$72*'הנחות עסקה'!$I$70)-30)/365)*חישובים!$D$23*(0.7*(ROUND('מודל כלכלי'!$C$59*(1+0.04)^9,-4)))*0.5))))+(-PV(חישובים!$D$21,(('הנחות עסקה'!$D$72*'הנחות עסקה'!$I$70)/365),,((0.1*(ROUND('מודל כלכלי'!$C$59*(1+0.04)^9,-4)))+((('הנחות עסקה'!$D$72*'הנחות עסקה'!$I$70)/365)*חישובים!$D$23*(0.1*(ROUND('מודל כלכלי'!$C$59*(1+0.04)^9,-4)))*0.5)))))+(-(((0.07*(ROUND('מודל כלכלי'!$C$59*(1+0.04)^9,-4)))+(0.13*(ROUND('מודל כלכלי'!$C$59*(1+0.04)^9,-4)))+(-PV(חישובים!$D$21,((('הנחות עסקה'!$D$72*'הנחות עסקה'!$I$70)-30)/365),,((0.7*(ROUND('מודל כלכלי'!$C$59*(1+0.04)^9,-4)))+(((('הנחות עסקה'!$D$72*'הנחות עסקה'!$I$70)-30)/365)*חישובים!$D$23*(0.7*(ROUND('מודל כלכלי'!$C$59*(1+0.04)^9,-4)))*0.5))))+(-PV(חישובים!$D$21,(('הנחות עסקה'!$D$72*'הנחות עסקה'!$I$70)/365),,((0.1*(ROUND('מודל כלכלי'!$C$59*(1+0.04)^9,-4)))+((('הנחות עסקה'!$D$72*'הנחות עסקה'!$I$70)/365)*חישובים!$D$23*(0.1*(ROUND('מודל כלכלי'!$C$59*(1+0.04)^9,-4)))*0.5)))))+(-PV(חישובים!$D$21/12,(('הנחות עסקה'!$D$72*'הנחות עסקה'!$I$70)/365*12),(-FV('מודל כלכלי'!$C$20,(9+(('הנחות עסקה'!$D$71-'הנחות עסקה'!$D$72)*'הנחות עסקה'!$I$70)/365),,'מודל כלכלי'!$C$53)))))*היוון!$C$26)),ROUND('מודל כלכלי'!$C$59*(1+0.04)^9,-4)))+(ROUND(FV('מודל כלכלי'!$C$17/12,9*12,'מודל כלכלי'!$C$48,'מודל כלכלי'!$C$46),-4))+(ROUND(-'מודל כלכלי'!$C$66*(IF('מודל כלכלי'!$C$26="פליפ",((-PV(חישובים!$D$21/12,(('הנחות עסקה'!$D$72*'הנחות עסקה'!$I$70)/365*12),(-FV('מודל כלכלי'!$C$20,(9+(('הנחות עסקה'!$D$71-'הנחות עסקה'!$D$72)*'הנחות עסקה'!$I$70)/365),,'מודל כלכלי'!$C$53))))+((0.07*(ROUND('מודל כלכלי'!$C$59*(1+0.04)^9,-4)))+(0.13*(ROUND('מודל כלכלי'!$C$59*(1+0.04)^9,-4)))+(-PV(חישובים!$D$21,((('הנחות עסקה'!$D$72*'הנחות עסקה'!$I$70)-30)/365),,((0.7*(ROUND('מודל כלכלי'!$C$59*(1+0.04)^9,-4)))+(((('הנחות עסקה'!$D$72*'הנחות עסקה'!$I$70)-30)/365)*חישובים!$D$23*(0.7*(ROUND('מודל כלכלי'!$C$59*(1+0.04)^9,-4)))*0.5))))+(-PV(חישובים!$D$21,(('הנחות עסקה'!$D$72*'הנחות עסקה'!$I$70)/365),,((0.1*(ROUND('מודל כלכלי'!$C$59*(1+0.04)^9,-4)))+((('הנחות עסקה'!$D$72*'הנחות עסקה'!$I$70)/365)*חישובים!$D$23*(0.1*(ROUND('מודל כלכלי'!$C$59*(1+0.04)^9,-4)))*0.5)))))+(-(((0.07*(ROUND('מודל כלכלי'!$C$59*(1+0.04)^9,-4)))+(0.13*(ROUND('מודל כלכלי'!$C$59*(1+0.04)^9,-4)))+(-PV(חישובים!$D$21,((('הנחות עסקה'!$D$72*'הנחות עסקה'!$I$70)-30)/365),,((0.7*(ROUND('מודל כלכלי'!$C$59*(1+0.04)^9,-4)))+(((('הנחות עסקה'!$D$72*'הנחות עסקה'!$I$70)-30)/365)*חישובים!$D$23*(0.7*(ROUND('מודל כלכלי'!$C$59*(1+0.04)^9,-4)))*0.5))))+(-PV(חישובים!$D$21,(('הנחות עסקה'!$D$72*'הנחות עסקה'!$I$70)/365),,((0.1*(ROUND('מודל כלכלי'!$C$59*(1+0.04)^9,-4)))+((('הנחות עסקה'!$D$72*'הנחות עסקה'!$I$70)/365)*חישובים!$D$23*(0.1*(ROUND('מודל כלכלי'!$C$59*(1+0.04)^9,-4)))*0.5)))))+(-PV(חישובים!$D$21/12,(('הנחות עסקה'!$D$72*'הנחות עסקה'!$I$70)/365*12),(-FV('מודל כלכלי'!$C$20,(9+(('הנחות עסקה'!$D$71-'הנחות עסקה'!$D$72)*'הנחות עסקה'!$I$70)/365),,'מודל כלכלי'!$C$53)))))*היוון!$C$26)),ROUND('מודל כלכלי'!$C$59*(1+0.04)^9,-4)))*'מודל כלכלי'!$C$14-'מודל כלכלי'!$C$68*(IF('מודל כלכלי'!$C$26="פליפ",((-PV(חישובים!$D$21/12,(('הנחות עסקה'!$D$72*'הנחות עסקה'!$I$70)/365*12),(-FV('מודל כלכלי'!$C$20,(9+(('הנחות עסקה'!$D$71-'הנחות עסקה'!$D$72)*'הנחות עסקה'!$I$70)/365),,'מודל כלכלי'!$C$53))))+((0.07*(ROUND('מודל כלכלי'!$C$59*(1+0.04)^9,-4)))+(0.13*(ROUND('מודל כלכלי'!$C$59*(1+0.04)^9,-4)))+(-PV(חישובים!$D$21,((('הנחות עסקה'!$D$72*'הנחות עסקה'!$I$70)-30)/365),,((0.7*(ROUND('מודל כלכלי'!$C$59*(1+0.04)^9,-4)))+(((('הנחות עסקה'!$D$72*'הנחות עסקה'!$I$70)-30)/365)*חישובים!$D$23*(0.7*(ROUND('מודל כלכלי'!$C$59*(1+0.04)^9,-4)))*0.5))))+(-PV(חישובים!$D$21,(('הנחות עסקה'!$D$72*'הנחות עסקה'!$I$70)/365),,((0.1*(ROUND('מודל כלכלי'!$C$59*(1+0.04)^9,-4)))+((('הנחות עסקה'!$D$72*'הנחות עסקה'!$I$70)/365)*חישובים!$D$23*(0.1*(ROUND('מודל כלכלי'!$C$59*(1+0.04)^9,-4)))*0.5)))))+(-(((0.07*(ROUND('מודל כלכלי'!$C$59*(1+0.04)^9,-4)))+(0.13*(ROUND('מודל כלכלי'!$C$59*(1+0.04)^9,-4)))+(-PV(חישובים!$D$21,((('הנחות עסקה'!$D$72*'הנחות עסקה'!$I$70)-30)/365),,((0.7*(ROUND('מודל כלכלי'!$C$59*(1+0.04)^9,-4)))+(((('הנחות עסקה'!$D$72*'הנחות עסקה'!$I$70)-30)/365)*חישובים!$D$23*(0.7*(ROUND('מודל כלכלי'!$C$59*(1+0.04)^9,-4)))*0.5))))+(-PV(חישובים!$D$21,(('הנחות עסקה'!$D$72*'הנחות עסקה'!$I$70)/365),,((0.1*(ROUND('מודל כלכלי'!$C$59*(1+0.04)^9,-4)))+((('הנחות עסקה'!$D$72*'הנחות עסקה'!$I$70)/365)*חישובים!$D$23*(0.1*(ROUND('מודל כלכלי'!$C$59*(1+0.04)^9,-4)))*0.5)))))+(-PV(חישובים!$D$21/12,(('הנחות עסקה'!$D$72*'הנחות עסקה'!$I$70)/365*12),(-FV('מודל כלכלי'!$C$20,(9+(('הנחות עסקה'!$D$71-'הנחות עסקה'!$D$72)*'הנחות עסקה'!$I$70)/365),,'מודל כלכלי'!$C$53)))))*היוון!$C$26)),ROUND('מודל כלכלי'!$C$59*(1+0.04)^9,-4)))*'מודל כלכלי'!$C$14+'מודל כלכלי'!$C$70,-3))+(ROUND(-FV(חישובים!$D$22,9*12,'מודל כלכלי'!$C$55),-3))+(-'מודל כלכלי'!$C$45)+(-MAX(0,(IF('מודל כלכלי'!$C$26="פליפ",((-PV(חישובים!$D$21/12,(('הנחות עסקה'!$D$72*'הנחות עסקה'!$I$70)/365*12),(-FV('מודל כלכלי'!$C$20,(9+(('הנחות עסקה'!$D$71-'הנחות עסקה'!$D$72)*'הנחות עסקה'!$I$70)/365),,'מודל כלכלי'!$C$53))))+((0.07*(ROUND('מודל כלכלי'!$C$59*(1+0.04)^9,-4)))+(0.13*(ROUND('מודל כלכלי'!$C$59*(1+0.04)^9,-4)))+(-PV(חישובים!$D$21,((('הנחות עסקה'!$D$72*'הנחות עסקה'!$I$70)-30)/365),,((0.7*(ROUND('מודל כלכלי'!$C$59*(1+0.04)^9,-4)))+(((('הנחות עסקה'!$D$72*'הנחות עסקה'!$I$70)-30)/365)*חישובים!$D$23*(0.7*(ROUND('מודל כלכלי'!$C$59*(1+0.04)^9,-4)))*0.5))))+(-PV(חישובים!$D$21,(('הנחות עסקה'!$D$72*'הנחות עסקה'!$I$70)/365),,((0.1*(ROUND('מודל כלכלי'!$C$59*(1+0.04)^9,-4)))+((('הנחות עסקה'!$D$72*'הנחות עסקה'!$I$70)/365)*חישובים!$D$23*(0.1*(ROUND('מודל כלכלי'!$C$59*(1+0.04)^9,-4)))*0.5)))))+(-(((0.07*(ROUND('מודל כלכלי'!$C$59*(1+0.04)^9,-4)))+(0.13*(ROUND('מודל כלכלי'!$C$59*(1+0.04)^9,-4)))+(-PV(חישובים!$D$21,((('הנחות עסקה'!$D$72*'הנחות עסקה'!$I$70)-30)/365),,((0.7*(ROUND('מודל כלכלי'!$C$59*(1+0.04)^9,-4)))+(((('הנחות עסקה'!$D$72*'הנחות עסקה'!$I$70)-30)/365)*חישובים!$D$23*(0.7*(ROUND('מודל כלכלי'!$C$59*(1+0.04)^9,-4)))*0.5))))+(-PV(חישובים!$D$21,(('הנחות עסקה'!$D$72*'הנחות עסקה'!$I$70)/365),,((0.1*(ROUND('מודל כלכלי'!$C$59*(1+0.04)^9,-4)))+((('הנחות עסקה'!$D$72*'הנחות עסקה'!$I$70)/365)*חישובים!$D$23*(0.1*(ROUND('מודל כלכלי'!$C$59*(1+0.04)^9,-4)))*0.5)))))+(-PV(חישובים!$D$21/12,(('הנחות עסקה'!$D$72*'הנחות עסקה'!$I$70)/365*12),(-FV('מודל כלכלי'!$C$20,(9+(('הנחות עסקה'!$D$71-'הנחות עסקה'!$D$72)*'הנחות עסקה'!$I$70)/365),,'מודל כלכלי'!$C$53)))))*היוון!$C$26)),ROUND('מודל כלכלי'!$C$59*(1+0.04)^9,-4)))-(חישובים!$D$28*(1+חישובים!$D$29)^9))*0.25),-4))+'מודל כלכלי'!$C$45)/'מודל כלכלי'!$C$45)^(1/9)-1 -> 0.17151529 | G12: =(((ROUND((IF('מודל כלכלי'!$C$26="פליפ",((-PV(חישובים!$D$21/12,(('הנחות עסקה'!$D$72*'הנחות עסקה'!$I$70)/365*12),(-FV('מודל כלכלי'!$C$20,(10+(('הנחות עסקה'!$D$71-'הנחות עסקה'!$D$72)*'הנחות עסקה'!$I$70)/365),,'מודל כלכלי'!$C$53))))+((0.07*(ROUND('מודל כלכלי'!$C$59*(1+0.04)^10,-4)))+(0.13*(ROUND('מודל כלכלי'!$C$59*(1+0.04)^10,-4)))+(-PV(חישובים!$D$21,((('הנחות עסקה'!$D$72*'הנחות עסקה'!$I$70)-30)/365),,((0.7*(ROUND('מודל כלכלי'!$C$59*(1+0.04)^10,-4)))+(((('הנחות עסקה'!$D$72*'הנחות עסקה'!$I$70)-30)/365)*חישובים!$D$23*(0.7*(ROUND('מודל כלכלי'!$C$59*(1+0.04)^10,-4)))*0.5))))+(-PV(חישובים!$D$21,(('הנחות עסקה'!$D$72*'הנחות עסקה'!$I$70)/365),,((0.1*(ROUND('מודל כלכלי'!$C$59*(1+0.04)^10,-4)))+((('הנחות עסקה'!$D$72*'הנחות עסקה'!$I$70)/365)*חישובים!$D$23*(0.1*(ROUND('מודל כלכלי'!$C$59*(1+0.04)^10,-4)))*0.5)))))+(-(((0.07*(ROUND('מודל כלכלי'!$C$59*(1+0.04)^10,-4)))+(0.13*(ROUND('מודל כלכלי'!$C$59*(1+0.04)^10,-4)))+(-PV(חישובים!$D$21,((('הנחות עסקה'!$D$72*'הנחות עסקה'!$I$70)-30)/365),,((0.7*(ROUND('מודל כלכלי'!$C$59*(1+0.04)^10,-4)))+(((('הנחות עסקה'!$D$72*'הנחות עסקה'!$I$70)-30)/365)*חישובים!$D$23*(0.7*(ROUND('מודל כלכלי'!$C$59*(1+0.04)^10,-4)))*0.5))))+(-PV(חישובים!$D$21,(('הנחות עסקה'!$D$72*'הנחות עסקה'!$I$70)/365),,((0.1*(ROUND('מודל כלכלי'!$C$59*(1+0.04)^10,-4)))+((('הנחות עסקה'!$D$72*'הנחות עסקה'!$I$70)/365)*חישובים!$D$23*(0.1*(ROUND('מודל כלכלי'!$C$59*(1+0.04)^10,-4)))*0.5)))))+(-PV(חישובים!$D$21/12,(('הנחות עסקה'!$D$72*'הנחות עסקה'!$I$70)/365*12),(-FV('מודל כלכלי'!$C$20,(10+(('הנחות עסקה'!$D$71-'הנחות עסקה'!$D$72)*'הנחות עסקה'!$I$70)/365),,'מודל כלכלי'!$C$53)))))*היוון!$C$26)),ROUND('מודל כלכלי'!$C$59*(1+0.04)^10,-4)))+(ROUND(FV('מודל כלכלי'!$C$17/12,10*12,'מודל כלכלי'!$C$48,'מודל כלכלי'!$C$46),-4))+(ROUND(-'מודל כלכלי'!$C$66*(IF('מודל כלכלי'!$C$26="פליפ",((-PV(חישובים!$D$21/12,(('הנחות עסקה'!$D$72*'הנחות עסקה'!$I$70)/365*12),(-FV('מודל כלכלי'!$C$20,(10+(('הנחות עסקה'!$D$71-'הנחות עסקה'!$D$72)*'הנחות עסקה'!$I$70)/365),,'מודל כלכלי'!$C$53))))+((0.07*(ROUND('מודל כלכלי'!$C$59*(1+0.04)^10,-4)))+(0.13*(ROUND('מודל כלכלי'!$C$59*(1+0.04)^10,-4)))+(-PV(חישובים!$D$21,((('הנחות עסקה'!$D$72*'הנחות עסקה'!$I$70)-30)/365),,((0.7*(ROUND('מודל כלכלי'!$C$59*(1+0.04)^10,-4)))+(((('הנחות עסקה'!$D$72*'הנחות עסקה'!$I$70)-30)/365)*חישובים!$D$23*(0.7*(ROUND('מודל כלכלי'!$C$59*(1+0.04)^10,-4)))*0.5))))+(-PV(חישובים!$D$21,(('הנחות עסקה'!$D$72*'הנחות עסקה'!$I$70)/365),,((0.1*(ROUND('מודל כלכלי'!$C$59*(1+0.04)^10,-4)))+((('הנחות עסקה'!$D$72*'הנחות עסקה'!$I$70)/365)*חישובים!$D$23*(0.1*(ROUND('מודל כלכלי'!$C$59*(1+0.04)^10,-4)))*0.5)))))+(-(((0.07*(ROUND('מודל כלכלי'!$C$59*(1+0.04)^10,-4)))+(0.13*(ROUND('מודל כלכלי'!$C$59*(1+0.04)^10,-4)))+(-PV(חישובים!$D$21,((('הנחות עסקה'!$D$72*'הנחות עסקה'!$I$70)-30)/365),,((0.7*(ROUND('מודל כלכלי'!$C$59*(1+0.04)^10,-4)))+(((('הנחות עסקה'!$D$72*'הנחות עסקה'!$I$70)-30)/365)*חישובים!$D$23*(0.7*(ROUND('מודל כלכלי'!$C$59*(1+0.04)^10,-4)))*0.5))))+(-PV(חישובים!$D$21,(('הנחות עסקה'!$D$72*'הנחות עסקה'!$I$70)/365),,((0.1*(ROUND('מודל כלכלי'!$C$59*(1+0.04)^10,-4)))+((('הנחות עסקה'!$D$72*'הנחות עסקה'!$I$70)/365)*חישובים!$D$23*(0.1*(ROUND('מודל כלכלי'!$C$59*(1+0.04)^10,-4)))*0.5)))))+(-PV(חישובים!$D$21/12,(('הנחות עסקה'!$D$72*'הנחות עסקה'!$I$70)/365*12),(-FV('מודל כלכלי'!$C$20,(10+(('הנחות עסקה'!$D$71-'הנחות עסקה'!$D$72)*'הנחות עסקה'!$I$70)/365),,'מודל כלכלי'!$C$53)))))*היוון!$C$26)),ROUND('מודל כלכלי'!$C$59*(1+0.04)^10,-4)))*'מודל כלכלי'!$C$14-'מודל כלכלי'!$C$68*(IF('מודל כלכלי'!$C$26="פליפ",((-PV(חישובים!$D$21/12,(('הנחות עסקה'!$D$72*'הנחות עסקה'!$I$70)/365*12),(-FV('מודל כלכלי'!$C$20,(10+(('הנחות עסקה'!$D$71-'הנחות עסקה'!$D$72)*'הנחות עסקה'!$I$70)/365),,'מודל כלכלי'!$C$53))))+((0.07*(ROUND('מודל כלכלי'!$C$59*(1+0.04)^10,-4)))+(0.13*(ROUND('מודל כלכלי'!$C$59*(1+0.04)^10,-4)))+(-PV(חישובים!$D$21,((('הנחות עסקה'!$D$72*'הנחות עסקה'!$I$70)-30)/365),,((0.7*(ROUND('מודל כלכלי'!$C$59*(1+0.04)^10,-4)))+(((('הנחות עסקה'!$D$72*'הנחות עסקה'!$I$70)-30)/365)*חישובים!$D$23*(0.7*(ROUND('מודל כלכלי'!$C$59*(1+0.04)^10,-4)))*0.5))))+(-PV(חישובים!$D$21,(('הנחות עסקה'!$D$72*'הנחות עסקה'!$I$70)/365),,((0.1*(ROUND('מודל כלכלי'!$C$59*(1+0.04)^10,-4)))+((('הנחות עסקה'!$D$72*'הנחות עסקה'!$I$70)/365)*חישובים!$D$23*(0.1*(ROUND('מודל כלכלי'!$C$59*(1+0.04)^10,-4)))*0.5)))))+(-(((0.07*(ROUND('מודל כלכלי'!$C$59*(1+0.04)^10,-4)))+(0.13*(ROUND('מודל כלכלי'!$C$59*(1+0.04)^10,-4)))+(-PV(חישובים!$D$21,((('הנחות עסקה'!$D$72*'הנחות עסקה'!$I$70)-30)/365),,((0.7*(ROUND('מודל כלכלי'!$C$59*(1+0.04)^10,-4)))+(((('הנחות עסקה'!$D$72*'הנחות עסקה'!$I$70)-30)/365)*חישובים!$D$23*(0.7*(ROUND('מודל כלכלי'!$C$59*(1+0.04)^10,-4)))*0.5))))+(-PV(חישובים!$D$21,(('הנחות עסקה'!$D$72*'הנחות עסקה'!$I$70)/365),,((0.1*(ROUND('מודל כלכלי'!$C$59*(1+0.04)^10,-4)))+((('הנחות עסקה'!$D$72*'הנחות עסקה'!$I$70)/365)*חישובים!$D$23*(0.1*(ROUND('מודל כלכלי'!$C$59*(1+0.04)^10,-4)))*0.5)))))+(-PV(חישובים!$D$21/12,(('הנחות עסקה'!$D$72*'הנחות עסקה'!$I$70)/365*12),(-FV('מודל כלכלי'!$C$20,(10+(('הנחות עסקה'!$D$71-'הנחות עסקה'!$D$72)*'הנחות עסקה'!$I$70)/365),,'מודל כלכלי'!$C$53)))))*היוון!$C$26)),ROUND('מודל כלכלי'!$C$59*(1+0.04)^10,-4)))*'מודל כלכלי'!$C$14+'מודל כלכלי'!$C$70,-3))+(ROUND(-FV(חישובים!$D$22,10*12,'מודל כלכלי'!$C$55),-3))+(-'מודל כלכלי'!$C$45)+(-MAX(0,(IF('מודל כלכלי'!$C$26="פליפ",((-PV(חישובים!$D$21/12,(('הנחות עסקה'!$D$72*'הנחות עסקה'!$I$70)/365*12),(-FV('מודל כלכלי'!$C$20,(10+(('הנחות עסקה'!$D$71-'הנחות עסקה'!$D$72)*'הנחות עסקה'!$I$70)/365),,'מודל כלכלי'!$C$53))))+((0.07*(ROUND('מודל כלכלי'!$C$59*(1+0.04)^10,-4)))+(0.13*(ROUND('מודל כלכלי'!$C$59*(1+0.04)^10,-4)))+(-PV(חישובים!$D$21,((('הנחות עסקה'!$D$72*'הנחות עסקה'!$I$70)-30)/365),,((0.7*(ROUND('מודל כלכלי'!$C$59*(1+0.04)^10,-4)))+(((('הנחות עסקה'!$D$72*'הנחות עסקה'!$I$70)-30)/365)*חישובים!$D$23*(0.7*(ROUND('מודל כלכלי'!$C$59*(1+0.04)^10,-4)))*0.5))))+(-PV(חישובים!$D$21,(('הנחות עסקה'!$D$72*'הנחות עסקה'!$I$70)/365),,((0.1*(ROUND('מודל כלכלי'!$C$59*(1+0.04)^10,-4)))+((('הנחות עסקה'!$D$72*'הנחות עסקה'!$I$70)/365)*חישובים!$D$23*(0.1*(ROUND('מודל כלכלי'!$C$59*(1+0.04)^10,-4)))*0.5)))))+(-(((0.07*(ROUND('מודל כלכלי'!$C$59*(1+0.04)^10,-4)))+(0.13*(ROUND('מודל כלכלי'!$C$59*(1+0.04)^10,-4)))+(-PV(חישובים!$D$21,((('הנחות עסקה'!$D$72*'הנחות עסקה'!$I$70)-30)/365),,((0.7*(ROUND('מודל כלכלי'!$C$59*(1+0.04)^10,-4)))+(((('הנחות עסקה'!$D$72*'הנחות עסקה'!$I$70)-30)/365)*חישובים!$D$23*(0.7*(ROUND('מודל כלכלי'!$C$59*(1+0.04)^10,-4)))*0.5))))+(-PV(חישובים!$D$21,(('הנחות עסקה'!$D$72*'הנחות עסקה'!$I$70)/365),,((0.1*(ROUND('מודל כלכלי'!$C$59*(1+0.04)^10,-4)))+((('הנחות עסקה'!$D$72*'הנחות עסקה'!$I$70)/365)*חישובים!$D$23*(0.1*(ROUND('מודל כלכלי'!$C$59*(1+0.04)^10,-4)))*0.5)))))+(-PV(חישובים!$D$21/12,(('הנחות עסקה'!$D$72*'הנחות עסקה'!$I$70)/365*12),(-FV('מודל כלכלי'!$C$20,(10+(('הנחות עסקה'!$D$71-'הנחות עסקה'!$D$72)*'הנחות עסקה'!$I$70)/365),,'מודל כלכלי'!$C$53)))))*היוון!$C$26)),ROUND('מודל כלכלי'!$C$59*(1+0.04)^10,-4)))-(חישובים!$D$28*(1+חישובים!$D$29)^10))*0.25),-4))+'מודל כלכלי'!$C$45)/'מודל כלכלי'!$C$45)^(1/10)-1 -> 0.15968176 | H12: =(((ROUND((IF('מודל כלכלי'!$C$26="פליפ",((-PV(חישובים!$D$21/12,(('הנחות עסקה'!$D$72*'הנחות עסקה'!$I$70)/365*12),(-FV('מודל כלכלי'!$C$20,(11+(('הנחות עסקה'!$D$71-'הנחות עסקה'!$D$72)*'הנחות עסקה'!$I$70)/365),,'מודל כלכלי'!$C$53))))+((0.07*(ROUND('מודל כלכלי'!$C$59*(1+0.04)^11,-4)))+(0.13*(ROUND('מודל כלכלי'!$C$59*(1+0.04)^11,-4)))+(-PV(חישובים!$D$21,((('הנחות עסקה'!$D$72*'הנחות עסקה'!$I$70)-30)/365),,((0.7*(ROUND('מודל כלכלי'!$C$59*(1+0.04)^11,-4)))+(((('הנחות עסקה'!$D$72*'הנחות עסקה'!$I$70)-30)/365)*חישובים!$D$23*(0.7*(ROUND('מודל כלכלי'!$C$59*(1+0.04)^11,-4)))*0.5))))+(-PV(חישובים!$D$21,(('הנחות עסקה'!$D$72*'הנחות עסקה'!$I$70)/365),,((0.1*(ROUND('מודל כלכלי'!$C$59*(1+0.04)^11,-4)))+((('הנחות עסקה'!$D$72*'הנחות עסקה'!$I$70)/365)*חישובים!$D$23*(0.1*(ROUND('מודל כלכלי'!$C$59*(1+0.04)^11,-4)))*0.5)))))+(-(((0.07*(ROUND('מודל כלכלי'!$C$59*(1+0.04)^11,-4)))+(0.13*(ROUND('מודל כלכלי'!$C$59*(1+0.04)^11,-4)))+(-PV(חישובים!$D$21,((('הנחות עסקה'!$D$72*'הנחות עסקה'!$I$70)-30)/365),,((0.7*(ROUND('מודל כלכלי'!$C$59*(1+0.04)^11,-4)))+(((('הנחות עסקה'!$D$72*'הנחות עסקה'!$I$70)-30)/365)*חישובים!$D$23*(0.7*(ROUND('מודל כלכלי'!$C$59*(1+0.04)^11,-4)))*0.5))))+(-PV(חישובים!$D$21,(('הנחות עסקה'!$D$72*'הנחות עסקה'!$I$70)/365),,((0.1*(ROUND('מודל כלכלי'!$C$59*(1+0.04)^11,-4)))+((('הנחות עסקה'!$D$72*'הנחות עסקה'!$I$70)/365)*חישובים!$D$23*(0.1*(ROUND('מודל כלכלי'!$C$59*(1+0.04)^11,-4)))*0.5)))))+(-PV(חישובים!$D$21/12,(('הנחות עסקה'!$D$72*'הנחות עסקה'!$I$70)/365*12),(-FV('מודל כלכלי'!$C$20,(11+(('הנחות עסקה'!$D$71-'הנחות עסקה'!$D$72)*'הנחות עסקה'!$I$70)/365),,'מודל כלכלי'!$C$53)))))*היוון!$C$26)),ROUND('מודל כלכלי'!$C$59*(1+0.04)^11,-4)))+(ROUND(FV('מודל כלכלי'!$C$17/12,11*12,'מודל כלכלי'!$C$48,'מודל כלכלי'!$C$46),-4))+(ROUND(-'מודל כלכלי'!$C$66*(IF('מודל כלכלי'!$C$26="פליפ",((-PV(חישובים!$D$21/12,(('הנחות עסקה'!$D$72*'הנחות עסקה'!$I$70)/365*12),(-FV('מודל כלכלי'!$C$20,(11+(('הנחות עסקה'!$D$71-'הנחות עסקה'!$D$72)*'הנחות עסקה'!$I$70)/365),,'מודל כלכלי'!$C$53))))+((0.07*(ROUND('מודל כלכלי'!$C$59*(1+0.04)^11,-4)))+(0.13*(ROUND('מודל כלכלי'!$C$59*(1+0.04)^11,-4)))+(-PV(חישובים!$D$21,((('הנחות עסקה'!$D$72*'הנחות עסקה'!$I$70)-30)/365),,((0.7*(ROUND('מודל כלכלי'!$C$59*(1+0.04)^11,-4)))+(((('הנחות עסקה'!$D$72*'הנחות עסקה'!$I$70)-30)/365)*חישובים!$D$23*(0.7*(ROUND('מודל כלכלי'!$C$59*(1+0.04)^11,-4)))*0.5))))+(-PV(חישובים!$D$21,(('הנחות עסקה'!$D$72*'הנחות עסקה'!$I$70)/365),,((0.1*(ROUND('מודל כלכלי'!$C$59*(1+0.04)^11,-4)))+((('הנחות עסקה'!$D$72*'הנחות עסקה'!$I$70)/365)*חישובים!$D$23*(0.1*(ROUND('מודל כלכלי'!$C$59*(1+0.04)^11,-4)))*0.5)))))+(-(((0.07*(ROUND('מודל כלכלי'!$C$59*(1+0.04)^11,-4)))+(0.13*(ROUND('מודל כלכלי'!$C$59*(1+0.04)^11,-4)))+(-PV(חישובים!$D$21,((('הנחות עסקה'!$D$72*'הנחות עסקה'!$I$70)-30)/365),,((0.7*(ROUND('מודל כלכלי'!$C$59*(1+0.04)^11,-4)))+(((('הנחות עסקה'!$D$72*'הנחות עסקה'!$I$70)-30)/365)*חישובים!$D$23*(0.7*(ROUND('מודל כלכלי'!$C$59*(1+0.04)^11,-4)))*0.5))))+(-PV(חישובים!$D$21,(('הנחות עסקה'!$D$72*'הנחות עסקה'!$I$70)/365),,((0.1*(ROUND('מודל כלכלי'!$C$59*(1+0.04)^11,-4)))+((('הנחות עסקה'!$D$72*'הנחות עסקה'!$I$70)/365)*חישובים!$D$23*(0.1*(ROUND('מודל כלכלי'!$C$59*(1+0.04)^11,-4)))*0.5)))))+(-PV(חישובים!$D$21/12,(('הנחות עסקה'!$D$72*'הנחות עסקה'!$I$70)/365*12),(-FV('מודל כלכלי'!$C$20,(11+(('הנחות עסקה'!$D$71-'הנחות עסקה'!$D$72)*'הנחות עסקה'!$I$70)/365),,'מודל כלכלי'!$C$53)))))*היוון!$C$26)),ROUND('מודל כלכלי'!$C$59*(1+0.04)^11,-4)))*'מודל כלכלי'!$C$14-'מודל כלכלי'!$C$68*(IF('מודל כלכלי'!$C$26="פליפ",((-PV(חישובים!$D$21/12,(('הנחות עסקה'!$D$72*'הנחות עסקה'!$I$70)/365*12),(-FV('מודל כלכלי'!$C$20,(11+(('הנחות עסקה'!$D$71-'הנחות עסקה'!$D$72)*'הנחות עסקה'!$I$70)/365),,'מודל כלכלי'!$C$53))))+((0.07*(ROUND('מודל כלכלי'!$C$59*(1+0.04)^11,-4)))+(0.13*(ROUND('מודל כלכלי'!$C$59*(1+0.04)^11,-4)))+(-PV(חישובים!$D$21,((('הנחות עסקה'!$D$72*'הנחות עסקה'!$I$70)-30)/365),,((0.7*(ROUND('מודל כלכלי'!$C$59*(1+0.04)^11,-4)))+(((('הנחות עסקה'!$D$72*'הנחות עסקה'!$I$70)-30)/365)*חישובים!$D$23*(0.7*(ROUND('מודל כלכלי'!$C$59*(1+0.04)^11,-4)))*0.5))))+(-PV(חישובים!$D$21,(('הנחות עסקה'!$D$72*'הנחות עסקה'!$I$70)/365),,((0.1*(ROUND('מודל כלכלי'!$C$59*(1+0.04)^11,-4)))+((('הנחות עסקה'!$D$72*'הנחות עסקה'!$I$70)/365)*חישובים!$D$23*(0.1*(ROUND('מודל כלכלי'!$C$59*(1+0.04)^11,-4)))*0.5)))))+(-(((0.07*(ROUND('מודל כלכלי'!$C$59*(1+0.04)^11,-4)))+(0.13*(ROUND('מודל כלכלי'!$C$59*(1+0.04)^11,-4)))+(-PV(חישובים!$D$21,((('הנחות עסקה'!$D$72*'הנחות עסקה'!$I$70)-30)/365),,((0.7*(ROUND('מודל כלכלי'!$C$59*(1+0.04)^11,-4)))+(((('הנחות עסקה'!$D$72*'הנחות עסקה'!$I$70)-30)/365)*חישובים!$D$23*(0.7*(ROUND('מודל כלכלי'!$C$59*(1+0.04)^11,-4)))*0.5))))+(-PV(חישובים!$D$21,(('הנחות עסקה'!$D$72*'הנחות עסקה'!$I$70)/365),,((0.1*(ROUND('מודל כלכלי'!$C$59*(1+0.04)^11,-4)))+((('הנחות עסקה'!$D$72*'הנחות עסקה'!$I$70)/365)*חישובים!$D$23*(0.1*(ROUND('מודל כלכלי'!$C$59*(1+0.04)^11,-4)))*0.5)))))+(-PV(חישובים!$D$21/12,(('הנחות עסקה'!$D$72*'הנחות עסקה'!$I$70)/365*12),(-FV('מודל כלכלי'!$C$20,(11+(('הנחות עסקה'!$D$71-'הנחות עסקה'!$D$72)*'הנחות עסקה'!$I$70)/365),,'מודל כלכלי'!$C$53)))))*היוון!$C$26)),ROUND('מודל כלכלי'!$C$59*(1+0.04)^11,-4)))*'מודל כלכלי'!$C$14+'מודל כלכלי'!$C$70,-3))+(ROUND(-FV(חישובים!$D$22,11*12,'מודל כלכלי'!$C$55),-3))+(-'מודל כלכלי'!$C$45)+(-MAX(0,(IF('מודל כלכלי'!$C$26="פליפ",((-PV(חישובים!$D$21/12,(('הנחות עסקה'!$D$72*'הנחות עסקה'!$I$70)/365*12),(-FV('מודל כלכלי'!$C$20,(11+(('הנחות עסקה'!$D$71-'הנחות עסקה'!$D$72)*'הנחות עסקה'!$I$70)/365),,'מודל כלכלי'!$C$53))))+((0.07*(ROUND('מודל כלכלי'!$C$59*(1+0.04)^11,-4)))+(0.13*(ROUND('מודל כלכלי'!$C$59*(1+0.04)^11,-4)))+(-PV(חישובים!$D$21,((('הנחות עסקה'!$D$72*'הנחות עסקה'!$I$70)-30)/365),,((0.7*(ROUND('מודל כלכלי'!$C$59*(1+0.04)^11,-4)))+(((('הנחות עסקה'!$D$72*'הנחות עסקה'!$I$70)-30)/365)*חישובים!$D$23*(0.7*(ROUND('מודל כלכלי'!$C$59*(1+0.04)^11,-4)))*0.5))))+(-PV(חישובים!$D$21,(('הנחות עסקה'!$D$72*'הנחות עסקה'!$I$70)/365),,((0.1*(ROUND('מודל כלכלי'!$C$59*(1+0.04)^11,-4)))+((('הנחות עסקה'!$D$72*'הנחות עסקה'!$I$70)/365)*חישובים!$D$23*(0.1*(ROUND('מודל כלכלי'!$C$59*(1+0.04)^11,-4)))*0.5)))))+(-(((0.07*(ROUND('מודל כלכלי'!$C$59*(1+0.04)^11,-4)))+(0.13*(ROUND('מודל כלכלי'!$C$59*(1+0.04)^11,-4)))+(-PV(חישובים!$D$21,((('הנחות עסקה'!$D$72*'הנחות עסקה'!$I$70)-30)/365),,((0.7*(ROUND('מודל כלכלי'!$C$59*(1+0.04)^11,-4)))+(((('הנחות עסקה'!$D$72*'הנחות עסקה'!$I$70)-30)/365)*חישובים!$D$23*(0.7*(ROUND('מודל כלכלי'!$C$59*(1+0.04)^11,-4)))*0.5))))+(-PV(חישובים!$D$21,(('הנחות עסקה'!$D$72*'הנחות עסקה'!$I$70)/365),,((0.1*(ROUND('מודל כלכלי'!$C$59*(1+0.04)^11,-4)))+((('הנחות עסקה'!$D$72*'הנחות עסקה'!$I$70)/365)*חישובים!$D$23*(0.1*(ROUND('מודל כלכלי'!$C$59*(1+0.04)^11,-4)))*0.5)))))+(-PV(חישובים!$D$21/12,(('הנחות עסקה'!$D$72*'הנחות עסקה'!$I$70)/365*12),(-FV('מודל כלכלי'!$C$20,(11+(('הנחות עסקה'!$D$71-'הנחות עסקה'!$D$72)*'הנחות עסקה'!$I$70)/365),,'מודל כלכלי'!$C$53)))))*היוון!$C$26)),ROUND('מודל כלכלי'!$C$59*(1+0.04)^11,-4)))-(חישובים!$D$28*(1+חישובים!$D$29)^11))*0.25),-4))+'מודל כלכלי'!$C$45)/'מודל כלכלי'!$C$45)^(1/11)-1 -> 0.1494276 | I12: =(((ROUND((IF('מודל כלכלי'!$C$26="פליפ",((-PV(חישובים!$D$21/12,(('הנחות עסקה'!$D$72*'הנחות עסקה'!$I$70)/365*12),(-FV('מודל כלכלי'!$C$20,(12+(('הנחות עסקה'!$D$71-'הנחות עסקה'!$D$72)*'הנחות עסקה'!$I$70)/365),,'מודל כלכלי'!$C$53))))+((0.07*(ROUND('מודל כלכלי'!$C$59*(1+0.04)^12,-4)))+(0.13*(ROUND('מודל כלכלי'!$C$59*(1+0.04)^12,-4)))+(-PV(חישובים!$D$21,((('הנחות עסקה'!$D$72*'הנחות עסקה'!$I$70)-30)/365),,((0.7*(ROUND('מודל כלכלי'!$C$59*(1+0.04)^12,-4)))+(((('הנחות עסקה'!$D$72*'הנחות עסקה'!$I$70)-30)/365)*חישובים!$D$23*(0.7*(ROUND('מודל כלכלי'!$C$59*(1+0.04)^12,-4)))*0.5))))+(-PV(חישובים!$D$21,(('הנחות עסקה'!$D$72*'הנחות עסקה'!$I$70)/365),,((0.1*(ROUND('מודל כלכלי'!$C$59*(1+0.04)^12,-4)))+((('הנחות עסקה'!$D$72*'הנחות עסקה'!$I$70)/365)*חישובים!$D$23*(0.1*(ROUND('מודל כלכלי'!$C$59*(1+0.04)^12,-4)))*0.5)))))+(-(((0.07*(ROUND('מודל כלכלי'!$C$59*(1+0.04)^12,-4)))+(0.13*(ROUND('מודל כלכלי'!$C$59*(1+0.04)^12,-4)))+(-PV(חישובים!$D$21,((('הנחות עסקה'!$D$72*'הנחות עסקה'!$I$70)-30)/365),,((0.7*(ROUND('מודל כלכלי'!$C$59*(1+0.04)^12,-4)))+(((('הנחות עסקה'!$D$72*'הנחות עסקה'!$I$70)-30)/365)*חישובים!$D$23*(0.7*(ROUND('מודל כלכלי'!$C$59*(1+0.04)^12,-4)))*0.5))))+(-PV(חישובים!$D$21,(('הנחות עסקה'!$D$72*'הנחות עסקה'!$I$70)/365),,((0.1*(ROUND('מודל כלכלי'!$C$59*(1+0.04)^12,-4)))+((('הנחות עסקה'!$D$72*'הנחות עסקה'!$I$70)/365)*חישובים!$D$23*(0.1*(ROUND('מודל כלכלי'!$C$59*(1+0.04)^12,-4)))*0.5)))))+(-PV(חישובים!$D$21/12,(('הנחות עסקה'!$D$72*'הנחות עסקה'!$I$70)/365*12),(-FV('מודל כלכלי'!$C$20,(12+(('הנחות עסקה'!$D$71-'הנחות עסקה'!$D$72)*'הנחות עסקה'!$I$70)/365),,'מודל כלכלי'!$C$53)))))*היוון!$C$26)),ROUND('מודל כלכלי'!$C$59*(1+0.04)^12,-4)))+(ROUND(FV('מודל כלכלי'!$C$17/12,12*12,'מודל כלכלי'!$C$48,'מודל כלכלי'!$C$46),-4))+(ROUND(-'מודל כלכלי'!$C$66*(IF('מודל כלכלי'!$C$26="פליפ",((-PV(חישובים!$D$21/12,(('הנחות עסקה'!$D$72*'הנחות עסקה'!$I$70)/365*12),(-FV('מודל כלכלי'!$C$20,(12+(('הנחות עסקה'!$D$71-'הנחות עסקה'!$D$72)*'הנחות עסקה'!$I$70)/365),,'מודל כלכלי'!$C$53))))+((0.07*(ROUND('מודל כלכלי'!$C$59*(1+0.04)^12,-4)))+(0.13*(ROUND('מודל כלכלי'!$C$59*(1+0.04)^12,-4)))+(-PV(חישובים!$D$21,((('הנחות עסקה'!$D$72*'הנחות עסקה'!$I$70)-30)/365),,((0.7*(ROUND('מודל כלכלי'!$C$59*(1+0.04)^12,-4)))+(((('הנחות עסקה'!$D$72*'הנחות עסקה'!$I$70)-30)/365)*חישובים!$D$23*(0.7*(ROUND('מודל כלכלי'!$C$59*(1+0.04)^12,-4)))*0.5))))+(-PV(חישובים!$D$21,(('הנחות עסקה'!$D$72*'הנחות עסקה'!$I$70)/365),,((0.1*(ROUND('מודל כלכלי'!$C$59*(1+0.04)^12,-4)))+((('הנחות עסקה'!$D$72*'הנחות עסקה'!$I$70)/365)*חישובים!$D$23*(0.1*(ROUND('מודל כלכלי'!$C$59*(1+0.04)^12,-4)))*0.5)))))+(-(((0.07*(ROUND('מודל כלכלי'!$C$59*(1+0.04)^12,-4)))+(0.13*(ROUND('מודל כלכלי'!$C$59*(1+0.04)^12,-4)))+(-PV(חישובים!$D$21,((('הנחות עסקה'!$D$72*'הנחות עסקה'!$I$70)-30)/365),,((0.7*(ROUND('מודל כלכלי'!$C$59*(1+0.04)^12,-4)))+(((('הנחות עסקה'!$D$72*'הנחות עסקה'!$I$70)-30)/365)*חישובים!$D$23*(0.7*(ROUND('מודל כלכלי'!$C$59*(1+0.04)^12,-4)))*0.5))))+(-PV(חישובים!$D$21,(('הנחות עסקה'!$D$72*'הנחות עסקה'!$I$70)/365),,((0.1*(ROUND('מודל כלכלי'!$C$59*(1+0.04)^12,-4)))+((('הנחות עסקה'!$D$72*'הנחות עסקה'!$I$70)/365)*חישובים!$D$23*(0.1*(ROUND('מודל כלכלי'!$C$59*(1+0.04)^12,-4)))*0.5)))))+(-PV(חישובים!$D$21/12,(('הנחות עסקה'!$D$72*'הנחות עסקה'!$I$70)/365*12),(-FV('מודל כלכלי'!$C$20,(12+(('הנחות עסקה'!$D$71-'הנחות עסקה'!$D$72)*'הנחות עסקה'!$I$70)/365),,'מודל כלכלי'!$C$53)))))*היוון!$C$26)),ROUND('מודל כלכלי'!$C$59*(1+0.04)^12,-4)))*'מודל כלכלי'!$C$14-'מודל כלכלי'!$C$68*(IF('מודל כלכלי'!$C$26="פליפ",((-PV(חישובים!$D$21/12,(('הנחות עסקה'!$D$72*'הנחות עסקה'!$I$70)/365*12),(-FV('מודל כלכלי'!$C$20,(12+(('הנחות עסקה'!$D$71-'הנחות עסקה'!$D$72)*'הנחות עסקה'!$I$70)/365),,'מודל כלכלי'!$C$53))))+((0.07*(ROUND('מודל כלכלי'!$C$59*(1+0.04)^12,-4)))+(0.13*(ROUND('מודל כלכלי'!$C$59*(1+0.04)^12,-4)))+(-PV(חישובים!$D$21,((('הנחות עסקה'!$D$72*'הנחות עסקה'!$I$70)-30)/365),,((0.7*(ROUND('מודל כלכלי'!$C$59*(1+0.04)^12,-4)))+(((('הנחות עסקה'!$D$72*'הנחות עסקה'!$I$70)-30)/365)*חישובים!$D$23*(0.7*(ROUND('מודל כלכלי'!$C$59*(1+0.04)^12,-4)))*0.5))))+(-PV(חישובים!$D$21,(('הנחות עסקה'!$D$72*'הנחות עסקה'!$I$70)/365),,((0.1*(ROUND('מודל כלכלי'!$C$59*(1+0.04)^12,-4)))+((('הנחות עסקה'!$D$72*'הנחות עסקה'!$I$70)/365)*חישובים!$D$23*(0.1*(ROUND('מודל כלכלי'!$C$59*(1+0.04)^12,-4)))*0.5)))))+(-(((0.07*(ROUND('מודל כלכלי'!$C$59*(1+0.04)^12,-4)))+(0.13*(ROUND('מודל כלכלי'!$C$59*(1+0.04)^12,-4)))+(-PV(חישובים!$D$21,((('הנחות עסקה'!$D$72*'הנחות עסקה'!$I$70)-30)/365),,((0.7*(ROUND('מודל כלכלי'!$C$59*(1+0.04)^12,-4)))+(((('הנחות עסקה'!$D$72*'הנחות עסקה'!$I$70)-30)/365)*חישובים!$D$23*(0.7*(ROUND('מודל כלכלי'!$C$59*(1+0.04)^12,-4)))*0.5))))+(-PV(חישובים!$D$21,(('הנחות עסקה'!$D$72*'הנחות עסקה'!$I$70)/365),,((0.1*(ROUND('מודל כלכלי'!$C$59*(1+0.04)^12,-4)))+((('הנחות עסקה'!$D$72*'הנחות עסקה'!$I$70)/365)*חישובים!$D$23*(0.1*(ROUND('מודל כלכלי'!$C$59*(1+0.04)^12,-4)))*0.5)))))+(-PV(חישובים!$D$21/12,(('הנחות עסקה'!$D$72*'הנחות עסקה'!$I$70)/365*12),(-FV('מודל כלכלי'!$C$20,(12+(('הנחות עסקה'!$D$71-'הנחות עסקה'!$D$72)*'הנחות עסקה'!$I$70)/365),,'מודל כלכלי'!$C$53)))))*היוון!$C$26)),ROUND('מודל כלכלי'!$C$59*(1+0.04)^12,-4)))*'מודל כלכלי'!$C$14+'מודל כלכלי'!$C$70,-3))+(ROUND(-FV(חישובים!$D$22,12*12,'מודל כלכלי'!$C$55),-3))+(-'מודל כלכלי'!$C$45)+(-MAX(0,(IF('מודל כלכלי'!$C$26="פליפ",((-PV(חישובים!$D$21/12,(('הנחות עסקה'!$D$72*'הנחות עסקה'!$I$70)/365*12),(-FV('מודל כלכלי'!$C$20,(12+(('הנחות עסקה'!$D$71-'הנחות עסקה'!$D$72)*'הנחות עסקה'!$I$70)/365),,'מודל כלכלי'!$C$53))))+((0.07*(ROUND('מודל כלכלי'!$C$59*(1+0.04)^12,-4)))+(0.13*(ROUND('מודל כלכלי'!$C$59*(1+0.04)^12,-4)))+(-PV(חישובים!$D$21,((('הנחות עסקה'!$D$72*'הנחות עסקה'!$I$70)-30)/365),,((0.7*(ROUND('מודל כלכלי'!$C$59*(1+0.04)^12,-4)))+(((('הנחות עסקה'!$D$72*'הנחות עסקה'!$I$70)-30)/365)*חישובים!$D$23*(0.7*(ROUND('מודל כלכלי'!$C$59*(1+0.04)^12,-4)))*0.5))))+(-PV(חישובים!$D$21,(('הנחות עסקה'!$D$72*'הנחות עסקה'!$I$70)/365),,((0.1*(ROUND('מודל כלכלי'!$C$59*(1+0.04)^12,-4)))+((('הנחות עסקה'!$D$72*'הנחות עסקה'!$I$70)/365)*חישובים!$D$23*(0.1*(ROUND('מודל כלכלי'!$C$59*(1+0.04)^12,-4)))*0.5)))))+(-(((0.07*(ROUND('מודל כלכלי'!$C$59*(1+0.04)^12,-4)))+(0.13*(ROUND('מודל כלכלי'!$C$59*(1+0.04)^12,-4)))+(-PV(חישובים!$D$21,((('הנחות עסקה'!$D$72*'הנחות עסקה'!$I$70)-30)/365),,((0.7*(ROUND('מודל כלכלי'!$C$59*(1+0.04)^12,-4)))+(((('הנחות עסקה'!$D$72*'הנחות עסקה'!$I$70)-30)/365)*חישובים!$D$23*(0.7*(ROUND('מודל כלכלי'!$C$59*(1+0.04)^12,-4)))*0.5))))+(-PV(חישובים!$D$21,(('הנחות עסקה'!$D$72*'הנחות עסקה'!$I$70)/365),,((0.1*(ROUND('מודל כלכלי'!$C$59*(1+0.04)^12,-4)))+((('הנחות עסקה'!$D$72*'הנחות עסקה'!$I$70)/365)*חישובים!$D$23*(0.1*(ROUND('מודל כלכלי'!$C$59*(1+0.04)^12,-4)))*0.5)))))+(-PV(חישובים!$D$21/12,(('הנחות עסקה'!$D$72*'הנחות עסקה'!$I$70)/365*12),(-FV('מודל כלכלי'!$C$20,(12+(('הנחות עסקה'!$D$71-'הנחות עסקה'!$D$72)*'הנחות עסקה'!$I$70)/365),,'מודל כלכלי'!$C$53)))))*היוון!$C$26)),ROUND('מודל כלכלי'!$C$59*(1+0.04)^12,-4)))-(חישובים!$D$28*(1+חישובים!$D$29)^12))*0.25),-4))+'מודל כלכלי'!$C$45)/'מודל כלכלי'!$C$45)^(1/12)-1 -> 0.14131401 | J12: =(((ROUND((IF('מודל כלכלי'!$C$26="פליפ",((-PV(חישובים!$D$21/12,(('הנחות עסקה'!$D$72*'הנחות עסקה'!$I$70)/365*12),(-FV('מודל כלכלי'!$C$20,(13+(('הנחות עסקה'!$D$71-'הנחות עסקה'!$D$72)*'הנחות עסקה'!$I$70)/365),,'מודל כלכלי'!$C$53))))+((0.07*(ROUND('מודל כלכלי'!$C$59*(1+0.04)^13,-4)))+(0.13*(ROUND('מודל כלכלי'!$C$59*(1+0.04)^13,-4)))+(-PV(חישובים!$D$21,((('הנחות עסקה'!$D$72*'הנחות עסקה'!$I$70)-30)/365),,((0.7*(ROUND('מודל כלכלי'!$C$59*(1+0.04)^13,-4)))+(((('הנחות עסקה'!$D$72*'הנחות עסקה'!$I$70)-30)/365)*חישובים!$D$23*(0.7*(ROUND('מודל כלכלי'!$C$59*(1+0.04)^13,-4)))*0.5))))+(-PV(חישובים!$D$21,(('הנחות עסקה'!$D$72*'הנחות עסקה'!$I$70)/365),,((0.1*(ROUND('מודל כלכלי'!$C$59*(1+0.04)^13,-4)))+((('הנחות עסקה'!$D$72*'הנחות עסקה'!$I$70)/365)*חישובים!$D$23*(0.1*(ROUND('מודל כלכלי'!$C$59*(1+0.04)^13,-4)))*0.5)))))+(-(((0.07*(ROUND('מודל כלכלי'!$C$59*(1+0.04)^13,-4)))+(0.13*(ROUND('מודל כלכלי'!$C$59*(1+0.04)^13,-4)))+(-PV(חישובים!$D$21,((('הנחות עסקה'!$D$72*'הנחות עסקה'!$I$70)-30)/365),,((0.7*(ROUND('מודל כלכלי'!$C$59*(1+0.04)^13,-4)))+(((('הנחות עסקה'!$D$72*'הנחות עסקה'!$I$70)-30)/365)*חישובים!$D$23*(0.7*(ROUND('מודל כלכלי'!$C$59*(1+0.04)^13,-4)))*0.5))))+(-PV(חישובים!$D$21,(('הנחות עסקה'!$D$72*'הנחות עסקה'!$I$70)/365),,((0.1*(ROUND('מודל כלכלי'!$C$59*(1+0.04)^13,-4)))+((('הנחות עסקה'!$D$72*'הנחות עסקה'!$I$70)/365)*חישובים!$D$23*(0.1*(ROUND('מודל כלכלי'!$C$59*(1+0.04)^13,-4)))*0.5)))))+(-PV(חישובים!$D$21/12,(('הנחות עסקה'!$D$72*'הנחות עסקה'!$I$70)/365*12),(-FV('מודל כלכלי'!$C$20,(13+(('הנחות עסקה'!$D$71-'הנחות עסקה'!$D$72)*'הנחות עסקה'!$I$70)/365),,'מודל כלכלי'!$C$53)))))*היוון!$C$26)),ROUND('מודל כלכלי'!$C$59*(1+0.04)^13,-4)))+(ROUND(FV('מודל כלכלי'!$C$17/12,13*12,'מודל כלכלי'!$C$48,'מודל כלכלי'!$C$46),-4))+(ROUND(-'מודל כלכלי'!$C$66*(IF('מודל כלכלי'!$C$26="פליפ",((-PV(חישובים!$D$21/12,(('הנחות עסקה'!$D$72*'הנחות עסקה'!$I$70)/365*12),(-FV('מודל כלכלי'!$C$20,(13+(('הנחות עסקה'!$D$71-'הנחות עסקה'!$D$72)*'הנחות עסקה'!$I$70)/365),,'מודל כלכלי'!$C$53))))+((0.07*(ROUND('מודל כלכלי'!$C$59*(1+0.04)^13,-4)))+(0.13*(ROUND('מודל כלכלי'!$C$59*(1+0.04)^13,-4)))+(-PV(חישובים!$D$21,((('הנחות עסקה'!$D$72*'הנחות עסקה'!$I$70)-30)/365),,((0.7*(ROUND('מודל כלכלי'!$C$59*(1+0.04)^13,-4)))+(((('הנחות עסקה'!$D$72*'הנחות עסקה'!$I$70)-30)/365)*חישובים!$D$23*(0.7*(ROUND('מודל כלכלי'!$C$59*(1+0.04)^13,-4)))*0.5))))+(-PV(חישובים!$D$21,(('הנחות עסקה'!$D$72*'הנחות עסקה'!$I$70)/365),,((0.1*(ROUND('מודל כלכלי'!$C$59*(1+0.04)^13,-4)))+((('הנחות עסקה'!$D$72*'הנחות עסקה'!$I$70)/365)*חישובים!$D$23*(0.1*(ROUND('מודל כלכלי'!$C$59*(1+0.04)^13,-4)))*0.5)))))+(-(((0.07*(ROUND('מודל כלכלי'!$C$59*(1+0.04)^13,-4)))+(0.13*(ROUND('מודל כלכלי'!$C$59*(1+0.04)^13,-4)))+(-PV(חישובים!$D$21,((('הנחות עסקה'!$D$72*'הנחות עסקה'!$I$70)-30)/365),,((0.7*(ROUND('מודל כלכלי'!$C$59*(1+0.04)^13,-4)))+(((('הנחות עסקה'!$D$72*'הנחות עסקה'!$I$70)-30)/365)*חישובים!$D$23*(0.7*(ROUND('מודל כלכלי'!$C$59*(1+0.04)^13,-4)))*0.5))))+(-PV(חישובים!$D$21,(('הנחות עסקה'!$D$72*'הנחות עסקה'!$I$70)/365),,((0.1*(ROUND('מודל כלכלי'!$C$59*(1+0.04)^13,-4)))+((('הנחות עסקה'!$D$72*'הנחות עסקה'!$I$70)/365)*חישובים!$D$23*(0.1*(ROUND('מודל כלכלי'!$C$59*(1+0.04)^13,-4)))*0.5)))))+(-PV(חישובים!$D$21/12,(('הנחות עסקה'!$D$72*'הנחות עסקה'!$I$70)/365*12),(-FV('מודל כלכלי'!$C$20,(13+(('הנחות עסקה'!$D$71-'הנחות עסקה'!$D$72)*'הנחות עסקה'!$I$70)/365),,'מודל כלכלי'!$C$53)))))*היוון!$C$26)),ROUND('מודל כלכלי'!$C$59*(1+0.04)^13,-4)))*'מודל כלכלי'!$C$14-'מודל כלכלי'!$C$68*(IF('מודל כלכלי'!$C$26="פליפ",((-PV(חישובים!$D$21/12,(('הנחות עסקה'!$D$72*'הנחות עסקה'!$I$70)/365*12),(-FV('מודל כלכלי'!$C$20,(13+(('הנחות עסקה'!$D$71-'הנחות עסקה'!$D$72)*'הנחות עסקה'!$I$70)/365),,'מודל כלכלי'!$C$53))))+((0.07*(ROUND('מודל כלכלי'!$C$59*(1+0.04)^13,-4)))+(0.13*(ROUND('מודל כלכלי'!$C$59*(1+0.04)^13,-4)))+(-PV(חישובים!$D$21,((('הנחות עסקה'!$D$72*'הנחות עסקה'!$I$70)-30)/365),,((0.7*(ROUND('מודל כלכלי'!$C$59*(1+0.04)^13,-4)))+(((('הנחות עסקה'!$D$72*'הנחות עסקה'!$I$70)-30)/365)*חישובים!$D$23*(0.7*(ROUND('מודל כלכלי'!$C$59*(1+0.04)^13,-4)))*0.5))))+(-PV(חישובים!$D$21,(('הנחות עסקה'!$D$72*'הנחות עסקה'!$I$70)/365),,((0.1*(ROUND('מודל כלכלי'!$C$59*(1+0.04)^13,-4)))+((('הנחות עסקה'!$D$72*'הנחות עסקה'!$I$70)/365)*חישובים!$D$23*(0.1*(ROUND('מודל כלכלי'!$C$59*(1+0.04)^13,-4)))*0.5)))))+(-(((0.07*(ROUND('מודל כלכלי'!$C$59*(1+0.04)^13,-4)))+(0.13*(ROUND('מודל כלכלי'!$C$59*(1+0.04)^13,-4)))+(-PV(חישובים!$D$21,((('הנחות עסקה'!$D$72*'הנחות עסקה'!$I$70)-30)/365),,((0.7*(ROUND('מודל כלכלי'!$C$59*(1+0.04)^13,-4)))+(((('הנחות עסקה'!$D$72*'הנחות עסקה'!$I$70)-30)/365)*חישובים!$D$23*(0.7*(ROUND('מודל כלכלי'!$C$59*(1+0.04)^13,-4)))*0.5))))+(-PV(חישובים!$D$21,(('הנחות עסקה'!$D$72*'הנחות עסקה'!$I$70)/365),,((0.1*(ROUND('מודל כלכלי'!$C$59*(1+0.04)^13,-4)))+((('הנחות עסקה'!$D$72*'הנחות עסקה'!$I$70)/365)*חישובים!$D$23*(0.1*(ROUND('מודל כלכלי'!$C$59*(1+0.04)^13,-4)))*0.5)))))+(-PV(חישובים!$D$21/12,(('הנחות עסקה'!$D$72*'הנחות עסקה'!$I$70)/365*12),(-FV('מודל כלכלי'!$C$20,(13+(('הנחות עסקה'!$D$71-'הנחות עסקה'!$D$72)*'הנחות עסקה'!$I$70)/365),,'מודל כלכלי'!$C$53)))))*היוון!$C$26)),ROUND('מודל כלכלי'!$C$59*(1+0.04)^13,-4)))*'מודל כלכלי'!$C$14+'מודל כלכלי'!$C$70,-3))+(ROUND(-FV(חישובים!$D$22,13*12,'מודל כלכלי'!$C$55),-3))+(-'מודל כלכלי'!$C$45)+(-MAX(0,(IF('מודל כלכלי'!$C$26="פליפ",((-PV(חישובים!$D$21/12,(('הנחות עסקה'!$D$72*'הנחות עסקה'!$I$70)/365*12),(-FV('מודל כלכלי'!$C$20,(13+(('הנחות עסקה'!$D$71-'הנחות עסקה'!$D$72)*'הנחות עסקה'!$I$70)/365),,'מודל כלכלי'!$C$53))))+((0.07*(ROUND('מודל כלכלי'!$C$59*(1+0.04)^13,-4)))+(0.13*(ROUND('מודל כלכלי'!$C$59*(1+0.04)^13,-4)))+(-PV(חישובים!$D$21,((('הנחות עסקה'!$D$72*'הנחות עסקה'!$I$70)-30)/365),,((0.7*(ROUND('מודל כלכלי'!$C$59*(1+0.04)^13,-4)))+(((('הנחות עסקה'!$D$72*'הנחות עסקה'!$I$70)-30)/365)*חישובים!$D$23*(0.7*(ROUND('מודל כלכלי'!$C$59*(1+0.04)^13,-4)))*0.5))))+(-PV(חישובים!$D$21,(('הנחות עסקה'!$D$72*'הנחות עסקה'!$I$70)/365),,((0.1*(ROUND('מודל כלכלי'!$C$59*(1+0.04)^13,-4)))+((('הנחות עסקה'!$D$72*'הנחות עסקה'!$I$70)/365)*חישובים!$D$23*(0.1*(ROUND('מודל כלכלי'!$C$59*(1+0.04)^13,-4)))*0.5)))))+(-(((0.07*(ROUND('מודל כלכלי'!$C$59*(1+0.04)^13,-4)))+(0.13*(ROUND('מודל כלכלי'!$C$59*(1+0.04)^13,-4)))+(-PV(חישובים!$D$21,((('הנחות עסקה'!$D$72*'הנחות עסקה'!$I$70)-30)/365),,((0.7*(ROUND('מודל כלכלי'!$C$59*(1+0.04)^13,-4)))+(((('הנחות עסקה'!$D$72*'הנחות עסקה'!$I$70)-30)/365)*חישובים!$D$23*(0.7*(ROUND('מודל כלכלי'!$C$59*(1+0.04)^13,-4)))*0.5))))+(-PV(חישובים!$D$21,(('הנחות עסקה'!$D$72*'הנחות עסקה'!$I$70)/365),,((0.1*(ROUND('מודל כלכלי'!$C$59*(1+0.04)^13,-4)))+((('הנחות עסקה'!$D$72*'הנחות עסקה'!$I$70)/365)*חישובים!$D$23*(0.1*(ROUND('מודל כלכלי'!$C$59*(1+0.04)^13,-4)))*0.5)))))+(-PV(חישובים!$D$21/12,(('הנחות עסקה'!$D$72*'הנחות עסקה'!$I$70)/365*12),(-FV('מודל כלכלי'!$C$20,(13+(('הנחות עסקה'!$D$71-'הנחות עסקה'!$D$72)*'הנחות עסקה'!$I$70)/365),,'מודל כלכלי'!$C$53)))))*היוון!$C$26)),ROUND('מודל כלכלי'!$C$59*(1+0.04)^13,-4)))-(חישובים!$D$28*(1+חישובים!$D$29)^13))*0.25),-4))+'מודל כלכלי'!$C$45)/'מודל כלכלי'!$C$45)^(1/13)-1 -> 0.13424969
